Workbook

Sheet t001-eng
A1: Table 1 – Labour force characteristics by age group and gender{1}, seasonally adjusted
A2: 연령대별 및 성별 노동력 특성, 계절조정계열
C4: August 2025 | D4: September 2025 | E4: Standard error{2} | F4: August to September 2025 | G4: September 2024 to September 2025 | H4: August to September 2025 | I4: September 2024 to September 2025
C5: thousands (except rates) | D5: thousands (except rates) | E5: thousands (except rates) | F5: change in thousands (except rates) | G5: change in thousands (except rates) | H5: % change | I5: % change
C6: 천명; 비율 제외 | D6: 천명; 비율 제외 | E6: 표준오차, 천명; 비율 제외 | F6: 전월대비 변화, 천명; 비율 제외 | G6: 전년동월대비 변화, 천명; 비율 제외 | H6: 전월대비 백분율 변화 | I6: 전년동월대비 백분율 변화
A7: 15 years and over, total - gender | B7: 15세 이상, 전체
A8: Population | B8: 인구 | C8: 34644.2 | D8: 34671.9 | E8: ... | F8: 27.7 | G8: 582.1 | H8: 0.1 | I8: 1.7
A9: Labour force | B9: 경제활동인구 | C9: 22549.5 | D9: 22621.8 | E9: 32.4 | F9: 72.3 | G9: 384.2 | H9: 0.3 | I9: 1.7
A10: Employment | B10: 취업인구 | C10: 20954.9 | D10: 21015.3 | E10: 31.6 | F10: 60.4 | G10: 236 | H10: 0.3 | I10: 1.1
A11: Full-time employment | B11: 전일제 취업인구 | C11: 17149.9 | D11: 17256 | E11: 42 | F11: 106.1 | G11: 223.9 | H11: 0.6 | I11: 1.3
A12: Part-time employment | B12: 파트타임 취업인구 | C12: 3804.9 | D12: 3759.3 | E12: 38.5 | F12: -45.6 | G12: 12.1 | H12: -1.2 | I12: 0.3
A13: Unemployment | B13: 실업인구 | C13: 1594.6 | D13: 1606.5 | E13: 27.2 | F13: 11.9 | G13: 148.2 | H13: 0.7 | I13: 10.2
A14: Participation rate | B14: 경제활동참가율 | C14: 65.1 | D14: 65.2 | E14: 0.1 | F14: 0.1 | G14: 0 | H14: ... | I14: ...
A15: Unemployment rate | B15: 실업률 | C15: 7.1 | D15: 7.1 | E15: 0.1 | F15: 0 | G15: 0.5 | H15: ... | I15: ...
A16: Employment rate | B16: 고용률 | C16: 60.5 | D16: 60.6 | E16: 0.1 | F16: 0.1 | G16: -0.4 | H16: ... | I16: ...
A18: 15 to 24 years, total - gender | B18: 15 -24세, 전체
A19: Population | B19: 인구 | C19: 5017.5 | D19: 5013.2 | E19: ... | F19: -4.3 | G19: 50.2 | H19: -0.1 | I19: 1
A20: Labour force | B20: 경제활동인구 | C20: 3155.2 | D20: 3157.7 | E20: 19 | F20: 2.5 | G20: 53.5 | H20: 0.1 | I20: 1.7
A21: Employment | B21: 취업인구 | C21: 2699.1 | D21: 2694.8 | E21: 17.2 | F21: -4.3 | G21: 8.6 | H21: -0.2 | I21: 0.3
A22: Full-time employment | B22: 전일제 취업인구 | C22: 1337.3 | D22: 1337.6 | E22: 20.4 | F22: 0.3 | G22: 6.3 | H22: 0 | I22: 0.5
A23: Part-time employment | B23: 파트타임 취업인구 | C23: 1361.8 | D23: 1357.3 | E23: 21.7 | F23: -4.5 | G23: 2.4 | H23: -0.3 | I23: 0.2
A24: Unemployment | B24: 실업인구 | C24: 456 | D24: 462.9 | E24: 15.8 | F24: 6.9 | G24: 44.8 | H24: 1.5 | I24: 10.7
A25: Participation rate | B25: 경제활동참가율 | C25: 62.9 | D25: 63 | E25: 0.4 | F25: 0.1 | G25: 0.5 | H25: ... | I25: ...
A26: Unemployment rate | B26: 실업률 | C26: 14.5 | D26: 14.7 | E26: 0.5 | F26: 0.2 | G26: 1.2 | H26: ... | I26: ...
A27: Employment rate | B27: 고용률 | C27: 53.8 | D27: 53.8 | E27: 0.3 | F27: 0 | G27: -0.3 | H27: ... | I27: ...
A29: 25 years and over, total - gender | B29: 25세 이상, 전체
A30: Population | B30: 인구 | C30: 29626.7 | D30: 29658.7 | E30: ... | F30: 32 | G30: 531.9 | H30: 0.1 | I30: 1.8
A31: Labour force | B31: 경제활동인구 | C31: 19394.3 | D31: 19464.1 | E31: 26.2 | F31: 69.8 | G31: 330.7 | H31: 0.4 | I31: 1.7
A32: Employment | B32: 취업인구 | C32: 18255.7 | D32: 18320.4 | E32: 26.3 | F32: 64.7 | G32: 227.3 | H32: 0.4 | I32: 1.3
A33: Full-time employment | B33: 전일제 취업인구 | C33: 15812.6 | D33: 15918.4 | E33: 36.2 | F33: 105.8 | G33: 217.6 | H33: 0.7 | I33: 1.4
A34: Part-time employment | B34: 파트타임 취업인구 | C34: 2443.1 | D34: 2402 | E34: 31.5 | F34: -41.1 | G34: 9.7 | H34: -1.7 | I34: 0.4
A35: Unemployment | B35: 실업인구 | C35: 1138.6 | D35: 1143.7 | E35: 21.8 | F35: 5.1 | G35: 103.4 | H35: 0.4 | I35: 9.9
A36: Participation rate | B36: 경제활동참가율 | C36: 65.5 | D36: 65.6 | E36: 0.1 | F36: 0.1 | G36: -0.1 | H36: ... | I36: ...
A37: Unemployment rate | B37: 실업률 | C37: 5.9 | D37: 5.9 | E37: 0.1 | F37: 0 | G37: 0.5 | H37: ... | I37: ...
A38: Employment rate | B38: 고용률 | C38: 61.6 | D38: 61.8 | E38: 0.1 | F38: 0.2 | G38: -0.3 | H38: ... | I38: ...
A40: 25 years and over, men+ | B40: 25세 이상, 남성
A41: Population | B41: 인구 | C41: 14617.1 | D41: 14632.8 | E41: ... | F41: 15.7 | G41: 257 | H41: 0.1 | I41: 1.8
A42: Labour force | B42: 경제활동인구 | C42: 10310.9 | D42: 10323.9 | E42: 17.2 | F42: 13 | G42: 153.4 | H42: 0.1 | I42: 1.5
A43: Employment | B43: 취업인구 | C43: 9666.7 | D43: 9691.9 | E43: 18.2 | F43: 25.2 | G43: 109.5 | H43: 0.3 | I43: 1.1
A44: Full-time employment | B44: 전일제 취업인구 | C44: 8797.9 | D44: 8879.3 | E44: 24.1 | F44: 81.4 | G44: 127.4 | H44: 0.9 | I44: 1.5
A45: Part-time employment | B45: 파트타임 취업인구 | C45: 868.8 | D45: 812.6 | E45: 19.9 | F45: -56.2 | G45: -17.9 | H45: -6.5 | I45: -2.2
A46: Unemployment | B46: 실업인구 | C46: 644.2 | D46: 632 | E46: 15.9 | F46: -12.2 | G46: 44 | H46: -1.9 | I46: 7.5
A47: Participation rate | B47: 경제활동참가율 | C47: 70.5 | D47: 70.6 | E47: 0.1 | F47: 0.1 | G47: -0.1 | H47: ... | I47: ...
A48: Unemployment rate | B48: 실업률 | C48: 6.2 | D48: 6.1 | E48: 0.2 | F48: -0.1 | G48: 0.3 | H48: ... | I48: ...
A49: Employment rate | B49: 고용률 | C49: 66.1 | D49: 66.2 | E49: 0.1 | F49: 0.1 | G49: -0.5 | H49: ... | I49: ...
A51: 25 years and over, women+ | B51: 25세 이상, 여성
A52: Population | B52: 인구 | C52: 15009.6 | D52: 15025.8 | E52: ... | F52: 16.2 | G52: 274.8 | H52: 0.1 | I52: 1.9
A53: Labour force | B53: 경제활동인구 | C53: 9083.4 | D53: 9140.2 | E53: 18.5 | F53: 56.8 | G53: 177.3 | H53: 0.6 | I53: 2
A54: Employment | B54: 취업인구 | C54: 8589 | D54: 8628.6 | E54: 18.1 | F54: 39.6 | G54: 117.9 | H54: 0.5 | I54: 1.4
A55: Full-time employment | B55: 전일제 취업인구 | C55: 7014.7 | D55: 7039.1 | E55: 26.2 | F55: 24.4 | G55: 90.2 | H55: 0.3 | I55: 1.3
A56: Part-time employment | B56: 파트타임 취업인구 | C56: 1574.3 | D56: 1589.4 | E56: 24.2 | F56: 15.1 | G56: 27.6 | H56: 1 | I56: 1.8
A57: Unemployment | B57: 실업인구 | C57: 494.4 | D57: 511.6 | E57: 15.1 | F57: 17.2 | G57: 59.4 | H57: 3.5 | I57: 13.1
A58: Participation rate | B58: 경제활동참가율 | C58: 60.5 | D58: 60.8 | E58: 0.1 | F58: 0.3 | G58: 0 | H58: ... | I58: ...
A59: Unemployment rate | B59: 실업률 | C59: 5.4 | D59: 5.6 | E59: 0.2 | F59: 0.2 | G59: 0.6 | H59: ... | I59: ...
A60: Employment rate | B60: 고용률 | C60: 57.2 | D60: 57.4 | E60: 0.1 | F60: 0.2 | G60: -0.3 | H60: ... | I60: ...
A62: 25 to 54 years, total - gender | B62: 25 - 54세, 전체
A63: Population | B63: 인구 | C63: 16792.3 | D63: 16801.7 | E63: ... | F63: 9.4 | G63: 315.7 | H63: 0.1 | I63: 1.9
A64: Labour force | B64: 경제활동인구 | C64: 14781.7 | D64: 14885.6 | E64: 24.8 | F64: 103.9 | G64: 300.9 | H64: 0.7 | I64: 2.1
A65: Employment | B65: 취업인구 | C65: 13885.9 | D65: 13994.9 | E65: 26.2 | F65: 109 | G65: 229.4 | H65: 0.8 | I65: 1.7
A66: Unemployment | B66: 실업인구 | C66: 895.8 | D66: 890.7 | E66: 20.4 | F66: -5.1 | G66: 71.5 | H66: -0.6 | I66: 8.7
A67: Participation rate | B67: 경제활동참가율 | C67: 88 | D67: 88.6 | E67: 0.1 | F67: 0.6 | G67: 0.1 | H67: ... | I67: ...
A68: Unemployment rate | B68: 실업률 | C68: 6.1 | D68: 6 | E68: 0.1 | F68: -0.1 | G68: 0.4 | H68: ... | I68: ...
A69: Employment rate | B69: 고용률 | C69: 82.7 | D69: 83.3 | E69: 0.2 | F69: 0.6 | G69: -0.2 | H69: ... | I69: ...
A71: 25 to 54 years, men+ | B71: 25 - 54세, 남성
A72: Population | B72: 인구 | C72: 8496.3 | D72: 8501.5 | E72: ... | F72: 5.2 | G72: 160.3 | H72: 0.1 | I72: 1.9
A73: Labour force | B73: 경제활동인구 | C73: 7784.4 | D73: 7800.8 | E73: 15.9 | F73: 16.4 | G73: 143.7 | H73: 0.2 | I73: 1.9
A74: Employment | B74: 취업인구 | C74: 7287.5 | D74: 7320.4 | E74: 18 | F74: 32.9 | G74: 102.5 | H74: 0.5 | I74: 1.4
A75: Unemployment | B75: 실업인구 | C75: 496.9 | D75: 480.3 | E75: 15 | F75: -16.6 | G75: 41.1 | H75: -3.3 | I75: 9.4
A76: Participation rate | B76: 경제활동참가율 | C76: 91.6 | D76: 91.8 | E76: 0.2 | F76: 0.2 | G76: 0 | H76: ... | I76: ...
A77: Unemployment rate | B77: 실업률 | C77: 6.4 | D77: 6.2 | E77: 0.2 | F77: -0.2 | G77: 0.5 | H77: ... | I77: ...
A78: Employment rate | B78: 고용률 | C78: 85.8 | D78: 86.1 | E78: 0.2 | F78: 0.3 | G78: -0.4 | H78: ... | I78: ...
A80: 25 to 54 years, women+ | B80: 25 - 54세, 여성
A81: Population | B81: 인구 | C81: 8296 | D81: 8300.2 | E81: ... | F81: 4.2 | G81: 155.4 | H81: 0.1 | I81: 1.9
A82: Labour force | B82: 경제활동인구 | C82: 6997.2 | D82: 7084.8 | E82: 18 | F82: 87.6 | G82: 157.2 | H82: 1.3 | I82: 2.3
A83: Employment | B83: 취업인구 | C83: 6598.4 | D83: 6674.4 | E83: 18.4 | F83: 76 | G83: 126.8 | H83: 1.2 | I83: 1.9
A84: Unemployment | B84: 실업인구 | C84: 398.8 | D84: 410.4 | E84: 14 | F84: 11.6 | G84: 30.5 | H84: 2.9 | I84: 8
A85: Participation rate | B85: 경제활동참가율 | C85: 84.3 | D85: 85.4 | E85: 0.2 | F85: 1.1 | G85: 0.3 | H85: ... | I85: ...
A86: Unemployment rate | B86: 실업률 | C86: 5.7 | D86: 5.8 | E86: 0.2 | F86: 0.1 | G86: 0.3 | H86: ... | I86: ...
A87: Employment rate | B87: 고용률 | C87: 79.5 | D87: 80.4 | E87: 0.2 | F87: 0.9 | G87: 0 | H87: ... | I87: ...
A89: 55 years and over, total - gender | B89: 55세 이상, 전체
A90: Population | B90: 인구 | C90: 12834.5 | D90: 12857 | E90: ... | F90: 22.5 | G90: 216.2 | H90: 0.2 | I90: 1.7
A91: Labour force | B91: 경제활동인구 | C91: 4612.7 | D91: 4578.5 | E91: 20.8 | F91: -34.2 | G91: 29.8 | H91: -0.7 | I91: 0.7
A92: Employment | B92: 취업인구 | C92: 4369.8 | D92: 4325.5 | E92: 20.9 | F92: -44.3 | G92: -2.1 | H92: -1 | I92: 0
A93: Unemployment | B93: 실업인구 | C93: 242.8 | D93: 252.9 | E93: 10.8 | F93: 10.1 | G93: 31.8 | H93: 4.2 | I93: 14.4
A94: Participation rate | B94: 경제활동참가율 | C94: 35.9 | D94: 35.6 | E94: 0.2 | F94: -0.3 | G94: -0.4 | H94: ... | I94: ...
A95: Unemployment rate | B95: 실업률 | C95: 5.3 | D95: 5.5 | E95: 0.2 | F95: 0.2 | G95: 0.6 | H95: ... | I95: ...
A96: Employment rate | B96: 고용률 | C96: 34 | D96: 33.6 | E96: 0.2 | F96: -0.4 | G96: -0.6 | H96: ... | I96: ...
A98: 55 years and over, men+ | B98: 55세 이상, 남성
A99: Population | B99: 인구 | C99: 6120.9 | D99: 6131.3 | E99: ... | F99: 10.4 | G99: 96.7 | H99: 0.2 | I99: 1.6
A100: Labour force | B100: 경제활동인구 | C100: 2526.4 | D100: 2523.1 | E100: 13.8 | F100: -3.3 | G100: 9.8 | H100: -0.1 | I100: 0.4
A101: Employment | B101: 취업인구 | C101: 2379.2 | D101: 2371.4 | E101: 14.1 | F101: -7.8 | G101: 6.9 | H101: -0.3 | I101: 0.3
A102: Unemployment | B102: 실업인구 | C102: 147.2 | D102: 151.7 | E102: 7.8 | F102: 4.5 | G102: 2.9 | H102: 3.1 | I102: 1.9
A103: Participation rate | B103: 경제활동참가율 | C103: 41.3 | D103: 41.2 | E103: 0.2 | F103: -0.1 | G103: -0.4 | H103: ... | I103: ...
A104: Unemployment rate | B104: 실업률 | C104: 5.8 | D104: 6 | E104: 0.3 | F104: 0.2 | G104: 0.1 | H104: ... | I104: ...
A105: Employment rate | B105: 고용률 | C105: 38.9 | D105: 38.7 | E105: 0.2 | F105: -0.2 | G105: -0.5 | H105: ... | I105: ...
A107: 55 years and over, women+ | B107: 55세 이상, 여성
A108: Population | B108: 인구 | C108: 6713.6 | D108: 6725.7 | E108: ... | F108: 12.1 | G108: 119.5 | H108: 0.2 | I108: 1.8
A109: Labour force | B109: 경제활동인구 | C109: 2086.2 | D109: 2055.4 | E109: 14.5 | F109: -30.8 | G109: 20 | H109: -1.5 | I109: 1
A110: Employment | B110: 취업인구 | C110: 1990.6 | D110: 1954.1 | E110: 14.5 | F110: -36.5 | G110: -9 | H110: -1.8 | I110: -0.5
A111: Unemployment | B111: 실업인구 | C111: 95.6 | D111: 101.2 | E111: 7.3 | F111: 5.6 | G111: 28.9 | H111: 5.9 | I111: 40
...

Sheet t002-eng
A1: Table 2 – Employment by class of worker and industry, seasonally adjusted
A2: 근로자 계층별 및 산업별 취업인구, 계절조정계열
C4: August 2025 | D4: September 2025 | E4: Standard error{1} | F4: August to September 2025 | G4: September 2024 to September 2025 | H4: August to September 2025 | I4: September 2024 to September 2025
C5: thousands | D5: thousands | E5: thousands | F5: change in thousands | G5: change in thousands | H5: % change | I5: % change
C6: 천명 | D6: 천명 | E6: 표준오차, 천명 | F6: 전월대비 변화, 천명 | G6: 전년동월대비 변화, 천명 | H6: 전월대비 백분율 변화 | I6: 전년동월대비 백분율 변화
A7: Class of worker | B7: 근로자 계층
A8: Employees | B8: 근로자 | C8: 18271.2 | D8: 18323.8 | E8: 35.7 | F8: 52.6 | G8: 228.3 | H8: 0.3 | I8: 1.3
A9: Public sector employees | B9: 공공부문 근로자 | C9: 4540.2 | D9: 4570.9 | E9: 19.5 | F9: 30.7 | G9: 105.7 | H9: 0.7 | I9: 2.4
A10: Private sector employees | B10: 민간부문 근로자 | C10: 13731 | D10: 13752.9 | E10: 34.7 | F10: 21.9 | G10: 122.7 | H10: 0.2 | I10: 0.9
A11: Self-employed | B11: 자영업자 | C11: 2683.6 | D11: 2691.5 | E11: 22.6 | F11: 7.9 | G11: 7.7 | H11: 0.3 | I11: 0.3
A13: Total employed, all industries | B13: 전취업인구, 전산업 | C13: 20954.9 | D13: 21015.3 | E13: 31.6 | F13: 60.4 | G13: 236 | H13: 0.3 | I13: 1.1
A14: Goods-producing sector | B14: 상품 생산 부문 | C14: 4167.3 | D14: 4209.3 | E14: 19.5 | F14: 42 | G14: 10.9 | H14: 1 | I14: 0.3
A15: Agriculture | B15: 농업 | C15: 217.7 | D15: 230.9 | E15: 5.2 | F15: 13.2 | G15: -2.4 | H15: 6.1 | I15: -1
A16: Natural resources{2} | B16: 천연자원업 | C16: 330.2 | D16: 337.3 | E16: 6 | F16: 7.1 | G16: -18.2 | H16: 2.2 | I16: -5.1
A17: Utilities | B17: 유틸리티업 | C17: 163.5 | D17: 165.5 | E17: 3.5 | F17: 2 | G17: 15.6 | H17: 1.2 | I17: 10.4
A18: Construction | B18: 건설업 | C18: 1636.3 | D18: 1628.1 | E18: 13.3 | F18: -8.2 | G18: 18.9 | H18: -0.5 | I18: 1.2
A19: Manufacturing | B19: 제조업 | C19: 1819.7 | D19: 1847.5 | E19: 12.7 | F19: 27.8 | G19: -3 | H19: 1.5 | I19: -0.2
A20: Services-producing sector | B20: 서비스 생산 부문 | C20: 16787.6 | D20: 16806 | E20: 31.4 | F20: 18.4 | G20: 225.1 | H20: 0.1 | I20: 1.4
... A31: Public administration | B31: 공공행정 | C31: 1245.1 | D31: 1248.5 | E31: 9 | F31: 3.4 | G31: 14.3 | H31: 0.3 | I31: 1.2
A33: 1. Average standard error of change between two consecutive months. See the "Data Quality" section of the Guide to the Labour Force Survey (71-543-G) for more information.
A34: 연속 두 달간 변화의 평균 표준 오차입니다. 자세한 정보는 the Labour Force Survey의 안내서 "Data Quality"를 참고하십시오.
A36: 2. Also referred to as "Forestry, fishing, mining, quarrying, and oil and gas extraction."
A37: "임업, 어업, 광업 및 석유와 가스 추출업"이라고도 합니다.
A39: Note(s):
A40: The sum of individual categories may not always add up to the total as a result of rounding.
A41: =HLOOKUP(A40,'t001-eng'!$135:$136,2,0) -> 반올림으로 인해 개별 품목의 합이 항상 전품목의 총계에 합산되지 않을 수 있습니다.
A43: Source(s):
A44: Tables 14-10-0288-02 and 14-10-0355-02.

Sheet t003-eng
A1: Table 3 – Labour force characteristics by province, seasonally adjusted
A2: 주별 노동력 특성, 계절조정계열
C4: August 2025 | D4: September 2025 | E4: Standard error{1} | F4: August to September 2025 | G4: September 2024 to September 2025 | H4: August to September 2025 | I4: September 2024 to September 2025
C5: thousands (except rates) | D5: thousands (except rates) | E5: thousands (except rates) | F5: change in thousands (except rates) | G5: change in thousands (except rates) | H5: % change | I5: % change
C6: 천명; 비율 제외 | D6: 천명; 비율 제외 | E6: 표준오차, 천명; 비율 제외 | F6: 전월대비 변화, 천명; 비율 제외 | G6: 전년동월대비 변화, 천명; 비율 제외 | H6: 전월대비 백분율 변화 | I6: 전년동월대비 백분율 변화
A7: Newfoundland and Labrador
A8: Population | B8: =VLOOKUP(A8,'t001-eng'!A:B,2,0) -> 인구 | C8: 471.7 | D8: 471.8 | E8: ... | F8: 0.1 | G8: 3.5 | H8: 0 | I8: 0.7
A9: Labour force | B9: =VLOOKUP(A9,'t001-eng'!A:B,2,0) -> 경제활동인구 | C9: 272.1 | D9: 269.2 | E9: 2 | F9: -2.9 | G9: -2.6 | H9: -1.1 | I9: -1
A10: Employment | B10: =VLOOKUP(A10,'t001-eng'!A:B,2,0) -> 취업인구 | C10: 242.9 | D10: 240.7 | E10: 2 | F10: -2.2 | G10: -2.9 | H10: -0.9 | I10: -1.2
A11: Full-time employment | B11: =VLOOKUP(A11,'t001-eng'!A:B,2,0) -> 전일제 취업인구 | C11: 203.1 | D11: 206.2 | E11: 2.4 | F11: 3.1 | G11: -1.3 | H11: 1.5 | I11: -0.6
A12: Part-time employment | B12: =VLOOKUP(A12,'t001-eng'!A:B,2,0) -> 파트타임 취업인구 | C12: 39.8 | D12: 34.4 | E12: 1.8 | F12: -5.4 | G12: -1.7 | H12: -13.6 | I12: -4.7
A13: Unemployment | B13: =VLOOKUP(A13,'t001-eng'!A:B,2,0) -> 실업인구 | C13: 29.2 | D13: 28.5 | E13: 1.8 | F13: -0.7 | G13: 0.3 | H13: -2.4 | I13: 1.1
A14: Participation rate | B14: =VLOOKUP(A14,'t001-eng'!A:B,2,0) -> 경제활동참가율 | C14: 57.7 | D14: 57.1 | E14: 0.4 | F14: -0.6 | G14: -0.9 | H14: ... | I14: ...
A15: Unemployment rate | B15: =VLOOKUP(A15,'t001-eng'!A:B,2,0) -> 실업률 | C15: 10.7 | D15: 10.6 | E15: 0.6 | F15: -0.1 | G15: 0.2 | H15: ... | I15: ...
A16: Employment rate | B16: =VLOOKUP(A16,'t001-eng'!A:B,2,0) -> 고용률 | C16: 51.5 | D16: 51 | E16: 0.4 | F16: -0.5 | G16: -1 | H16: ... | I16: ...
A18: Prince Edward Island
A19: Population | B19: =VLOOKUP(A19,'t001-eng'!A:B,2,0) -> 인구 | C19: 154.5 | D19: 154.6 | E19: ... | F19: 0.1 | G19: 2.3 | H19: 0.1 | I19: 1.5
A20: Labour force | B20: =VLOOKUP(A20,'t001-eng'!A:B,2,0) -> 경제활동인구 | C20: 102.1 | D20: 103 | E20: 0.9 | F20: 0.9 | G20: 3.3 | H20: 0.9 | I20: 3.3
A21: Employment | B21: =VLOOKUP(A21,'t001-eng'!A:B,2,0) -> 취업인구 | C21: 93.8 | D21: 92.9 | E21: 1 | F21: -0.9 | G21: 0 | H21: -1 | I21: 0
A22: Full-time employment | B22: =VLOOKUP(A22,'t001-eng'!A:B,2,0) -> 전일제 취업인구 | C22: 81.9 | D22: 79.9 | E22: 1.1 | F22: -2 | G22: 0.6 | H22: -2.4 | I22: 0.8
A23: Part-time employment | B23: =VLOOKUP(A23,'t001-eng'!A:B,2,0) -> 파트타임 취업인구 | C23: 11.9 | D23: 13 | E23: 0.9 | F23: 1.1 | G23: -0.6 | H23: 9.2 | I23: -4.4
A24: Unemployment | B24: =VLOOKUP(A24,'t001-eng'!A:B,2,0) -> 실업인구 | C24: 8.3 | D24: 10 | E24: 0.8 | F24: 1.7 | G24: 3.1 | H24: 20.5 | I24: 44.9
A25: Participation rate | B25: =VLOOKUP(A25,'t001-eng'!A:B,2,0) -> 경제활동참가율 | C25: 66.1 | D25: 66.6 | E25: 0.5 | F25: 0.5 | G25: 1.1 | H25: ... | I25: ...
A26: Unemployment rate | B26: =VLOOKUP(A26,'t001-eng'!A:B,2,0) -> 실업률 | C26: 8.1 | D26: 9.7 | E26: 0.7 | F26: 1.6 | G26: 2.8 | H26: ... | I26: ...
A27: Employment rate | B27: =VLOOKUP(A27,'t001-eng'!A:B,2,0) -> 고용률 | C27: 60.7 | D27: 60.1 | E27: 0.6 | F27: -0.6 | G27: -0.9 | H27: ... | I27: ...
A29: Nova Scotia
A30: Population | B30: =VLOOKUP(A30,'t001-eng'!A:B,2,0) -> 인구 | C30: 914.3 | D30: 915.4 | E30: ... | F30: 1.1 | G30: 7.7 | H30: 0.1 | I30: 0.8
A31: Labour force | B31: =VLOOKUP(A31,'t001-eng'!A:B,2,0) -> 경제활동인구 | C31: 560.5 | D31: 560.3 | E31: 3.2 | F31: -0.2 | G31: 3.4 | H31: 0 | I31: 0.6
A32: Employment | B32: =VLOOKUP(A32,'t001-eng'!A:B,2,0) -> 취업인구 | C32: 524.1 | D32: 525.4 | E32: 3.2 | F32: 1.3 | G32: 3.8 | H32: 0.2 | I32: 0.7
A33: Full-time employment | B33: =VLOOKUP(A33,'t001-eng'!A:B,2,0) -> 전일제 취업인구 | C33: 434.4 | D33: 436.5 | E33: 4.2 | F33: 2.1 | G33: 2.5 | H33: 0.5 | I33: 0.6
A34: Part-time employment | B34: =VLOOKUP(A34,'t001-eng'!A:B,2,0) -> 파트타임 취업인구 | C34: 89.7 | D34: 88.9 | E34: 3.6 | F34: -0.8 | G34: 1.3 | H34: -0.9 | I34: 1.5
A35: Unemployment | B35: =VLOOKUP(A35,'t001-eng'!A:B,2,0) -> 실업인구 | C35: 36.4 | D35: 34.8 | E35: 2.6 | F35: -1.6 | G35: -0.5 | H35: -4.4 | I35: -1.4
A36: Participation rate | B36: =VLOOKUP(A36,'t001-eng'!A:B,2,0) -> 경제활동참가율 | C36: 61.3 | D36: 61.2 | E36: 0.3 | F36: -0.1 | G36: -0.2 | H36: ... | I36: ...
A37: Unemployment rate | B37: =VLOOKUP(A37,'t001-eng'!A:B,2,0) -> 실업률 | C37: 6.5 | D37: 6.2 | E37: 0.4 | F37: -0.3 | G37: -0.1 | H37: ... | I37: ...
A38: Employment rate | B38: =VLOOKUP(A38,'t001-eng'!A:B,2,0) -> 고용률 | C38: 57.3 | D38: 57.4 | E38: 0.3 | F38: 0.1 | G38: -0.1 | H38: ... | I38: ...
A40: New Brunswick
A41: Population | B41: =VLOOKUP(A41,'t001-eng'!A:B,2,0) -> 인구 | C41: 721.7 | D41: 722.5 | E41: ... | F41: 0.8 | G41: 7.2 | H41: 0.1 | I41: 1
A42: Labour force | B42: =VLOOKUP(A42,'t001-eng'!A:B,2,0) -> 경제활동인구 | C42: 434.6 | D42: 441.6 | E42: 2.4 | F42: 7 | G42: 12.8 | H42: 1.6 | I42: 3
A43: Employment | B43: =VLOOKUP(A43,'t001-eng'!A:B,2,0) -> 취업인구 | C43: 401.2 | D43: 405.9 | E43: 2.4 | F43: 4.7 | G43: 5.6 | H43: 1.2 | I43: 1.4
A44: Full-time employment | B44: =VLOOKUP(A44,'t001-eng'!A:B,2,0) -> 전일제 취업인구 | C44: 340.2 | D44: 343 | E44: 3 | F44: 2.8 | G44: 5.6 | H44: 0.8 | I44: 1.7
A45: Part-time employment | B45: =VLOOKUP(A45,'t001-eng'!A:B,2,0) -> 파트타임 취업인구 | C45: 61.1 | D45: 63 | E45: 2.5 | F45: 1.9 | G45: 0.1 | H45: 3.1 | I45: 0.2
A46: Unemployment | B46: =VLOOKUP(A46,'t001-eng'!A:B,2,0) -> 실업인구 | C46: 33.4 | D46: 35.7 | E46: 2 | F46: 2.3 | G46: 7.2 | H46: 6.9 | I46: 25.3
A47: Participation rate | B47: =VLOOKUP(A47,'t001-eng'!A:B,2,0) -> 경제활동참가율 | C47: 60.2 | D47: 61.1 | E47: 0.3 | F47: 0.9 | G47: 1.2 | H47: ... | I47: ...
A48: Unemployment rate | B48: =VLOOKUP(A48,'t001-eng'!A:B,2,0) -> 실업률 | C48: 7.7 | D48: 8.1 | E48: 0.4 | F48: 0.4 | G48: 1.5 | H48: ... | I48: ...
A49: Employment rate | B49: =VLOOKUP(A49,'t001-eng'!A:B,2,0) -> 고용률 | C49: 55.6 | D49: 56.2 | E49: 0.3 | F49: 0.6 | G49: 0.2 | H49: ... | I49: ...
A51: Quebec
A52: Population | B52: =VLOOKUP(A52,'t001-eng'!A:B,2,0) -> 인구 | C52: 7600.3 | D52: 7601.7 | E52: ... | F52: 1.4 | G52: 119.9 | H52: 0 | I52: 1.6
A53: Labour force | B53: =VLOOKUP(A53,'t001-eng'!A:B,2,0) -> 경제활동인구 | C53: 4939.9 | D53: 4921.3 | E53: 15.5 | F53: -18.6 | G53: 75.5 | H53: -0.4 | I53: 1.6
A54: Employment | B54: =VLOOKUP(A54,'t001-eng'!A:B,2,0) -> 취업인구 | C54: 4644.5 | D54: 4639.8 | E54: 15.3 | F54: -4.7 | G54: 59.8 | H54: -0.1 | I54: 1.3
A55: Full-time employment | B55: =VLOOKUP(A55,'t001-eng'!A:B,2,0) -> 전일제 취업인구 | C55: 3773.1 | D55: 3794.5 | E55: 20.2 | F55: 21.4 | G55: 41.7 | H55: 0.6 | I55: 1.1
A56: Part-time employment | B56: =VLOOKUP(A56,'t001-eng'!A:B,2,0) -> 파트타임 취업인구 | C56: 871.4 | D56: 845.4 | E56: 18.5 | F56: -26 | G56: 18.2 | H56: -3 | I56: 2.2
A57: Unemployment | B57: =VLOOKUP(A57,'t001-eng'!A:B,2,0) -> 실업인구 | C57: 295.4 | D57: 281.5 | E57: 12.8 | F57: -13.9 | G57: 15.8 | H57: -4.7 | I57: 5.9
A58: Participation rate | B58: =VLOOKUP(A58,'t001-eng'!A:B,2,0) -> 경제활동참가율 | C58: 65 | D58: 64.7 | E58: 0.2 | F58: -0.3 | G58: -0.1 | H58: ... | I58: ...
A59: Unemployment rate | B59: =VLOOKUP(A59,'t001-eng'!A:B,2,0) -> 실업률 | C59: 6 | D59: 5.7 | E59: 0.3 | F59: -0.3 | G59: 0.2 | H59: ... | I59: ...
A60: Employment rate | B60: =VLOOKUP(A60,'t001-eng'!A:B,2,0) -> 고용률 | C60: 61.1 | D60: 61 | E60: 0.2 | F60: -0.1 | G60: -0.2 | H60: ... | I60: ...
A62: Ontario
A63: Population | B63: =VLOOKUP(A63,'t001-eng'!A:B,2,0) -> 인구 | C63: 13722.8 | D63: 13732.8 | E63: ... | F63: 10 | G63: 206 | H63: 0.1 | I63: 1.5
A64: Labour force | B64: =VLOOKUP(A64,'t001-eng'!A:B,2,0) -> 경제활동인구 | C64: 8876.4 | D64: 8905.7 | E64: 22.3 | F64: 29.3 | G64: 85.2 | H64: 0.3 | I64: 1
A65: Employment | B65: =VLOOKUP(A65,'t001-eng'!A:B,2,0) -> 취업인구 | C65: 8191 | D65: 8199.8 | E65: 21.4 | F65: 8.8 | G65: 2.2 | H65: 0.1 | I65: 0
A66: Full-time employment | B66: =VLOOKUP(A66,'t001-eng'!A:B,2,0) -> 전일제 취업인구 | C66: 6744.5 | D66: 6789.2 | E66: 28.4 | F66: 44.7 | G66: 35.8 | H66: 0.7 | I66: 0.5
A67: Part-time employment | B67: =VLOOKUP(A67,'t001-eng'!A:B,2,0) -> 파트타임 취업인구 | C67: 1446.6 | D67: 1410.5 | E67: 26.1 | F67: -36.1 | G67: -33.7 | H67: -2.5 | I67: -2.3
A68: Unemployment | B68: =VLOOKUP(A68,'t001-eng'!A:B,2,0) -> 실업인구 | C68: 685.4 | D68: 705.9 | E68: 18.8 | F68: 20.5 | G68: 83 | H68: 3 | I68: 13.3
A69: Participation rate | B69: =VLOOKUP(A69,'t001-eng'!A:B,2,0) -> 경제활동참가율 | C69: 64.7 | D69: 64.8 | E69: 0.2 | F69: 0.1 | G69: -0.4 | H69: ... | I69: ...
A70: Unemployment rate | B70: =VLOOKUP(A70,'t001-eng'!A:B,2,0) -> 실업률 | C70: 7.7 | D70: 7.9 | E70: 0.2 | F70: 0.2 | G70: 0.8 | H70: ... | I70: ...
A71: Employment rate | B71: =VLOOKUP(A71,'t001-eng'!A:B,2,0) -> 고용률 | C71: 59.7 | D71: 59.7 | E71: 0.2 | F71: 0 | G71: -0.9 | H71: ... | I71: ...
A73: Manitoba
A74: Population | B74: =VLOOKUP(A74,'t001-eng'!A:B,2,0) -> 인구 | C74: 1177.2 | D74: 1178.7 | E74: ... | F74: 1.5 | G74: 20.9 | H74: 0.1 | I74: 1.8
A75: Labour force | B75: =VLOOKUP(A75,'t001-eng'!A:B,2,0) -> 경제활동인구 | C75: 781.1 | D75: 789 | E75: 3.5 | F75: 7.9 | G75: 14.3 | H75: 1 | I75: 1.8
A76: Employment | B76: =VLOOKUP(A76,'t001-eng'!A:B,2,0) -> 취업인구 | C76: 736.2 | D76: 740.1 | E76: 3.5 | F76: 3.9 | G76: 9.2 | H76: 0.5 | I76: 1.3
A77: Full-time employment | B77: =VLOOKUP(A77,'t001-eng'!A:B,2,0) -> 전일제 취업인구 | C77: 603.4 | D77: 614.5 | E77: 4.5 | F77: 11.1 | G77: 23.5 | H77: 1.8 | I77: 4
A78: Part-time employment | B78: =VLOOKUP(A78,'t001-eng'!A:B,2,0) -> 파트타임 취업인구 | C78: 132.8 | D78: 125.6 | E78: 4.3 | F78: -7.2 | G78: -14.3 | H78: -5.4 | I78: -10.2
A79: Unemployment | B79: =VLOOKUP(A79,'t001-eng'!A:B,2,0) -> 실업인구 | C79: 44.9 | D79: 48.9 | E79: 3 | F79: 4 | G79: 5.1 | H79: 8.9 | I79: 11.6
A80: Participation rate | B80: =VLOOKUP(A80,'t001-eng'!A:B,2,0) -> 경제활동참가율 | C80: 66.4 | D80: 66.9 | E80: 0.3 | F80: 0.5 | G80: 0 | H80: ... | I80: ...
A81: Unemployment rate | B81: =VLOOKUP(A81,'t001-eng'!A:B,2,0) -> 실업률 | C81: 5.7 | D81: 6.2 | E81: 0.4 | F81: 0.5 | G81: 0.5 | H81: ... | I81: ...
A82: Employment rate | B82: =VLOOKUP(A82,'t001-eng'!A:B,2,0) -> 고용률 | C82: 62.5 | D82: 62.8 | E82: 0.3 | F82: 0.3 | G82: -0.3 | H82: ... | I82: ...
A84: Saskatchewan
A85: Population | B85: =VLOOKUP(A85,'t001-eng'!A:B,2,0) -> 인구 | C85: 968 | D85: 969.4 | E85: ... | F85: 1.4 | G85: 17.2 | H85: 0.1 | I85: 1.8
A86: Labour force | B86: =VLOOKUP(A86,'t001-eng'!A:B,2,0) -> 경제활동인구 | C86: 651.7 | D86: 659.9 | E86: 3 | F86: 8.2 | G86: 16.9 | H86: 1.3 | I86: 2.6
A87: Employment | B87: =VLOOKUP(A87,'t001-eng'!A:B,2,0) -> 취업인구 | C87: 621 | D87: 620.3 | E87: 3 | F87: -0.7 | G87: 14.1 | H87: -0.1 | I87: 2.3
A88: Full-time employment | B88: =VLOOKUP(A88,'t001-eng'!A:B,2,0) -> 전일제 취업인구 | C88: 516.3 | D88: 518 | E88: 4.2 | F88: 1.7 | G88: 16.7 | H88: 0.3 | I88: 3.3
A89: Part-time employment | B89: =VLOOKUP(A89,'t001-eng'!A:B,2,0) -> 파트타임 취업인구 | C89: 104.7 | D89: 102.4 | E89: 3.7 | F89: -2.3 | G89: -2.6 | H89: -2.2 | I89: -2.5
A90: Unemployment | B90: =VLOOKUP(A90,'t001-eng'!A:B,2,0) -> 실업인구 | C90: 30.7 | D90: 39.6 | E90: 2.3 | F90: 8.9 | G90: 2.8 | H90: 29 | I90: 7.6
A91: Participation rate | B91: =VLOOKUP(A91,'t001-eng'!A:B,2,0) -> 경제활동참가율 | C91: 67.3 | D91: 68.1 | E91: 0.3 | F91: 0.8 | G91: 0.6 | H91: ... | I91: ...
A92: Unemployment rate | B92: =VLOOKUP(A92,'t001-eng'!A:B,2,0) -> 실업률 | C92: 4.7 | D92: 6 | E92: 0.4 | F92: 1.3 | G92: 0.3 | H92: ... | I92: ...
A93: Employment rate | B93: =VLOOKUP(A93,'t001-eng'!A:B,2,0) -> 고용률 | C93: 64.2 | D93: 64 | E93: 0.3 | F93: -0.2 | G93: 0.3 | H93: ... | I93: ...
A95: Alberta
A96: Population | B96: =VLOOKUP(A96,'t001-eng'!A:B,2,0) -> 인구 | C96: 4067.5 | D96: 4076.7 | E96: ... | F96: 9.2 | G96: 120.5 | H96: 0.2 | I96: 3
A97: Labour force | B97: =VLOOKUP(A97,'t001-eng'!A:B,2,0) -> 경제활동인구 | C97: 2798.5 | D97: 2825.2 | E97: 12 | F97: 26.7 | G97: 109 | H97: 1 | I97: 4
A98: Employment | B98: =VLOOKUP(A98,'t001-eng'!A:B,2,0) -> 취업인구 | C98: 2563.1 | D98: 2605.6 | E98: 11.9 | F98: 42.5 | G98: 95.5 | H98: 1.7 | I98: 3.8
A99: Full-time employment | B99: =VLOOKUP(A99,'t001-eng'!A:B,2,0) -> 전일제 취업인구 | C99: 2119.4 | D99: 2138.2 | E99: 16.3 | F99: 18.8 | G99: 81.4 | H99: 0.9 | I99: 4
A100: Part-time employment | B100: =VLOOKUP(A100,'t001-eng'!A:B,2,0) -> 파트타임 취업인구 | C100: 443.8 | D100: 467.3 | E100: 14.6 | F100: 23.5 | G100: 14 | H100: 5.3 | I100: 3.1
A101: Unemployment | B101: =VLOOKUP(A101,'t001-eng'!A:B,2,0) -> 실업인구 | C101: 235.4 | D101: 219.6 | E101: 10.7 | F101: -15.8 | G101: 13.4 | H101: -6.7 | I101: 6.5
A102: Participation rate | B102: =VLOOKUP(A102,'t001-eng'!A:B,2,0) -> 경제활동참가율 | C102: 68.8 | D102: 69.3 | E102: 0.3 | F102: 0.5 | G102: 0.6 | H102: ... | I102: ...
A103: Unemployment rate | B103: =VLOOKUP(A103,'t001-eng'!A:B,2,0) -> 실업률 | C103: 8.4 | D103: 7.8 | E103: 0.4 | F103: -0.6 | G103: 0.2 | H103: ... | I103: ...
A104: Employment rate | B104: =VLOOKUP(A104,'t001-eng'!A:B,2,0) -> 고용률 | C104: 63 | D104: 63.9 | E104: 0.3 | F104: 0.9 | G104: 0.5 | H104: ... | I104: ...
A106: British Columbia
A107: Population | B107: =VLOOKUP(A107,'t001-eng'!A:B,2,0) -> 인구 | C107: 4846.2 | D107: 4848.1 | E107: ... | F107: 1.9 | G107: 76.6 | H107: 0 | I107: 1.6
A108: Labour force | B108: =VLOOKUP(A108,'t001-eng'!A:B,2,0) -> 경제활동인구 | C108: 3132.5 | D108: 3146.7 | E108: 11.4 | F108: 14.2 | G108: 66.4 | H108: 0.5 | I108: 2.2
A109: Employment | B109: =VLOOKUP(A109,'t001-eng'!A:B,2,0) -> 취업인구 | C109: 2936.9 | D109: 2944.7 | E109: 11.1 | F109: 7.8 | G109: 48.6 | H109: 0.3 | I109: 1.7
A110: Full-time employment | B110: =VLOOKUP(A110,'t001-eng'!A:B,2,0) -> 전일제 취업인구 | C110: 2333.8 | D110: 2336 | E110: 14.8 | F110: 2.2 | G110: 17.4 | H110: 0.1 | I110: 0.8
...

Sheet t004-eng
A1: Table 4 – Labour force characteristics by province, age group and gender{1}, seasonally adjusted (Newfoundland and Labrador, Prince Edward Island, Nova Scotia, and New Brunswick)
A2: 해당 주별, 연령대별 및 성별 노동력 특성, 계절조정계열
C4: August 2025 | D4: September 2025 | E4: Standard error{2} | F4: August to September 2025 | G4: September 2024 to September 2025 | H4: August to September 2025 | I4: September 2024 to September 2025
C5: thousands (except rates) | D5: thousands (except rates) | E5: thousands (except rates) | F5: change in thousands (except rates) | G5: change in thousands (except rates) | H5: % change | I5: % change
C6: 천명; 비율 제외 | D6: 천명; 비율 제외 | E6: 표준오차, 천명; 비율 제외 | F6: 전월대비 변화, 천명; 비율 제외 | G6: 전년동월대비 변화, 천명; 비율 제외 | H6: 전월대비 백분율 변화 | I6: 전년동월대비 백분율 변화
A7: Newfoundland and Labrador
A8: Total - gender, 15 years and over | B8: 전체, 15세 이상
A9: Population | B9: =VLOOKUP(A9,'t003-eng'!A:B,2,0) -> 인구 | C9: 471.7 | D9: 471.8 | E9: ... | F9: 0.1 | G9: 3.5 | H9: 0 | I9: 0.7
A10: Labour force | B10: =VLOOKUP(A10,'t003-eng'!A:B,2,0) -> 경제활동인구 | C10: 272.1 | D10: 269.2 | E10: 2 | F10: -2.9 | G10: -2.6 | H10: -1.1 | I10: -1
A11: Employment | B11: =VLOOKUP(A11,'t003-eng'!A:B,2,0) -> 취업인구 | C11: 242.9 | D11: 240.7 | E11: 2 | F11: -2.2 | G11: -2.9 | H11: -0.9 | I11: -1.2
A12: Full-time employment | B12: =VLOOKUP(A12,'t003-eng'!A:B,2,0) -> 전일제 취업인구 | C12: 203.1 | D12: 206.2 | E12: 2.4 | F12: 3.1 | G12: -1.3 | H12: 1.5 | I12: -0.6
A13: Unemployment | B13: =VLOOKUP(A13,'t003-eng'!A:B,2,0) -> 실업인구 | C13: 29.2 | D13: 28.5 | E13: 1.8 | F13: -0.7 | G13: 0.3 | H13: -2.4 | I13: 1.1
A14: Participation rate | B14: =VLOOKUP(A14,'t003-eng'!A:B,2,0) -> 경제활동참가율 | C14: 57.7 | D14: 57.1 | E14: 0.4 | F14: -0.6 | G14: -0.9 | H14: ... | I14: ...
A15: Unemployment rate | B15: =VLOOKUP(A15,'t003-eng'!A:B,2,0) -> 실업률 | C15: 10.7 | D15: 10.6 | E15: 0.6 | F15: -0.1 | G15: 0.2 | H15: ... | I15: ...
A16: Employment rate | B16: =VLOOKUP(A16,'t003-eng'!A:B,2,0) -> 고용률 | C16: 51.5 | D16: 51 | E16: 0.4 | F16: -0.5 | G16: -1 | H16: ... | I16: ...
A17: Total - gender, 15 to 24 years | B17: 전체, 15 - 24세
A18: Population | B18: =VLOOKUP(A18,'t003-eng'!A:B,2,0) -> 인구 | C18: 57.7 | D18: 57.7 | E18: ... | F18: 0 | G18: 0.1 | H18: 0 | I18: 0.2
A19: Labour force | B19: =VLOOKUP(A19,'t003-eng'!A:B,2,0) -> 경제활동인구 | C19: 34.4 | D19: 35 | E19: 0.9 | F19: 0.6 | G19: 1.2 | H19: 1.7 | I19: 3.6
A20: Employment | B20: =VLOOKUP(A20,'t003-eng'!A:B,2,0) -> 취업인구 | C20: 29.5 | D20: 29.2 | E20: 0.9 | F20: -0.3 | G20: 0.7 | H20: -1 | I20: 2.5
A21: Unemployment | B21: =VLOOKUP(A21,'t003-eng'!A:B,2,0) -> 실업인구 | C21: 4.8 | D21: 5.8 | E21: 0.8 | F21: 1 | G21: 0.6 | H21: 20.8 | I21: 11.5
A22: Participation rate | B22: =VLOOKUP(A22,'t003-eng'!A:B,2,0) -> 경제활동참가율 | C22: 59.6 | D22: 60.7 | E22: 1.6 | F22: 1.1 | G22: 2 | H22: ... | I22: ...
A23: Unemployment rate | B23: =VLOOKUP(A23,'t003-eng'!A:B,2,0) -> 실업률 | C23: 14 | D23: 16.6 | E23: 2.1 | F23: 2.6 | G23: 1.2 | H23: ... | I23: ...
A24: Employment rate | B24: =VLOOKUP(A24,'t003-eng'!A:B,2,0) -> 고용률 | C24: 51.1 | D24: 50.6 | E24: 1.6 | F24: -0.5 | G24: 1.1 | H24: ... | I24: ...
A25: Men+, 25 years and over | B25: 남성, 25세 이상
A26: Population | B26: =VLOOKUP(A26,'t003-eng'!A:B,2,0) -> 인구 | C26: 201.6 | D26: 201.7 | E26: ... | F26: 0.1 | G26: 1.3 | H26: 0 | I26: 0.6
A27: Labour force | B27: =VLOOKUP(A27,'t003-eng'!A:B,2,0) -> 경제활동인구 | C27: 123.1 | D27: 121.6 | E27: 1.3 | F27: -1.5 | G27: -0.8 | H27: -1.2 | I27: -0.7
A28: Employment | B28: =VLOOKUP(A28,'t003-eng'!A:B,2,0) -> 취업인구 | C28: 107.6 | D28: 106.9 | E28: 1.3 | F28: -0.7 | G28: 0.2 | H28: -0.7 | I28: 0.2
A29: Unemployment | B29: =VLOOKUP(A29,'t003-eng'!A:B,2,0) -> 실업인구 | C29: 15.5 | D29: 14.7 | E29: 1.3 | F29: -0.8 | G29: -1 | H29: -5.2 | I29: -6.4
A30: Participation rate | B30: =VLOOKUP(A30,'t003-eng'!A:B,2,0) -> 경제활동참가율 | C30: 61.1 | D30: 60.3 | E30: 0.7 | F30: -0.8 | G30: -0.8 | H30: ... | I30: ...
A31: Unemployment rate | B31: =VLOOKUP(A31,'t003-eng'!A:B,2,0) -> 실업률 | C31: 12.6 | D31: 12.1 | E31: 1 | F31: -0.5 | G31: -0.7 | H31: ... | I31: ...
A32: Employment rate | B32: =VLOOKUP(A32,'t003-eng'!A:B,2,0) -> 고용률 | C32: 53.4 | D32: 53 | E32: 0.6 | F32: -0.4 | G32: -0.2 | H32: ... | I32: ...
A33: Women+, 25 years and over | B33: 여성, 25세 이상
A34: Population | B34: =VLOOKUP(A34,'t003-eng'!A:B,2,0) -> 인구 | C34: 212.4 | D34: 212.4 | E34: ... | F34: 0 | G34: 2 | H34: 0 | I34: 1
A35: Labour force | B35: =VLOOKUP(A35,'t003-eng'!A:B,2,0) -> 경제활동인구 | C35: 114.7 | D35: 112.6 | E35: 1 | F35: -2.1 | G35: -3 | H35: -1.8 | I35: -2.6
A36: Employment | B36: =VLOOKUP(A36,'t003-eng'!A:B,2,0) -> 취업인구 | C36: 105.7 | D36: 104.6 | E36: 1.1 | F36: -1.1 | G36: -3.8 | H36: -1 | I36: -3.5
A37: Unemployment | B37: =VLOOKUP(A37,'t003-eng'!A:B,2,0) -> 실업인구 | C37: 9 | D37: 8 | E37: 0.9 | F37: -1 | G37: 0.8 | H37: -11.1 | I37: 11.1
A38: Participation rate | B38: =VLOOKUP(A38,'t003-eng'!A:B,2,0) -> 경제활동참가율 | C38: 54 | D38: 53 | E38: 0.5 | F38: -1 | G38: -1.9 | H38: ... | I38: ...
A39: Unemployment rate | B39: =VLOOKUP(A39,'t003-eng'!A:B,2,0) -> 실업률 | C39: 7.8 | D39: 7.1 | E39: 0.8 | F39: -0.7 | G39: 0.9 | H39: ... | I39: ...
A40: Employment rate | B40: =VLOOKUP(A40,'t003-eng'!A:B,2,0) -> 고용률 | C40: 49.8 | D40: 49.2 | E40: 0.5 | F40: -0.6 | G40: -2.3 | H40: ... | I40: ...
A42: Prince Edward Island
A43: Total - gender, 15 years and over | B43: =VLOOKUP(A43,$A$8:$B$40,2,0) -> 전체, 15세 이상
A44: Population | B44: =VLOOKUP(A44,$A$8:$B$40,2,0) -> 인구 | C44: 154.5 | D44: 154.6 | E44: ... | F44: 0.1 | G44: 2.3 | H44: 0.1 | I44: 1.5
A45: Labour force | B45: =VLOOKUP(A45,$A$8:$B$40,2,0) -> 경제활동인구 | C45: 102.1 | D45: 103 | E45: 0.9 | F45: 0.9 | G45: 3.3 | H45: 0.9 | I45: 3.3
A46: Employment | B46: =VLOOKUP(A46,$A$8:$B$40,2,0) -> 취업인구 | C46: 93.8 | D46: 92.9 | E46: 1 | F46: -0.9 | G46: 0 | H46: -1 | I46: 0
A47: Full-time employment | B47: =VLOOKUP(A47,$A$8:$B$40,2,0) -> 전일제 취업인구 | C47: 81.9 | D47: 79.9 | E47: 1.1 | F47: -2 | G47: 0.6 | H47: -2.4 | I47: 0.8
A48: Unemployment | B48: =VLOOKUP(A48,$A$8:$B$40,2,0) -> 실업인구 | C48: 8.3 | D48: 10 | E48: 0.8 | F48: 1.7 | G48: 3.1 | H48: 20.5 | I48: 44.9
A49: Participation rate | B49: =VLOOKUP(A49,$A$8:$B$40,2,0) -> 경제활동참가율 | C49: 66.1 | D49: 66.6 | E49: 0.5 | F49: 0.5 | G49: 1.1 | H49: ... | I49: ...
A50: Unemployment rate | B50: =VLOOKUP(A50,$A$8:$B$40,2,0) -> 실업률 | C50: 8.1 | D50: 9.7 | E50: 0.7 | F50: 1.6 | G50: 2.8 | H50: ... | I50: ...
A51: Employment rate | B51: =VLOOKUP(A51,$A$8:$B$40,2,0) -> 고용률 | C51: 60.7 | D51: 60.1 | E51: 0.6 | F51: -0.6 | G51: -0.9 | H51: ... | I51: ...
A52: Total - gender, 15 to 24 years | B52: =VLOOKUP(A52,$A$8:$B$40,2,0) -> 전체, 15 - 24세
A53: Population | B53: =VLOOKUP(A53,$A$8:$B$40,2,0) -> 인구 | C53: 24.1 | D53: 24.1 | E53: ... | F53: 0 | G53: -0.4 | H53: 0 | I53: -1.6
A54: Labour force | B54: =VLOOKUP(A54,$A$8:$B$40,2,0) -> 경제활동인구 | C54: 16.7 | D54: 17.1 | E54: 0.5 | F54: 0.4 | G54: 1.8 | H54: 2.4 | I54: 11.8
A55: Employment | B55: =VLOOKUP(A55,$A$8:$B$40,2,0) -> 취업인구 | C55: 14.3 | D55: 14.5 | E55: 0.5 | F55: 0.2 | G55: 0.8 | H55: 1.4 | I55: 5.8
A56: Unemployment | B56: =VLOOKUP(A56,$A$8:$B$40,2,0) -> 실업인구 | C56: 2.4 | D56: 2.5 | E56: 0.4 | F56: 0.1 | G56: 0.9 | H56: 4.2 | I56: 56.3
A57: Participation rate | B57: =VLOOKUP(A57,$A$8:$B$40,2,0) -> 경제활동참가율 | C57: 69.3 | D57: 71 | E57: 2 | F57: 1.7 | G57: 8.6 | H57: ... | I57: ...
A58: Unemployment rate | B58: =VLOOKUP(A58,$A$8:$B$40,2,0) -> 실업률 | C58: 14.4 | D58: 14.6 | E58: 2.4 | F58: 0.2 | G58: 4.1 | H58: ... | I58: ...
A59: Employment rate | B59: =VLOOKUP(A59,$A$8:$B$40,2,0) -> 고용률 | C59: 59.3 | D59: 60.2 | E59: 2.1 | F59: 0.9 | G59: 4.3 | H59: ... | I59: ...
A60: Men+, 25 years and over | B60: =VLOOKUP(A60,$A$8:$B$40,2,0) -> 남성, 25세 이상
A61: Population | B61: =VLOOKUP(A61,$A$8:$B$40,2,0) -> 인구 | C61: 63.2 | D61: 63.3 | E61: ... | F61: 0.1 | G61: 1.3 | H61: 0.2 | I61: 2.1
A62: Labour force | B62: =VLOOKUP(A62,$A$8:$B$40,2,0) -> 경제활동인구 | C62: 43.7 | D62: 44.5 | E62: 0.5 | F62: 0.8 | G62: -0.6 | H62: 1.8 | I62: -1.3
A63: Employment | B63: =VLOOKUP(A63,$A$8:$B$40,2,0) -> 취업인구 | C63: 40.2 | D63: 39.9 | E63: 0.5 | F63: -0.3 | G63: -1.8 | H63: -0.7 | I63: -4.3
A64: Unemployment | B64: =VLOOKUP(A64,$A$8:$B$40,2,0) -> 실업인구 | C64: 3.5 | D64: 4.5 | E64: 0.5 | F64: 1 | G64: 1.2 | H64: 28.6 | I64: 36.4
A65: Participation rate | B65: =VLOOKUP(A65,$A$8:$B$40,2,0) -> 경제활동참가율 | C65: 69.1 | D65: 70.3 | E65: 0.7 | F65: 1.2 | G65: -2.4 | H65: ... | I65: ...
A66: Unemployment rate | B66: =VLOOKUP(A66,$A$8:$B$40,2,0) -> 실업률 | C66: 8 | D66: 10.1 | E66: 1 | F66: 2.1 | G66: 2.8 | H66: ... | I66: ...
A67: Employment rate | B67: =VLOOKUP(A67,$A$8:$B$40,2,0) -> 고용률 | C67: 63.6 | D67: 63 | E67: 0.8 | F67: -0.6 | G67: -4.3 | H67: ... | I67: ...
A68: Women+, 25 years and over | B68: =VLOOKUP(A68,$A$8:$B$40,2,0) -> 여성, 25세 이상
A69: Population | B69: =VLOOKUP(A69,$A$8:$B$40,2,0) -> 인구 | C69: 67.2 | D69: 67.3 | E69: ... | F69: 0.1 | G69: 1.5 | H69: 0.1 | I69: 2.3
A70: Labour force | B70: =VLOOKUP(A70,$A$8:$B$40,2,0) -> 경제활동인구 | C70: 41.6 | D70: 41.4 | E70: 0.4 | F70: -0.2 | G70: 2 | H70: -0.5 | I70: 5.1
A71: Employment | B71: =VLOOKUP(A71,$A$8:$B$40,2,0) -> 취업인구 | C71: 39.3 | D71: 38.5 | E71: 0.5 | F71: -0.8 | G71: 1.1 | H71: -2 | I71: 2.9
A72: Unemployment | B72: =VLOOKUP(A72,$A$8:$B$40,2,0) -> 실업인구 | C72: 2.3 | D72: 2.9 | E72: 0.4 | F72: 0.6 | G72: 0.9 | H72: 26.1 | I72: 45
A73: Participation rate | B73: =VLOOKUP(A73,$A$8:$B$40,2,0) -> 경제활동참가율 | C73: 61.9 | D73: 61.5 | E73: 0.6 | F73: -0.4 | G73: 1.6 | H73: ... | I73: ...
A74: Unemployment rate | B74: =VLOOKUP(A74,$A$8:$B$40,2,0) -> 실업률 | C74: 5.5 | D74: 7 | E74: 1 | F74: 1.5 | G74: 1.9 | H74: ... | I74: ...
A75: Employment rate | B75: =VLOOKUP(A75,$A$8:$B$40,2,0) -> 고용률 | C75: 58.5 | D75: 57.2 | E75: 0.7 | F75: -1.3 | G75: 0.4 | H75: ... | I75: ...
A77: Nova Scotia
A78: Total - gender, 15 years and over | B78: =VLOOKUP(A78,$A$8:$B$40,2,0) -> 전체, 15세 이상
A79: Population | B79: =VLOOKUP(A79,$A$8:$B$40,2,0) -> 인구 | C79: 914.3 | D79: 915.4 | E79: ... | F79: 1.1 | G79: 7.7 | H79: 0.1 | I79: 0.8
A80: Labour force | B80: =VLOOKUP(A80,$A$8:$B$40,2,0) -> 경제활동인구 | C80: 560.5 | D80: 560.3 | E80: 3.2 | F80: -0.2 | G80: 3.4 | H80: 0 | I80: 0.6
A81: Employment | B81: =VLOOKUP(A81,$A$8:$B$40,2,0) -> 취업인구 | C81: 524.1 | D81: 525.4 | E81: 3.2 | F81: 1.3 | G81: 3.8 | H81: 0.2 | I81: 0.7
A82: Full-time employment | B82: =VLOOKUP(A82,$A$8:$B$40,2,0) -> 전일제 취업인구 | C82: 434.4 | D82: 436.5 | E82: 4.2 | F82: 2.1 | G82: 2.5 | H82: 0.5 | I82: 0.6
A83: Unemployment | B83: =VLOOKUP(A83,$A$8:$B$40,2,0) -> 실업인구 | C83: 36.4 | D83: 34.8 | E83: 2.6 | F83: -1.6 | G83: -0.5 | H83: -4.4 | I83: -1.4
A84: Participation rate | B84: =VLOOKUP(A84,$A$8:$B$40,2,0) -> 경제활동참가율 | C84: 61.3 | D84: 61.2 | E84: 0.3 | F84: -0.1 | G84: -0.2 | H84: ... | I84: ...
A85: Unemployment rate | B85: =VLOOKUP(A85,$A$8:$B$40,2,0) -> 실업률 | C85: 6.5 | D85: 6.2 | E85: 0.4 | F85: -0.3 | G85: -0.1 | H85: ... | I85: ...
A86: Employment rate | B86: =VLOOKUP(A86,$A$8:$B$40,2,0) -> 고용률 | C86: 57.3 | D86: 57.4 | E86: 0.3 | F86: 0.1 | G86: -0.1 | H86: ... | I86: ...
A87: Total - gender, 15 to 24 years | B87: =VLOOKUP(A87,$A$8:$B$40,2,0) -> 전체, 15 - 24세
A88: Population | B88: =VLOOKUP(A88,$A$8:$B$40,2,0) -> 인구 | C88: 117 | D88: 117.2 | E88: ... | F88: 0.2 | G88: -2 | H88: 0.2 | I88: -1.7
A89: Labour force | B89: =VLOOKUP(A89,$A$8:$B$40,2,0) -> 경제활동인구 | C89: 77.2 | D89: 76.6 | E89: 1.8 | F89: -0.6 | G89: 3 | H89: -0.8 | I89: 4.1
A90: Employment | B90: =VLOOKUP(A90,$A$8:$B$40,2,0) -> 취업인구 | C90: 67.1 | D90: 66.9 | E90: 1.7 | F90: -0.2 | G90: 2.2 | H90: -0.3 | I90: 3.4
A91: Unemployment | B91: =VLOOKUP(A91,$A$8:$B$40,2,0) -> 실업인구 | C91: 10.1 | D91: 9.7 | E91: 1.3 | F91: -0.4 | G91: 0.8 | H91: -4 | I91: 9
A92: Participation rate | B92: =VLOOKUP(A92,$A$8:$B$40,2,0) -> 경제활동참가율 | C92: 66 | D92: 65.4 | E92: 1.5 | F92: -0.6 | G92: 3.7 | H92: ... | I92: ...
A93: Unemployment rate | B93: =VLOOKUP(A93,$A$8:$B$40,2,0) -> 실업률 | C93: 13.1 | D93: 12.7 | E93: 1.6 | F93: -0.4 | G93: 0.6 | H93: ... | I93: ...
A94: Employment rate | B94: =VLOOKUP(A94,$A$8:$B$40,2,0) -> 고용률 | C94: 57.4 | D94: 57.1 | E94: 1.4 | F94: -0.3 | G94: 2.8 | H94: ... | I94: ...
A95: Men+, 25 years and over | B95: =VLOOKUP(A95,$A$8:$B$40,2,0) -> 남성, 25세 이상
A96: Population | B96: =VLOOKUP(A96,$A$8:$B$40,2,0) -> 인구 | C96: 387.2 | D96: 387.7 | E96: ... | F96: 0.5 | G96: 4.6 | H96: 0.1 | I96: 1.2
A97: Labour force | B97: =VLOOKUP(A97,$A$8:$B$40,2,0) -> 경제활동인구 | C97: 252.2 | D97: 254 | E97: 1.8 | F97: 1.8 | G97: 4.8 | H97: 0.7 | I97: 1.9
A98: Employment | B98: =VLOOKUP(A98,$A$8:$B$40,2,0) -> 취업인구 | C98: 236.7 | D98: 239.2 | E98: 1.9 | F98: 2.5 | G98: 6 | H98: 1.1 | I98: 2.6
A99: Unemployment | B99: =VLOOKUP(A99,$A$8:$B$40,2,0) -> 실업인구 | C99: 15.5 | D99: 14.8 | E99: 1.7 | F99: -0.7 | G99: -1.2 | H99: -4.5 | I99: -7.5
A100: Participation rate | B100: =VLOOKUP(A100,$A$8:$B$40,2,0) -> 경제활동참가율 | C100: 65.1 | D100: 65.5 | E100: 0.5 | F100: 0.4 | G100: 0.5 | H100: ... | I100: ...
A101: Unemployment rate | B101: =VLOOKUP(A101,$A$8:$B$40,2,0) -> 실업률 | C101: 6.1 | D101: 5.8 | E101: 0.6 | F101: -0.3 | G101: -0.6 | H101: ... | I101: ...
A102: Employment rate | B102: =VLOOKUP(A102,$A$8:$B$40,2,0) -> 고용률 | C102: 61.1 | D102: 61.7 | E102: 0.5 | F102: 0.6 | G102: 0.8 | H102: ... | I102: ...
A103: Women+, 25 years and over | B103: =VLOOKUP(A103,$A$8:$B$40,2,0) -> 여성, 25세 이상
...

Sheet t005-eng
A1: Table 5 – Labour force characteristics by province, age group and gender{1}, seasonally adjusted (Quebec, Ontario, Manitoba, Saskatchewan, Alberta, and British Columbia)
A2: 해당 주별, 연령대별 및 성별 노동력 특성, 계절조정계열
C4: August 2025 | D4: September 2025 | E4: Standard error{2} | F4: August to September 2025 | G4: September 2024 to September 2025 | H4: August to September 2025 | I4: September 2024 to September 2025
C5: thousands (except rates) | D5: thousands (except rates) | E5: thousands (except rates) | F5: change in thousands (except rates) | G5: change in thousands (except rates) | H5: % change | I5: % change
C6: 천명; 비율 제외 | D6: 천명; 비율 제외 | E6: 표준오차, 천명; 비율 제외 | F6: 전월대비 변화, 천명; 비율 제외 | G6: 전년동월대비 변화, 천명; 비율 제외 | H6: 전월대비 백분율 변화 | I6: 전년동월대비 백분율 변화
A7: Quebec
A8: Total - gender, 15 years and over | B8: =VLOOKUP(A8,'t004-eng'!A:B,2,0) -> 전체, 15세 이상
A9: Population | B9: =VLOOKUP(A9,'t004-eng'!A:B,2,0) -> 인구 | C9: 7600.3 | D9: 7601.7 | E9: ... | F9: 1.4 | G9: 119.9 | H9: 0 | I9: 1.6
A10: Labour force | B10: =VLOOKUP(A10,'t004-eng'!A:B,2,0) -> 경제활동인구 | C10: 4939.9 | D10: 4921.3 | E10: 15.5 | F10: -18.6 | G10: 75.5 | H10: -0.4 | I10: 1.6
A11: Employment | B11: =VLOOKUP(A11,'t004-eng'!A:B,2,0) -> 취업인구 | C11: 4644.5 | D11: 4639.8 | E11: 15.3 | F11: -4.7 | G11: 59.8 | H11: -0.1 | I11: 1.3
A12: Full-time employment | B12: =VLOOKUP(A12,'t004-eng'!A:B,2,0) -> 전일제 취업인구 | C12: 3773.1 | D12: 3794.5 | E12: 20.2 | F12: 21.4 | G12: 41.7 | H12: 0.6 | I12: 1.1
A13: Unemployment | B13: =VLOOKUP(A13,'t004-eng'!A:B,2,0) -> 실업인구 | C13: 295.4 | D13: 281.5 | E13: 12.8 | F13: -13.9 | G13: 15.8 | H13: -4.7 | I13: 5.9
A14: Participation rate | B14: =VLOOKUP(A14,'t004-eng'!A:B,2,0) -> 경제활동참가율 | C14: 65 | D14: 64.7 | E14: 0.2 | F14: -0.3 | G14: -0.1 | H14: ... | I14: ...
A15: Unemployment rate | B15: =VLOOKUP(A15,'t004-eng'!A:B,2,0) -> 실업률 | C15: 6 | D15: 5.7 | E15: 0.3 | F15: -0.3 | G15: 0.2 | H15: ... | I15: ...
A16: Employment rate | B16: =VLOOKUP(A16,'t004-eng'!A:B,2,0) -> 고용률 | C16: 61.1 | D16: 61 | E16: 0.2 | F16: -0.1 | G16: -0.2 | H16: ... | I16: ...
A17: Total - gender, 15 to 24 years | B17: =VLOOKUP(A17,'t004-eng'!A:B,2,0) -> 전체, 15 - 24세
A18: Population | B18: =VLOOKUP(A18,'t004-eng'!A:B,2,0) -> 인구 | C18: 1011.2 | D18: 1011.2 | E18: ... | F18: 0 | G18: 21.3 | H18: 0 | I18: 2.2
A19: Labour force | B19: =VLOOKUP(A19,'t004-eng'!A:B,2,0) -> 경제활동인구 | C19: 705 | D19: 682 | E19: 8.5 | F19: -23 | G19: 4.4 | H19: -3.3 | I19: 0.6
A20: Employment | B20: =VLOOKUP(A20,'t004-eng'!A:B,2,0) -> 취업인구 | C20: 625.6 | D20: 614.2 | E20: 7.9 | F20: -11.4 | G20: 2.6 | H20: -1.8 | I20: 0.4
A21: Unemployment | B21: =VLOOKUP(A21,'t004-eng'!A:B,2,0) -> 실업인구 | C21: 79.4 | D21: 67.7 | E21: 6.8 | F21: -11.7 | G21: 1.7 | H21: -14.7 | I21: 2.6
A22: Participation rate | B22: =VLOOKUP(A22,'t004-eng'!A:B,2,0) -> 경제활동참가율 | C22: 69.7 | D22: 67.4 | E22: 0.9 | F22: -2.3 | G22: -1.1 | H22: ... | I22: ...
A23: Unemployment rate | B23: =VLOOKUP(A23,'t004-eng'!A:B,2,0) -> 실업률 | C23: 11.3 | D23: 9.9 | E23: 0.9 | F23: -1.4 | G23: 0.2 | H23: ... | I23: ...
A24: Employment rate | B24: =VLOOKUP(A24,'t004-eng'!A:B,2,0) -> 고용률 | C24: 61.9 | D24: 60.7 | E24: 0.8 | F24: -1.2 | G24: -1.1 | H24: ... | I24: ...
A25: Men+, 25 years and over | B25: =VLOOKUP(A25,'t004-eng'!A:B,2,0) -> 남성, 25세 이상
A26: Population | B26: =VLOOKUP(A26,'t004-eng'!A:B,2,0) -> 인구 | C26: 3294 | D26: 3294.7 | E26: ... | F26: 0.7 | G26: 53.7 | H26: 0 | I26: 1.7
A27: Labour force | B27: =VLOOKUP(A27,'t004-eng'!A:B,2,0) -> 경제활동인구 | C27: 2259.6 | D27: 2253.9 | E27: 8.6 | F27: -5.7 | G27: 36.3 | H27: -0.3 | I27: 1.6
A28: Employment | B28: =VLOOKUP(A28,'t004-eng'!A:B,2,0) -> 취업인구 | C28: 2135.2 | D28: 2133.3 | E28: 9.3 | F28: -1.9 | G28: 31.7 | H28: -0.1 | I28: 1.5
A29: Unemployment | B29: =VLOOKUP(A29,'t004-eng'!A:B,2,0) -> 실업인구 | C29: 124.4 | D29: 120.6 | E29: 8 | F29: -3.8 | G29: 4.6 | H29: -3.1 | I29: 4
A30: Participation rate | B30: =VLOOKUP(A30,'t004-eng'!A:B,2,0) -> 경제활동참가율 | C30: 68.6 | D30: 68.4 | E30: 0.3 | F30: -0.2 | G30: 0 | H30: ... | I30: ...
A31: Unemployment rate | B31: =VLOOKUP(A31,'t004-eng'!A:B,2,0) -> 실업률 | C31: 5.5 | D31: 5.4 | E31: 0.3 | F31: -0.1 | G31: 0.2 | H31: ... | I31: ...
A32: Employment rate | B32: =VLOOKUP(A32,'t004-eng'!A:B,2,0) -> 고용률 | C32: 64.8 | D32: 64.7 | E32: 0.3 | F32: -0.1 | G32: -0.1 | H32: ... | I32: ...
A33: Women+, 25 years and over | B33: =VLOOKUP(A33,'t004-eng'!A:B,2,0) -> 여성, 25세 이상
A34: Population | B34: =VLOOKUP(A34,'t004-eng'!A:B,2,0) -> 인구 | C34: 3295.1 | D34: 3295.8 | E34: ... | F34: 0.7 | G34: 45 | H34: 0 | I34: 1.4
A35: Labour force | B35: =VLOOKUP(A35,'t004-eng'!A:B,2,0) -> 경제활동인구 | C35: 1975.3 | D35: 1985.5 | E35: 9.1 | F35: 10.2 | G35: 35 | H35: 0.5 | I35: 1.8
A36: Employment | B36: =VLOOKUP(A36,'t004-eng'!A:B,2,0) -> 취업인구 | C36: 1883.7 | D36: 1892.3 | E36: 8.9 | F36: 8.6 | G36: 25.5 | H36: 0.5 | I36: 1.4
A37: Unemployment | B37: =VLOOKUP(A37,'t004-eng'!A:B,2,0) -> 실업인구 | C37: 91.6 | D37: 93.1 | E37: 7 | F37: 1.5 | G37: 9.4 | H37: 1.6 | I37: 11.2
A38: Participation rate | B38: =VLOOKUP(A38,'t004-eng'!A:B,2,0) -> 경제활동참가율 | C38: 59.9 | D38: 60.2 | E38: 0.3 | F38: 0.3 | G38: 0.2 | H38: ... | I38: ...
A39: Unemployment rate | B39: =VLOOKUP(A39,'t004-eng'!A:B,2,0) -> 실업률 | C39: 4.6 | D39: 4.7 | E39: 0.3 | F39: 0.1 | G39: 0.4 | H39: ... | I39: ...
A40: Employment rate | B40: =VLOOKUP(A40,'t004-eng'!A:B,2,0) -> 고용률 | C40: 57.2 | D40: 57.4 | E40: 0.3 | F40: 0.2 | G40: 0 | H40: ... | I40: ...
A42: Ontario
A43: Total - gender, 15 years and over | B43: =VLOOKUP(A43,'t004-eng'!A:B,2,0) -> 전체, 15세 이상
A44: Population | B44: =VLOOKUP(A44,'t004-eng'!A:B,2,0) -> 인구 | C44: 13722.8 | D44: 13732.8 | E44: ... | F44: 10 | G44: 206 | H44: 0.1 | I44: 1.5
A45: Labour force | B45: =VLOOKUP(A45,'t004-eng'!A:B,2,0) -> 경제활동인구 | C45: 8876.4 | D45: 8905.7 | E45: 22.3 | F45: 29.3 | G45: 85.2 | H45: 0.3 | I45: 1
A46: Employment | B46: =VLOOKUP(A46,'t004-eng'!A:B,2,0) -> 취업인구 | C46: 8191 | D46: 8199.8 | E46: 21.4 | F46: 8.8 | G46: 2.2 | H46: 0.1 | I46: 0
A47: Full-time employment | B47: =VLOOKUP(A47,'t004-eng'!A:B,2,0) -> 전일제 취업인구 | C47: 6744.5 | D47: 6789.2 | E47: 28.4 | F47: 44.7 | G47: 35.8 | H47: 0.7 | I47: 0.5
A48: Unemployment | B48: =VLOOKUP(A48,'t004-eng'!A:B,2,0) -> 실업인구 | C48: 685.4 | D48: 705.9 | E48: 18.8 | F48: 20.5 | G48: 83 | H48: 3 | I48: 13.3
A49: Participation rate | B49: =VLOOKUP(A49,'t004-eng'!A:B,2,0) -> 경제활동참가율 | C49: 64.7 | D49: 64.8 | E49: 0.2 | F49: 0.1 | G49: -0.4 | H49: ... | I49: ...
A50: Unemployment rate | B50: =VLOOKUP(A50,'t004-eng'!A:B,2,0) -> 실업률 | C50: 7.7 | D50: 7.9 | E50: 0.2 | F50: 0.2 | G50: 0.8 | H50: ... | I50: ...
A51: Employment rate | B51: =VLOOKUP(A51,'t004-eng'!A:B,2,0) -> 고용률 | C51: 59.7 | D51: 59.7 | E51: 0.2 | F51: 0 | G51: -0.9 | H51: ... | I51: ...
A52: Total - gender, 15 to 24 years | B52: =VLOOKUP(A52,'t004-eng'!A:B,2,0) -> 전체, 15 - 24세
A53: Population | B53: =VLOOKUP(A53,'t004-eng'!A:B,2,0) -> 인구 | C53: 2079.9 | D53: 2074.8 | E53: ... | F53: -5.1 | G53: 0.4 | H53: -0.2 | I53: 0
A54: Labour force | B54: =VLOOKUP(A54,'t004-eng'!A:B,2,0) -> 경제활동인구 | C54: 1248.9 | D54: 1253.9 | E54: 13.3 | F54: 5 | G54: 8.1 | H54: 0.4 | I54: 0.7
A55: Employment | B55: =VLOOKUP(A55,'t004-eng'!A:B,2,0) -> 취업인구 | C55: 1042.9 | D55: 1030.5 | E55: 12 | F55: -12.4 | G55: -16 | H55: -1.2 | I55: -1.5
A56: Unemployment | B56: =VLOOKUP(A56,'t004-eng'!A:B,2,0) -> 실업인구 | C56: 206 | D56: 223.4 | E56: 11.3 | F56: 17.4 | G56: 24.1 | H56: 8.4 | I56: 12.1
A57: Participation rate | B57: =VLOOKUP(A57,'t004-eng'!A:B,2,0) -> 경제활동참가율 | C57: 60 | D57: 60.4 | E57: 0.6 | F57: 0.4 | G57: 0.3 | H57: ... | I57: ...
A58: Unemployment rate | B58: =VLOOKUP(A58,'t004-eng'!A:B,2,0) -> 실업률 | C58: 16.5 | D58: 17.8 | E58: 0.8 | F58: 1.3 | G58: 1.8 | H58: ... | I58: ...
A59: Employment rate | B59: =VLOOKUP(A59,'t004-eng'!A:B,2,0) -> 고용률 | C59: 50.1 | D59: 49.7 | E59: 0.6 | F59: -0.4 | G59: -0.7 | H59: ... | I59: ...
A60: Men+, 25 years and over | B60: =VLOOKUP(A60,'t004-eng'!A:B,2,0) -> 남성, 25세 이상
A61: Population | B61: =VLOOKUP(A61,'t004-eng'!A:B,2,0) -> 인구 | C61: 5711.3 | D61: 5718.9 | E61: ... | F61: 7.6 | G61: 98.2 | H61: 0.1 | I61: 1.7
A62: Labour force | B62: =VLOOKUP(A62,'t004-eng'!A:B,2,0) -> 경제활동인구 | C62: 4042.3 | D62: 4046.5 | E62: 11.5 | F62: 4.2 | G62: 22.8 | H62: 0.1 | I62: 0.6
A63: Employment | B63: =VLOOKUP(A63,'t004-eng'!A:B,2,0) -> 취업인구 | C63: 3776.7 | D63: 3783.9 | E63: 12 | F63: 7.2 | G63: -6.5 | H63: 0.2 | I63: -0.2
A64: Unemployment | B64: =VLOOKUP(A64,'t004-eng'!A:B,2,0) -> 실업인구 | C64: 265.6 | D64: 262.6 | E64: 10.7 | F64: -3 | G64: 29.2 | H64: -1.1 | I64: 12.5
A65: Participation rate | B65: =VLOOKUP(A65,'t004-eng'!A:B,2,0) -> 경제활동참가율 | C65: 70.8 | D65: 70.8 | E65: 0.2 | F65: 0 | G65: -0.8 | H65: ... | I65: ...
A66: Unemployment rate | B66: =VLOOKUP(A66,'t004-eng'!A:B,2,0) -> 실업률 | C66: 6.6 | D66: 6.5 | E66: 0.3 | F66: -0.1 | G66: 0.7 | H66: ... | I66: ...
A67: Employment rate | B67: =VLOOKUP(A67,'t004-eng'!A:B,2,0) -> 고용률 | C67: 66.1 | D67: 66.2 | E67: 0.2 | F67: 0.1 | G67: -1.2 | H67: ... | I67: ...
A68: Women+, 25 years and over | B68: =VLOOKUP(A68,'t004-eng'!A:B,2,0) -> 여성, 25세 이상
A69: Population | B69: =VLOOKUP(A69,'t004-eng'!A:B,2,0) -> 인구 | C69: 5931.7 | D69: 5939.1 | E69: ... | F69: 7.4 | G69: 107.4 | H69: 0.1 | I69: 1.8
A70: Labour force | B70: =VLOOKUP(A70,'t004-eng'!A:B,2,0) -> 경제활동인구 | C70: 3585.2 | D70: 3605.4 | E70: 12.4 | F70: 20.2 | G70: 54.4 | H70: 0.6 | I70: 1.5
A71: Employment | B71: =VLOOKUP(A71,'t004-eng'!A:B,2,0) -> 취업인구 | C71: 3371.4 | D71: 3385.4 | E71: 11.9 | F71: 14 | G71: 24.7 | H71: 0.4 | I71: 0.7
A72: Unemployment | B72: =VLOOKUP(A72,'t004-eng'!A:B,2,0) -> 실업인구 | C72: 213.8 | D72: 220 | E72: 10.4 | F72: 6.2 | G72: 29.7 | H72: 2.9 | I72: 15.6
A73: Participation rate | B73: =VLOOKUP(A73,'t004-eng'!A:B,2,0) -> 경제활동참가율 | C73: 60.4 | D73: 60.7 | E73: 0.2 | F73: 0.3 | G73: -0.2 | H73: ... | I73: ...
A74: Unemployment rate | B74: =VLOOKUP(A74,'t004-eng'!A:B,2,0) -> 실업률 | C74: 6 | D74: 6.1 | E74: 0.3 | F74: 0.1 | G74: 0.7 | H74: ... | I74: ...
A75: Employment rate | B75: =VLOOKUP(A75,'t004-eng'!A:B,2,0) -> 고용률 | C75: 56.8 | D75: 57 | E75: 0.2 | F75: 0.2 | G75: -0.6 | H75: ... | I75: ...
A77: Manitoba
A78: Total - gender, 15 years and over | B78: =VLOOKUP(A78,'t004-eng'!A:B,2,0) -> 전체, 15세 이상
A79: Population | B79: =VLOOKUP(A79,'t004-eng'!A:B,2,0) -> 인구 | C79: 1177.2 | D79: 1178.7 | E79: ... | F79: 1.5 | G79: 20.9 | H79: 0.1 | I79: 1.8
A80: Labour force | B80: =VLOOKUP(A80,'t004-eng'!A:B,2,0) -> 경제활동인구 | C80: 781.1 | D80: 789 | E80: 3.5 | F80: 7.9 | G80: 14.3 | H80: 1 | I80: 1.8
A81: Employment | B81: =VLOOKUP(A81,'t004-eng'!A:B,2,0) -> 취업인구 | C81: 736.2 | D81: 740.1 | E81: 3.5 | F81: 3.9 | G81: 9.2 | H81: 0.5 | I81: 1.3
A82: Full-time employment | B82: =VLOOKUP(A82,'t004-eng'!A:B,2,0) -> 전일제 취업인구 | C82: 603.4 | D82: 614.5 | E82: 4.5 | F82: 11.1 | G82: 23.5 | H82: 1.8 | I82: 4
A83: Unemployment | B83: =VLOOKUP(A83,'t004-eng'!A:B,2,0) -> 실업인구 | C83: 44.9 | D83: 48.9 | E83: 3 | F83: 4 | G83: 5.1 | H83: 8.9 | I83: 11.6
A84: Participation rate | B84: =VLOOKUP(A84,'t004-eng'!A:B,2,0) -> 경제활동참가율 | C84: 66.4 | D84: 66.9 | E84: 0.3 | F84: 0.5 | G84: 0 | H84: ... | I84: ...
A85: Unemployment rate | B85: =VLOOKUP(A85,'t004-eng'!A:B,2,0) -> 실업률 | C85: 5.7 | D85: 6.2 | E85: 0.4 | F85: 0.5 | G85: 0.5 | H85: ... | I85: ...
A86: Employment rate | B86: =VLOOKUP(A86,'t004-eng'!A:B,2,0) -> 고용률 | C86: 62.5 | D86: 62.8 | E86: 0.3 | F86: 0.3 | G86: -0.3 | H86: ... | I86: ...
A87: Total - gender, 15 to 24 years | B87: =VLOOKUP(A87,'t004-eng'!A:B,2,0) -> 전체, 15 - 24세
A88: Population | B88: =VLOOKUP(A88,'t004-eng'!A:B,2,0) -> 인구 | C88: 189.5 | D88: 189.2 | E88: ... | F88: -0.3 | G88: -1 | H88: -0.2 | I88: -0.5
A89: Labour force | B89: =VLOOKUP(A89,'t004-eng'!A:B,2,0) -> 경제활동인구 | C89: 125.2 | D89: 128.8 | E89: 2.1 | F89: 3.6 | G89: 1.4 | H89: 2.9 | I89: 1.1
A90: Employment | B90: =VLOOKUP(A90,'t004-eng'!A:B,2,0) -> 취업인구 | C90: 109.7 | D90: 112.8 | E90: 1.9 | F90: 3.1 | G90: -1.2 | H90: 2.8 | I90: -1.1
A91: Unemployment | B91: =VLOOKUP(A91,'t004-eng'!A:B,2,0) -> 실업인구 | C91: 15.6 | D91: 16 | E91: 1.8 | F91: 0.4 | G91: 2.6 | H91: 2.6 | I91: 19.4
A92: Participation rate | B92: =VLOOKUP(A92,'t004-eng'!A:B,2,0) -> 경제활동참가율 | C92: 66.1 | D92: 68.1 | E92: 1.1 | F92: 2 | G92: 1.1 | H92: ... | I92: ...
A93: Unemployment rate | B93: =VLOOKUP(A93,'t004-eng'!A:B,2,0) -> 실업률 | C93: 12.5 | D93: 12.4 | E93: 1.4 | F93: -0.1 | G93: 1.9 | H93: ... | I93: ...
A94: Employment rate | B94: =VLOOKUP(A94,'t004-eng'!A:B,2,0) -> 고용률 | C94: 57.9 | D94: 59.6 | E94: 1 | F94: 1.7 | G94: -0.3 | H94: ... | I94: ...
A95: Men+, 25 years and over | B95: =VLOOKUP(A95,'t004-eng'!A:B,2,0) -> 남성, 25세 이상
A96: Population | B96: =VLOOKUP(A96,'t004-eng'!A:B,2,0) -> 인구 | C96: 493.4 | D96: 494.3 | E96: ... | F96: 0.9 | G96: 11.3 | H96: 0.2 | I96: 2.3
A97: Labour force | B97: =VLOOKUP(A97,'t004-eng'!A:B,2,0) -> 경제활동인구 | C97: 355.6 | D97: 355.9 | E97: 1.9 | F97: 0.3 | G97: 8.1 | H97: 0.1 | I97: 2.3
A98: Employment | B98: =VLOOKUP(A98,'t004-eng'!A:B,2,0) -> 취업인구 | C98: 341.2 | D98: 339.1 | E98: 2 | F98: -2.1 | G98: 8.4 | H98: -0.6 | I98: 2.5
A99: Unemployment | B99: =VLOOKUP(A99,'t004-eng'!A:B,2,0) -> 실업인구 | C99: 14.5 | D99: 16.7 | E99: 1.7 | F99: 2.2 | G99: -0.4 | H99: 15.2 | I99: -2.3
A100: Participation rate | B100: =VLOOKUP(A100,'t004-eng'!A:B,2,0) -> 경제활동참가율 | C100: 72.1 | D100: 72 | E100: 0.4 | F100: -0.1 | G100: 0 | H100: ... | I100: ...
A101: Unemployment rate | B101: =VLOOKUP(A101,'t004-eng'!A:B,2,0) -> 실업률 | C101: 4.1 | D101: 4.7 | E101: 0.5 | F101: 0.6 | G101: -0.2 | H101: ... | I101: ...
A102: Employment rate | B102: =VLOOKUP(A102,'t004-eng'!A:B,2,0) -> 고용률 | C102: 69.2 | D102: 68.6 | E102: 0.4 | F102: -0.6 | G102: 0.1 | H102: ... | I102: ...
A103: Women+, 25 years and over | B103: =VLOOKUP(A103,'t004-eng'!A:B,2,0) -> 여성, 25세 이상
...

Sheet t006-eng
A1: Table 6 – Employment by province and industry, seasonally adjusted
A2: 주별 및 산업별 취입인구, 계절조정계열
C4: August 2025 | D4: September 2025 | E4: Standard error{1} | F4: August to September 2025 | G4: September 2024 to September 2025 | H4: August to September 2025 | I4: September 2024 to September 2025
C5: thousands | D5: thousands | E5: thousands | F5: change in thousands | G5: change in thousands | H5: % change | I5: % change
C6: 천명 | D6: 천명 | E6: 표준오차, 천명 | F6: 전월대비 변화, 천명 | G6: 전년동월대비 변화, 천명 | H6: 전월대비 백분율 변화 | I6: 전년동월대비 백분율 변화
A7: Newfoundland and Labrador
A8: Total employed, all industries | B8: =VLOOKUP(A8,'t002-eng'!A:B,2,0) -> 전취업인구, 전산업 | C8: 242.9 | D8: 240.7 | E8: 2 | F8: -2.2 | G8: -2.9 | H8: -0.9 | I8: -1.2
A9: Goods-producing sector | B9: =VLOOKUP(A9,'t002-eng'!A:B,2,0) -> 상품 생산 부문 | C9: 45.3 | D9: 43.9 | E9: 1.3 | F9: -1.4 | G9: -4.5 | H9: -3.1 | I9: -9.3
A10: Agriculture | B10: =VLOOKUP(A10,'t002-eng'!A:B,2,0) -> 농업 | C10: 0.9 | D10: 0.8 | E10: 0.2 | F10: -0.1 | G10: -0.8 | H10: -11.1 | I10: -50
A11: Natural resources{2} | B11: =VLOOKUP(A11,'t002-eng'!A:B,2,0) -> 천연자원업 | C11: 14.7 | D11: 13.8 | E11: 0.8 | F11: -0.9 | G11: -2.4 | H11: -6.1 | I11: -14.8
A12: Utilities | B12: =VLOOKUP(A12,'t002-eng'!A:B,2,0) -> 유틸리티업 | C12: 2.1 | D12: 2 | E12: 0.1 | F12: -0.1 | G12: 0 | H12: -4.8 | I12: 0
A13: Construction | B13: =VLOOKUP(A13,'t002-eng'!A:B,2,0) -> 건설업 | C13: 18.5 | D13: 18.4 | E13: 0.8 | F13: -0.1 | G13: 0.1 | H13: -0.5 | I13: 0.5
A14: Manufacturing | B14: =VLOOKUP(A14,'t002-eng'!A:B,2,0) -> 제조업 | C14: 9.1 | D14: 8.8 | E14: 0.7 | F14: -0.3 | G14: -1.6 | H14: -3.3 | I14: -15.4
A15: Services-producing sector | B15: =VLOOKUP(A15,'t002-eng'!A:B,2,0) -> 서비스 생산 부문 | C15: 197.6 | D15: 196.7 | E15: 1.8 | F15: -0.9 | G15: 1.5 | H15: -0.5 | I15: 0.8
A16: Wholesale and retail trade | B16: =VLOOKUP(A16,'t002-eng'!A:B,2,0) -> 도소매업 | C16: 38.9 | D16: 38.4 | E16: 0.9 | F16: -0.5 | G16: 0.2 | H16: -1.3 | I16: 0.5
A17: Transportation and warehousing | B17: =VLOOKUP(A17,'t002-eng'!A:B,2,0) -> 운송 및 창고업 | C17: 11.4 | D17: 12 | E17: 0.6 | F17: 0.6 | G17: -0.5 | H17: 5.3 | I17: -4
A18: Finance, insurance, real estate, rental and leasing | B18: =VLOOKUP(A18,'t002-eng'!A:B,2,0) -> 금융, 보험, 부동산, 임대 및 리스업 | C18: 8.2 | D18: 8.6 | E18: 0.4 | F18: 0.4 | G18: 0.8 | H18: 4.9 | I18: 10.3
A19: Professional, scientific and technical services | B19: =VLOOKUP(A19,'t002-eng'!A:B,2,0) -> 전문, 과학 및 기술 서비스업 | C19: 11.7 | D19: 12.4 | E19: 0.5 | F19: 0.7 | G19: -1.2 | H19: 6 | I19: -8.8
... A26: Public administration | B26: =VLOOKUP(A26,'t002-eng'!A:B,2,0) -> 공공행정 | C26: 21.4 | D26: 21.6 | E26: 0.6 | F26: 0.2 | G26: 2.1 | H26: 0.9 | I26: 10.8
A27: Prince Edward Island
A28: Total employed, all industries | B28: =VLOOKUP(A28,'t002-eng'!A:B,2,0) -> 전취업인구, 전산업 | C28: 93.8 | D28: 92.9 | E28: 1 | F28: -0.9 | G28: 0 | H28: -1 | I28: 0
A29: Goods-producing sector | B29: =VLOOKUP(A29,'t002-eng'!A:B,2,0) -> 상품 생산 부문 | C29: 23.8 | D29: 22.4 | E29: 0.7 | F29: -1.4 | G29: -1.5 | H29: -5.9 | I29: -6.3
A30: Agriculture | B30: =VLOOKUP(A30,'t002-eng'!A:B,2,0) -> 농업 | C30: 3 | D30: 3.3 | E30: 0.3 | F30: 0.3 | G30: -0.6 | H30: 10 | I30: -15.4
A31: Natural resources{2} | B31: =VLOOKUP(A31,'t002-eng'!A:B,2,0) -> 천연자원업 | C31: 2.6 | D31: 2.1 | E31: 0.3 | F31: -0.5 | G31: -0.2 | H31: -19.2 | I31: -8.7
A32: Utilities | B32: =VLOOKUP(A32,'t002-eng'!A:B,2,0) -> 유틸리티업 | C32: x | D32: x | E32: 0.1 | F32: x | G32: x | H32: x | I32: x
A33: Construction | B33: =VLOOKUP(A33,'t002-eng'!A:B,2,0) -> 건설업 | C33: 9.6 | D33: 8.8 | E33: 0.4 | F33: -0.8 | G33: -1.1 | H33: -8.3 | I33: -11.1
A34: Manufacturing | B34: =VLOOKUP(A34,'t002-eng'!A:B,2,0) -> 제조업 | C34: 8.4 | D34: 8 | E34: 0.3 | F34: -0.4 | G34: 0.4 | H34: -4.8 | I34: 5.3
A35: Services-producing sector | B35: =VLOOKUP(A35,'t002-eng'!A:B,2,0) -> 서비스 생산 부문 | C35: 70 | D35: 70.5 | E35: 0.8 | F35: 0.5 | G35: 1.5 | H35: 0.7 | I35: 2.2
A36: Wholesale and retail trade | B36: =VLOOKUP(A36,'t002-eng'!A:B,2,0) -> 도소매업 | C36: 10.9 | D36: 11.7 | E36: 0.4 | F36: 0.8 | G36: 0.7 | H36: 7.3 | I36: 6.4
A37: Transportation and warehousing | B37: =VLOOKUP(A37,'t002-eng'!A:B,2,0) -> 운송 및 창고업 | C37: 2.6 | D37: 2.2 | E37: 0.2 | F37: -0.4 | G37: -1.1 | H37: -15.4 | I37: -33.3
A38: Finance, insurance, real estate, rental and leasing | B38: =VLOOKUP(A38,'t002-eng'!A:B,2,0) -> 금융, 보험, 부동산, 임대 및 리스업 | C38: 3.8 | D38: 4.3 | E38: 0.3 | F38: 0.5 | G38: 0.3 | H38: 13.2 | I38: 7.5
A39: Professional, scientific and technical services | B39: =VLOOKUP(A39,'t002-eng'!A:B,2,0) -> 전문, 과학 및 기술 서비스업 | C39: 5.5 | D39: 5.4 | E39: 0.3 | F39: -0.1 | G39: 0.6 | H39: -1.8 | I39: 12.5
A40: Business, building and other support services | B40: =VLOOKUP(A40,'t002-eng'!A:B,2,0) -> 사업, 건축 및 기타 지원 서비스업 | C40: 2.3 | D40: 2.5 | E40: 0.2 | F40: 0.2 | G40: 0.2 | H40: 8.7 | I40: 8.7
A41: Educational services | B41: =VLOOKUP(A41,'t002-eng'!A:B,2,0) -> 교육 서비스업 | C41: 6.6 | D41: 6.2 | E41: 0.3 | F41: -0.4 | G41: -0.3 | H41: -6.1 | I41: -4.6
A42: Health care and social assistance | B42: =VLOOKUP(A42,'t002-eng'!A:B,2,0) -> 보건 및 사회 복지 서비스업 | C42: 16.1 | D42: 16.1 | E42: 0.4 | F42: 0 | G42: 1.9 | H42: 0 | I42: 13.4
A43: Information, culture and recreation | B43: =VLOOKUP(A43,'t002-eng'!A:B,2,0) -> 정보, 문화 및 여가 서비스업 | C43: 2.5 | D43: 2.8 | E43: 0.3 | F43: 0.3 | G43: 0.3 | H43: 12 | I43: 12
A44: Accommodation and food services | B44: =VLOOKUP(A44,'t002-eng'!A:B,2,0) -> 음식점 및 숙박 서비스업 | C44: 6.1 | D44: 6.4 | E44: 0.5 | F44: 0.3 | G44: 0.6 | H44: 4.9 | I44: 10.3
... A46: Public administration | B46: =VLOOKUP(A46,'t002-eng'!A:B,2,0) -> 공공행정 | C46: 10.6 | D46: 10.1 | E46: 0.3 | F46: -0.5 | G46: -0.4 | H46: -4.7 | I46: -3.8
A47: Nova Scotia
A48: Total employed, all industries | B48: =VLOOKUP(A48,'t002-eng'!A:B,2,0) -> 전취업인구, 전산업 | C48: 524.1 | D48: 525.4 | E48: 3.2 | F48: 1.3 | G48: 3.8 | H48: 0.2 | I48: 0.7
A49: Goods-producing sector | B49: =VLOOKUP(A49,'t002-eng'!A:B,2,0) -> 상품 생산 부문 | C49: 99.8 | D49: 101.2 | E49: 1.9 | F49: 1.4 | G49: 4.1 | H49: 1.4 | I49: 4.2
A50: Agriculture | B50: =VLOOKUP(A50,'t002-eng'!A:B,2,0) -> 농업 | C50: 4.1 | D50: 3.6 | E50: 0.4 | F50: -0.5 | G50: 0.4 | H50: -12.2 | I50: 12.5
A51: Natural resources{2} | B51: =VLOOKUP(A51,'t002-eng'!A:B,2,0) -> 천연자원업 | C51: 10.9 | D51: 11.4 | E51: 0.9 | F51: 0.5 | G51: 0.6 | H51: 4.6 | I51: 5.6
A52: Utilities | B52: =VLOOKUP(A52,'t002-eng'!A:B,2,0) -> 유틸리티업 | C52: 4.6 | D52: 4.6 | E52: 0.3 | F52: 0 | G52: -0.1 | H52: 0 | I52: -2.1
A53: Construction | B53: =VLOOKUP(A53,'t002-eng'!A:B,2,0) -> 건설업 | C53: 45.5 | D53: 45.1 | E53: 1.3 | F53: -0.4 | G53: 1.9 | H53: -0.9 | I53: 4.4
A54: Manufacturing | B54: =VLOOKUP(A54,'t002-eng'!A:B,2,0) -> 제조업 | C54: 34.7 | D54: 36.5 | E54: 1 | F54: 1.8 | G54: 1.3 | H54: 5.2 | I54: 3.7
A55: Services-producing sector | B55: =VLOOKUP(A55,'t002-eng'!A:B,2,0) -> 서비스 생산 부문 | C55: 424.3 | D55: 424.2 | E55: 3.1 | F55: -0.1 | G55: -0.3 | H55: 0 | I55: -0.1
A56: Wholesale and retail trade | B56: =VLOOKUP(A56,'t002-eng'!A:B,2,0) -> 도소매업 | C56: 76.9 | D56: 77.4 | E56: 1.7 | F56: 0.5 | G56: 1.7 | H56: 0.7 | I56: 2.2
A57: Transportation and warehousing | B57: =VLOOKUP(A57,'t002-eng'!A:B,2,0) -> 운송 및 창고업 | C57: 24.4 | D57: 23.3 | E57: 1.1 | F57: -1.1 | G57: 1.6 | H57: -4.5 | I57: 7.4
A58: Finance, insurance, real estate, rental and leasing | B58: =VLOOKUP(A58,'t002-eng'!A:B,2,0) -> 금융, 보험, 부동산, 임대 및 리스업 | C58: 31.2 | D58: 30.5 | E58: 0.9 | F58: -0.7 | G58: 1.3 | H58: -2.2 | I58: 4.5
A59: Professional, scientific and technical services | B59: =VLOOKUP(A59,'t002-eng'!A:B,2,0) -> 전문, 과학 및 기술 서비스업 | C59: 37.2 | D59: 39 | E59: 1.3 | F59: 1.8 | G59: 5.7 | H59: 4.8 | I59: 17.1
... A66: Public administration | B66: =VLOOKUP(A66,'t002-eng'!A:B,2,0) -> 공공행정 | C66: 38.7 | D66: 38.7 | E66: 1 | F66: 0 | G66: -1.7 | H66: 0 | I66: -4.2
A67: New Brunswick
A68: Total employed, all industries | B68: =VLOOKUP(A68,'t002-eng'!A:B,2,0) -> 전취업인구, 전산업 | C68: 401.2 | D68: 405.9 | E68: 2.4 | F68: 4.7 | G68: 5.6 | H68: 1.2 | I68: 1.4
A69: Goods-producing sector | B69: =VLOOKUP(A69,'t002-eng'!A:B,2,0) -> 상품 생산 부문 | C69: 81.8 | D69: 83.2 | E69: 1.6 | F69: 1.4 | G69: 2.6 | H69: 1.7 | I69: 3.2
A70: Agriculture | B70: =VLOOKUP(A70,'t002-eng'!A:B,2,0) -> 농업 | C70: 5.9 | D70: 6 | E70: 0.5 | F70: 0.1 | G70: -0.3 | H70: 1.7 | I70: -4.8
A71: Natural resources{2} | B71: =VLOOKUP(A71,'t002-eng'!A:B,2,0) -> 천연자원업 | C71: 7.6 | D71: 8 | E71: 0.6 | F71: 0.4 | G71: 0.5 | H71: 5.3 | I71: 6.7
A72: Utilities | B72: =VLOOKUP(A72,'t002-eng'!A:B,2,0) -> 유틸리티업 | C72: 4.4 | D72: 4.4 | E72: 0.3 | F72: 0 | G72: -1 | H72: 0 | I72: -18.5
A73: Construction | B73: =VLOOKUP(A73,'t002-eng'!A:B,2,0) -> 건설업 | C73: 32.4 | D73: 31.8 | E73: 1.1 | F73: -0.6 | G73: -1.7 | H73: -1.9 | I73: -5.1
A74: Manufacturing | B74: =VLOOKUP(A74,'t002-eng'!A:B,2,0) -> 제조업 | C74: 31.5 | D74: 32.9 | E74: 0.9 | F74: 1.4 | G74: 4.9 | H74: 4.4 | I74: 17.5
A75: Services-producing sector | B75: =VLOOKUP(A75,'t002-eng'!A:B,2,0) -> 서비스 생산 부문 | C75: 319.5 | D75: 322.8 | E75: 2.2 | F75: 3.3 | G75: 3.2 | H75: 1 | I75: 1
A76: Wholesale and retail trade | B76: =VLOOKUP(A76,'t002-eng'!A:B,2,0) -> 도소매업 | C76: 56.3 | D76: 58.9 | E76: 1.2 | F76: 2.6 | G76: -1.1 | H76: 4.6 | I76: -1.8
A77: Transportation and warehousing | B77: =VLOOKUP(A77,'t002-eng'!A:B,2,0) -> 운송 및 창고업 | C77: 19.3 | D77: 18.1 | E77: 0.7 | F77: -1.2 | G77: -3.9 | H77: -6.2 | I77: -17.7
A78: Finance, insurance, real estate, rental and leasing | B78: =VLOOKUP(A78,'t002-eng'!A:B,2,0) -> 금융, 보험, 부동산, 임대 및 리스업 | C78: 19.4 | D78: 20.3 | E78: 0.6 | F78: 0.9 | G78: 0.8 | H78: 4.6 | I78: 4.1
A79: Professional, scientific and technical services | B79: =VLOOKUP(A79,'t002-eng'!A:B,2,0) -> 전문, 과학 및 기술 서비스업 | C79: 23.4 | D79: 21.9 | E79: 0.8 | F79: -1.5 | G79: -3.1 | H79: -6.4 | I79: -12.4
... A86: Public administration | B86: =VLOOKUP(A86,'t002-eng'!A:B,2,0) -> 공공행정 | C86: 38.2 | D86: 37.9 | E86: 0.8 | F86: -0.3 | G86: 0.6 | H86: -0.8 | I86: 1.6
A87: Quebec
A88: Total employed, all industries | B88: =VLOOKUP(A88,'t002-eng'!A:B,2,0) -> 전취업인구, 전산업 | C88: 4644.5 | D88: 4639.8 | E88: 15.3 | F88: -4.7 | G88: 59.8 | H88: -0.1 | I88: 1.3
A89: Goods-producing sector | B89: =VLOOKUP(A89,'t002-eng'!A:B,2,0) -> 상품 생산 부문 | C89: 951.4 | D89: 949.9 | E89: 9.8 | F89: -1.5 | G89: -10.4 | H89: -0.2 | I89: -1.1
A90: Agriculture | B90: =VLOOKUP(A90,'t002-eng'!A:B,2,0) -> 농업 | C90: 49.4 | D90: 50.8 | E90: 2.7 | F90: 1.4 | G90: -4.2 | H90: 2.8 | I90: -7.6
A91: Natural resources{2} | B91: =VLOOKUP(A91,'t002-eng'!A:B,2,0) -> 천연자원업 | C91: 39.7 | D91: 41.5 | E91: 2 | F91: 1.8 | G91: 6.5 | H91: 4.5 | I91: 18.6
A92: Utilities | B92: =VLOOKUP(A92,'t002-eng'!A:B,2,0) -> 유틸리티업 | C92: 34.5 | D92: 36.9 | E92: 1.4 | F92: 2.4 | G92: 8.9 | H92: 7 | I92: 31.8
A93: Construction | B93: =VLOOKUP(A93,'t002-eng'!A:B,2,0) -> 건설업 | C93: 327.2 | D93: 318.2 | E93: 6.2 | F93: -9 | G93: -17.6 | H93: -2.8 | I93: -5.2
A94: Manufacturing | B94: =VLOOKUP(A94,'t002-eng'!A:B,2,0) -> 제조업 | C94: 500.6 | D94: 502.6 | E94: 6.9 | F94: 2 | G94: -3.8 | H94: 0.4 | I94: -0.8
A95: Services-producing sector | B95: =VLOOKUP(A95,'t002-eng'!A:B,2,0) -> 서비스 생산 부문 | C95: 3693.2 | D95: 3689.9 | E95: 15 | F95: -3.3 | G95: 70.2 | H95: -0.1 | I95: 1.9
A96: Wholesale and retail trade | B96: =VLOOKUP(A96,'t002-eng'!A:B,2,0) -> 도소매업 | C96: 671.3 | D96: 670.9 | E96: 8 | F96: -0.4 | G96: 40.2 | H96: -0.1 | I96: 6.4
A97: Transportation and warehousing | B97: =VLOOKUP(A97,'t002-eng'!A:B,2,0) -> 운송 및 창고업 | C97: 219.5 | D97: 224.6 | E97: 5 | F97: 5.1 | G97: -4.1 | H97: 2.3 | I97: -1.8
A98: Finance, insurance, real estate, rental and leasing | B98: =VLOOKUP(A98,'t002-eng'!A:B,2,0) -> 금융, 보험, 부동산, 임대 및 리스업 | C98: 298.4 | D98: 298.4 | E98: 4.5 | F98: 0 | G98: 35.7 | H98: 0 | I98: 13.6
A99: Professional, scientific and technical services | B99: =VLOOKUP(A99,'t002-eng'!A:B,2,0) -> 전문, 과학 및 기술 서비스업 | C99: 382.8 | D99: 387.9 | E99: 6.2 | F99: 5.1 | G99: 3.2 | H99: 1.3 | I99: 0.8
... A106: Public administration | B106: =VLOOKUP(A106,'t002-eng'!A:B,2,0) -> 공공행정 | C106: 297.1 | D106: 301 | E106: 4.4 | F106: 3.9 | G106: 17.2 | H106: 1.3 | I106: 6.1
A107: Ontario
A108: Total employed, all industries | B108: =VLOOKUP(A108,'t002-eng'!A:B,2,0) -> 전취업인구, 전산업 | C108: 8191 | D108: 8199.8 | E108: 21.4 | F108: 8.8 | G108: 2.2 | H108: 0.1 | I108: 0
A109: Goods-producing sector | B109: =VLOOKUP(A109,'t002-eng'!A:B,2,0) -> 상품 생산 부문 | C109: 1561.4 | D109: 1572.2 | E109: 12.6 | F109: 10.8 | G109: -2.1 | H109: 0.7 | I109: -0.1
A110: Agriculture | B110: =VLOOKUP(A110,'t002-eng'!A:B,2,0) -> 농업 | C110: 58.3 | D110: 63.5 | E110: 2.9 | F110: 5.2 | G110: -8.5 | H110: 8.9 | I110: -11.8
A111: Natural resources{2} | B111: =VLOOKUP(A111,'t002-eng'!A:B,2,0) -> 천연자원업 | C111: 43 | D111: 44.9 | E111: 2.3 | F111: 1.9 | G111: 2.3 | H111: 4.4 | I111: 5.4
A112: Utilities | B112: =VLOOKUP(A112,'t002-eng'!A:B,2,0) -> 유틸리티업 | C112: 64.8 | D112: 63.9 | E112: 2.2 | F112: -0.9 | G112: 2.7 | H112: -1.4 | I112: 4.4
A113: Construction | B113: =VLOOKUP(A113,'t002-eng'!A:B,2,0) -> 건설업 | C113: 582.1 | D113: 574.8 | E113: 8.6 | F113: -7.3 | G113: 1.1 | H113: -1.3 | I113: 0.2
A114: Manufacturing | B114: =VLOOKUP(A114,'t002-eng'!A:B,2,0) -> 제조업 | C114: 813.3 | D114: 825.1 | E114: 8.8 | F114: 11.8 | G114: 0.3 | H114: 1.5 | I114: 0
A115: Services-producing sector | B115: =VLOOKUP(A115,'t002-eng'!A:B,2,0) -> 서비스 생산 부문 | C115: 6629.6 | D115: 6627.6 | E115: 21.3 | F115: -2 | G115: 4.3 | H115: 0 | I115: 0.1
A116: Wholesale and retail trade | B116: =VLOOKUP(A116,'t002-eng'!A:B,2,0) -> 도소매업 | C116: 1166.1 | D116: 1153.6 | E116: 11.3 | F116: -12.5 | G116: 29 | H116: -1.1 | I116: 2.6
A117: Transportation and warehousing | B117: =VLOOKUP(A117,'t002-eng'!A:B,2,0) -> 운송 및 창고업 | C117: 416.1 | D117: 415.8 | E117: 7 | F117: -0.3 | G117: -8 | H117: -0.1 | I117: -1.9
A118: Finance, insurance, real estate, rental and leasing | B118: =VLOOKUP(A118,'t002-eng'!A:B,2,0) -> 금융, 보험, 부동산, 임대 및 리스업 | C118: 718.9 | D118: 724.8 | E118: 8.2 | F118: 5.9 | G118: 2 | H118: 0.8 | I118: 0.3
A119: Professional, scientific and technical services | B119: =VLOOKUP(A119,'t002-eng'!A:B,2,0) -> 전문, 과학 및 기술 서비스업 | C119: 904.3 | D119: 910.4 | E119: 10.1 | F119: 6.1 | G119: -1.6 | H119: 0.7 | I119: -0.2
... A126: Public administration | B126: =VLOOKUP(A126,'t002-eng'!A:B,2,0) -> 공공행정 | C126: 467.8 | D126: 460.7 | E126: 6.2 | F126: -7.1 | G126: -18 | H126: -1.5 | I126: -3.8
A127: Manitoba
A128: Total employed, all industries | B128: =VLOOKUP(A128,'t002-eng'!A:B,2,0) -> 전취업인구, 전산업 | C128: 736.2 | D128: 740.1 | E128: 3.5 | F128: 3.9 | G128: 9.2 | H128: 0.5 | I128: 1.3
A129: Goods-producing sector | B129: =VLOOKUP(A129,'t002-eng'!A:B,2,0) -> 상품 생산 부문 | C129: 156 | D129: 161 | E129: 2 | F129: 5 | G129: 8.7 | H129: 3.2 | I129: 5.7
A130: Agriculture | B130: =VLOOKUP(A130,'t002-eng'!A:B,2,0) -> 농업 | C130: 15.2 | D130: 15 | E130: 0.8 | F130: -0.2 | G130: 2.5 | H130: -1.3 | I130: 20
A131: Natural resources{2} | B131: =VLOOKUP(A131,'t002-eng'!A:B,2,0) -> 천연자원업 | C131: 5.8 | D131: 6.5 | E131: 0.5 | F131: 0.7 | G131: 0.1 | H131: 12.1 | I131: 1.6
A132: Utilities | B132: =VLOOKUP(A132,'t002-eng'!A:B,2,0) -> 유틸리티업 | C132: 7 | D132: 7.9 | E132: 0.3 | F132: 0.9 | G132: 2.5 | H132: 12.9 | I132: 46.3
...

Sheet t007-eng
A1: Table 7 – Labour force characteristics by census metropolitan area, three-month moving average, seasonally adjusted
A2: 인구조사 도시별 노동력 특성, 3개월 이동평균, 계절조정계열
C4: August 2025 | D4: September 2025 | E4: Standard error{1} | F4: August to September 2025 | G4: September 2024 to September 2025 | H4: August to September 2025 | I4: September 2024 to September 2025
C5: thousands (except rates) | D5: thousands (except rates) | E5: thousands (except rates) | F5: change in thousands (except rates) | G5: change in thousands (except rates) | H5: % change | I5: % change
C6: 천명; 비율 제외 | D6: 천명; 비율 제외 | E6: 표준오차, 천명; 비율 제외 | F6: 전월대비 변화, 천명; 비율 제외 | G6: 전년동월대비 변화, 천명; 비율 제외 | H6: 전월대비 백분율 변화 | I6: 전년동월대비 백분율 변화
A7: St. John's, Newfoundland and Labrador
A8: Population | B8: =VLOOKUP(A8,'t005-eng'!A:B,2,0) -> 인구 | C8: 206.5 | D8: 206.7 | E8: ... | F8: 0.2 | G8: 4 | H8: 0.1 | I8: 2
A9: Labour force | B9: =VLOOKUP(A9,'t005-eng'!A:B,2,0) -> 경제활동인구 | C9: 136.6 | D9: 137.3 | E9: 0.8 | F9: 0.7 | G9: 6.7 | H9: 0.5 | I9: 5.1
A10: Employment | B10: =VLOOKUP(A10,'t005-eng'!A:B,2,0) -> 취업인구 | C10: 127 | D10: 127.8 | E10: 0.8 | F10: 0.8 | G10: 5.9 | H10: 0.6 | I10: 4.8
A11: Unemployment | B11: =VLOOKUP(A11,'t005-eng'!A:B,2,0) -> 실업인구 | C11: 9.6 | D11: 9.5 | E11: 0.4 | F11: -0.1 | G11: 0.8 | H11: -1 | I11: 9.2
A12: Participation rate | B12: =VLOOKUP(A12,'t005-eng'!A:B,2,0) -> 경제활동참가율 | C12: 66.2 | D12: 66.4 | E12: 0.4 | F12: 0.2 | G12: 2 | H12: ... | I12: ...
A13: Unemployment rate | B13: =VLOOKUP(A13,'t005-eng'!A:B,2,0) -> 실업률 | C13: 7 | D13: 6.9 | E13: 0.3 | F13: -0.1 | G13: 0.2 | H13: ... | I13: ...
A14: Employment rate | B14: =VLOOKUP(A14,'t005-eng'!A:B,2,0) -> 고용률 | C14: 61.5 | D14: 61.8 | E14: 0.4 | F14: 0.3 | G14: 1.7 | H14: ... | I14: ...
A15: Halifax, Nova Scotia
A16: Population | B16: =VLOOKUP(A16,'t005-eng'!A:B,2,0) -> 인구 | C16: 456.7 | D16: 457.3 | E16: ... | F16: 0.6 | G16: 8.3 | H16: 0.1 | I16: 1.8
A17: Labour force | B17: =VLOOKUP(A17,'t005-eng'!A:B,2,0) -> 경제활동인구 | C17: 312 | D17: 312.6 | E17: 1.6 | F17: 0.6 | G17: 6.3 | H17: 0.2 | I17: 2.1
A18: Employment | B18: =VLOOKUP(A18,'t005-eng'!A:B,2,0) -> 취업인구 | C18: 294.2 | D18: 294.8 | E18: 1.6 | F18: 0.6 | G18: 5.7 | H18: 0.2 | I18: 2
A19: Unemployment | B19: =VLOOKUP(A19,'t005-eng'!A:B,2,0) -> 실업인구 | C19: 17.8 | D19: 17.8 | E19: 0.9 | F19: 0 | G19: 0.5 | H19: 0 | I19: 2.9
A20: Participation rate | B20: =VLOOKUP(A20,'t005-eng'!A:B,2,0) -> 경제활동참가율 | C20: 68.3 | D20: 68.4 | E20: 0.4 | F20: 0.1 | G20: 0.2 | H20: ... | I20: ...
A21: Unemployment rate | B21: =VLOOKUP(A21,'t005-eng'!A:B,2,0) -> 실업률 | C21: 5.7 | D21: 5.7 | E21: 0.3 | F21: 0 | G21: 0.1 | H21: ... | I21: ...
A22: Employment rate | B22: =VLOOKUP(A22,'t005-eng'!A:B,2,0) -> 고용률 | C22: 64.4 | D22: 64.5 | E22: 0.4 | F22: 0.1 | G22: 0.1 | H22: ... | I22: ...
A23: Moncton, New Brunswick
A24: Population | B24: =VLOOKUP(A24,'t005-eng'!A:B,2,0) -> 인구 | C24: 162.3 | D24: 162.7 | E24: ... | F24: 0.4 | G24: 4.7 | H24: 0.2 | I24: 3
A25: Labour force | B25: =VLOOKUP(A25,'t005-eng'!A:B,2,0) -> 경제활동인구 | C25: 108.1 | D25: 107.9 | E25: 1 | F25: -0.2 | G25: 3.5 | H25: -0.2 | I25: 3.4
A26: Employment | B26: =VLOOKUP(A26,'t005-eng'!A:B,2,0) -> 취업인구 | C26: 100.4 | D26: 100 | E26: 1 | F26: -0.4 | G26: 1.1 | H26: -0.4 | I26: 1.1
A27: Unemployment | B27: =VLOOKUP(A27,'t005-eng'!A:B,2,0) -> 실업인구 | C27: 7.7 | D27: 7.9 | E27: 0.4 | F27: 0.2 | G27: 2.4 | H27: 2.6 | I27: 43.6
A28: Participation rate | B28: =VLOOKUP(A28,'t005-eng'!A:B,2,0) -> 경제활동참가율 | C28: 66.6 | D28: 66.3 | E28: 0.6 | F28: -0.3 | G28: 0.2 | H28: ... | I28: ...
A29: Unemployment rate | B29: =VLOOKUP(A29,'t005-eng'!A:B,2,0) -> 실업률 | C29: 7.1 | D29: 7.3 | E29: 0.4 | F29: 0.2 | G29: 2 | H29: ... | I29: ...
A30: Employment rate | B30: =VLOOKUP(A30,'t005-eng'!A:B,2,0) -> 고용률 | C30: 61.9 | D30: 61.5 | E30: 0.6 | F30: -0.4 | G30: -1.1 | H30: ... | I30: ...
A31: Saint John, New Brunswick
A32: Population | B32: =VLOOKUP(A32,'t005-eng'!A:B,2,0) -> 인구 | C32: 120.3 | D32: 120.4 | E32: ... | F32: 0.1 | G32: 1.1 | H32: 0.1 | I32: 0.9
A33: Labour force | B33: =VLOOKUP(A33,'t005-eng'!A:B,2,0) -> 경제활동인구 | C33: 75.4 | D33: 75.1 | E33: 0.8 | F33: -0.3 | G33: -0.3 | H33: -0.4 | I33: -0.4
A34: Employment | B34: =VLOOKUP(A34,'t005-eng'!A:B,2,0) -> 취업인구 | C34: 69.8 | D34: 69.4 | E34: 0.8 | F34: -0.4 | G34: -2 | H34: -0.6 | I34: -2.8
A35: Unemployment | B35: =VLOOKUP(A35,'t005-eng'!A:B,2,0) -> 실업인구 | C35: 5.7 | D35: 5.7 | E35: 0.3 | F35: 0 | G35: 1.7 | H35: 0 | I35: 42.5
A36: Participation rate | B36: =VLOOKUP(A36,'t005-eng'!A:B,2,0) -> 경제활동참가율 | C36: 62.7 | D36: 62.4 | E36: 0.6 | F36: -0.3 | G36: -0.8 | H36: ... | I36: ...
A37: Unemployment rate | B37: =VLOOKUP(A37,'t005-eng'!A:B,2,0) -> 실업률 | C37: 7.6 | D37: 7.6 | E37: 0.5 | F37: 0 | G37: 2.3 | H37: ... | I37: ...
A38: Employment rate | B38: =VLOOKUP(A38,'t005-eng'!A:B,2,0) -> 고용률 | C38: 58 | D38: 57.6 | E38: 0.7 | F38: -0.4 | G38: -2.2 | H38: ... | I38: ...
A39: Fredericton, New Brunswick
A40: Population | B40: =VLOOKUP(A40,'t005-eng'!A:B,2,0) -> 인구 | C40: 104 | D40: 104.1 | E40: ... | F40: 0.1 | G40: 1.6 | H40: 0.1 | I40: 1.6
A41: Labour force | B41: =VLOOKUP(A41,'t005-eng'!A:B,2,0) -> 경제활동인구 | C41: 67.6 | D41: 67.5 | E41: 0.8 | F41: -0.1 | G41: 0.8 | H41: -0.1 | I41: 1.2
A42: Employment | B42: =VLOOKUP(A42,'t005-eng'!A:B,2,0) -> 취업인구 | C42: 63.6 | D42: 63.1 | E42: 0.8 | F42: -0.5 | G42: 0.5 | H42: -0.8 | I42: 0.8
A43: Unemployment | B43: =VLOOKUP(A43,'t005-eng'!A:B,2,0) -> 실업인구 | C43: 4 | D43: 4.5 | E43: 0.4 | F43: 0.5 | G43: 0.4 | H43: 12.5 | I43: 9.8
A44: Participation rate | B44: =VLOOKUP(A44,'t005-eng'!A:B,2,0) -> 경제활동참가율 | C44: 65 | D44: 64.8 | E44: 0.8 | F44: -0.2 | G44: -0.3 | H44: ... | I44: ...
A45: Unemployment rate | B45: =VLOOKUP(A45,'t005-eng'!A:B,2,0) -> 실업률 | C45: 5.9 | D45: 6.7 | E45: 0.6 | F45: 0.8 | G45: 0.6 | H45: ... | I45: ...
A46: Employment rate | B46: =VLOOKUP(A46,'t005-eng'!A:B,2,0) -> 고용률 | C46: 61.2 | D46: 60.6 | E46: 0.8 | F46: -0.6 | G46: -0.5 | H46: ... | I46: ...
A47: Saguenay, Quebec
A48: Population | B48: =VLOOKUP(A48,'t005-eng'!A:B,2,0) -> 인구 | C48: 143.9 | D48: 144 | E48: ... | F48: 0.1 | G48: 2.1 | H48: 0.1 | I48: 1.5
A49: Labour force | B49: =VLOOKUP(A49,'t005-eng'!A:B,2,0) -> 경제활동인구 | C49: 84.9 | D49: 85.3 | E49: 1 | F49: 0.4 | G49: 5 | H49: 0.5 | I49: 6.2
A50: Employment | B50: =VLOOKUP(A50,'t005-eng'!A:B,2,0) -> 취업인구 | C50: 81.6 | D50: 81.7 | E50: 1 | F50: 0.1 | G50: 4.1 | H50: 0.1 | I50: 5.3
A51: Unemployment | B51: =VLOOKUP(A51,'t005-eng'!A:B,2,0) -> 실업인구 | C51: 3.4 | D51: 3.6 | E51: 0.3 | F51: 0.2 | G51: 0.8 | H51: 5.9 | I51: 28.6
A52: Participation rate | B52: =VLOOKUP(A52,'t005-eng'!A:B,2,0) -> 경제활동참가율 | C52: 59 | D52: 59.2 | E52: 0.7 | F52: 0.2 | G52: 2.6 | H52: ... | I52: ...
A53: Unemployment rate | B53: =VLOOKUP(A53,'t005-eng'!A:B,2,0) -> 실업률 | C53: 4 | D53: 4.2 | E53: 0.3 | F53: 0.2 | G53: 0.7 | H53: ... | I53: ...
A54: Employment rate | B54: =VLOOKUP(A54,'t005-eng'!A:B,2,0) -> 고용률 | C54: 56.7 | D54: 56.7 | E54: 0.7 | F54: 0 | G54: 2 | H54: ... | I54: ...
A55: Québec, Quebec
A56: Population | B56: =VLOOKUP(A56,'t005-eng'!A:B,2,0) -> 인구 | C56: 755.5 | D56: 756.2 | E56: ... | F56: 0.7 | G56: 14.1 | H56: 0.1 | I56: 1.9
A57: Labour force | B57: =VLOOKUP(A57,'t005-eng'!A:B,2,0) -> 경제활동인구 | C57: 515.3 | D57: 524.7 | E57: 3.4 | F57: 9.4 | G57: 36.1 | H57: 1.8 | I57: 7.4
A58: Employment | B58: =VLOOKUP(A58,'t005-eng'!A:B,2,0) -> 취업인구 | C58: 492.6 | D58: 499.6 | E58: 3.5 | F58: 7 | G58: 32.5 | H58: 1.4 | I58: 7
A59: Unemployment | B59: =VLOOKUP(A59,'t005-eng'!A:B,2,0) -> 실업인구 | C59: 22.7 | D59: 25.1 | E59: 1.2 | F59: 2.4 | G59: 3.6 | H59: 10.6 | I59: 16.7
A60: Participation rate | B60: =VLOOKUP(A60,'t005-eng'!A:B,2,0) -> 경제활동참가율 | C60: 68.2 | D60: 69.4 | E60: 0.5 | F60: 1.2 | G60: 3.6 | H60: ... | I60: ...
A61: Unemployment rate | B61: =VLOOKUP(A61,'t005-eng'!A:B,2,0) -> 실업률 | C61: 4.4 | D61: 4.8 | E61: 0.2 | F61: 0.4 | G61: 0.4 | H61: ... | I61: ...
A62: Employment rate | B62: =VLOOKUP(A62,'t005-eng'!A:B,2,0) -> 고용률 | C62: 65.2 | D62: 66.1 | E62: 0.5 | F62: 0.9 | G62: 3.2 | H62: ... | I62: ...
A63: Sherbrooke, Quebec
A64: Population | B64: =VLOOKUP(A64,'t005-eng'!A:B,2,0) -> 인구 | C64: 208.3 | D64: 208.5 | E64: ... | F64: 0.2 | G64: 4.1 | H64: 0.1 | I64: 2
A65: Labour force | B65: =VLOOKUP(A65,'t005-eng'!A:B,2,0) -> 경제활동인구 | C65: 126.9 | D65: 128.8 | E65: 1.3 | F65: 1.9 | G65: 2.2 | H65: 1.5 | I65: 1.7
A66: Employment | B66: =VLOOKUP(A66,'t005-eng'!A:B,2,0) -> 취업인구 | C66: 120.1 | D66: 122.2 | E66: 1.3 | F66: 2.1 | G66: 2.5 | H66: 1.7 | I66: 2.1
A67: Unemployment | B67: =VLOOKUP(A67,'t005-eng'!A:B,2,0) -> 실업인구 | C67: 6.8 | D67: 6.7 | E67: 0.5 | F67: -0.1 | G67: -0.2 | H67: -1.5 | I67: -2.9
A68: Participation rate | B68: =VLOOKUP(A68,'t005-eng'!A:B,2,0) -> 경제활동참가율 | C68: 60.9 | D68: 61.8 | E68: 0.6 | F68: 0.9 | G68: -0.1 | H68: ... | I68: ...
A69: Unemployment rate | B69: =VLOOKUP(A69,'t005-eng'!A:B,2,0) -> 실업률 | C69: 5.4 | D69: 5.2 | E69: 0.4 | F69: -0.2 | G69: -0.3 | H69: ... | I69: ...
A70: Employment rate | B70: =VLOOKUP(A70,'t005-eng'!A:B,2,0) -> 고용률 | C70: 57.7 | D70: 58.6 | E70: 0.6 | F70: 0.9 | G70: 0 | H70: ... | I70: ...
A71: Trois-Rivières, Quebec
A72: Population | B72: =VLOOKUP(A72,'t005-eng'!A:B,2,0) -> 인구 | C72: 147.6 | D72: 147.7 | E72: ... | F72: 0.1 | G72: 2.5 | H72: 0.1 | I72: 1.7
A73: Labour force | B73: =VLOOKUP(A73,'t005-eng'!A:B,2,0) -> 경제활동인구 | C73: 89.3 | D73: 91.1 | E73: 1 | F73: 1.8 | G73: 0.1 | H73: 2 | I73: 0.1
A74: Employment | B74: =VLOOKUP(A74,'t005-eng'!A:B,2,0) -> 취업인구 | C74: 84.4 | D74: 86.7 | E74: 1 | F74: 2.3 | G74: 1.6 | H74: 2.7 | I74: 1.9
A75: Unemployment | B75: =VLOOKUP(A75,'t005-eng'!A:B,2,0) -> 실업인구 | C75: 5 | D75: 4.5 | E75: 0.4 | F75: -0.5 | G75: -1.4 | H75: -10 | I75: -23.7
A76: Participation rate | B76: =VLOOKUP(A76,'t005-eng'!A:B,2,0) -> 경제활동참가율 | C76: 60.5 | D76: 61.7 | E76: 0.7 | F76: 1.2 | G76: -1 | H76: ... | I76: ...
A77: Unemployment rate | B77: =VLOOKUP(A77,'t005-eng'!A:B,2,0) -> 실업률 | C77: 5.6 | D77: 4.9 | E77: 0.4 | F77: -0.7 | G77: -1.6 | H77: ... | I77: ...
A78: Employment rate | B78: =VLOOKUP(A78,'t005-eng'!A:B,2,0) -> 고용률 | C78: 57.2 | D78: 58.7 | E78: 0.7 | F78: 1.5 | G78: 0.1 | H78: ... | I78: ...
A79: Drummondville, Quebec
A80: Population | B80: =VLOOKUP(A80,'t005-eng'!A:B,2,0) -> 인구 | C80: 83.9 | D80: 86.6 | E80: ... | F80: 2.7 | G80: 16.7 | H80: 3.2 | I80: 23.9
A81: Labour force | B81: =VLOOKUP(A81,'t005-eng'!A:B,2,0) -> 경제활동인구 | C81: 51.3 | D81: 55.7 | E81: 2 | F81: 4.4 | G81: 13.9 | H81: 8.6 | I81: 33.3
A82: Employment | B82: =VLOOKUP(A82,'t005-eng'!A:B,2,0) -> 취업인구 | C82: 48.4 | D82: 52.6 | E82: 2 | F82: 4.2 | G82: 12.2 | H82: 8.7 | I82: 30.2
A83: Unemployment | B83: =VLOOKUP(A83,'t005-eng'!A:B,2,0) -> 실업인구 | C83: 3 | D83: 3.2 | E83: 0.5 | F83: 0.2 | G83: 1.8 | H83: 6.7 | I83: 128.6
A84: Participation rate | B84: =VLOOKUP(A84,'t005-eng'!A:B,2,0) -> 경제활동참가율 | C84: 61.1 | D84: 64.3 | E84: 2 | F84: 3.2 | G84: 4.5 | H84: ... | I84: ...
A85: Unemployment rate | B85: =VLOOKUP(A85,'t005-eng'!A:B,2,0) -> 실업률 | C85: 5.8 | D85: 5.7 | E85: 1 | F85: -0.1 | G85: 2.4 | H85: ... | I85: ...
A86: Employment rate | B86: =VLOOKUP(A86,'t005-eng'!A:B,2,0) -> 고용률 | C86: 57.7 | D86: 60.7 | E86: 2 | F86: 3 | G86: 2.9 | H86: ... | I86: ...
A87: Montréal, Quebec
A88: Population | B88: =VLOOKUP(A88,'t005-eng'!A:B,2,0) -> 인구 | C88: 3869 | D88: 3871.7 | E88: ... | F88: 2.7 | G88: 81.3 | H88: 0.1 | I88: 2.1
A89: Labour force | B89: =VLOOKUP(A89,'t005-eng'!A:B,2,0) -> 경제활동인구 | C89: 2579.1 | D89: 2564.5 | E89: 8.4 | F89: -14.6 | G89: 37.8 | H89: -0.6 | I89: 1.5
A90: Employment | B90: =VLOOKUP(A90,'t005-eng'!A:B,2,0) -> 취업인구 | C90: 2403.1 | D90: 2397.6 | E90: 8.7 | F90: -5.5 | G90: 36.9 | H90: -0.2 | I90: 1.6
A91: Unemployment | B91: =VLOOKUP(A91,'t005-eng'!A:B,2,0) -> 실업인구 | C91: 176.1 | D91: 166.9 | E91: 4.8 | F91: -9.2 | G91: 0.8 | H91: -5.2 | I91: 0.5
A92: Participation rate | B92: =VLOOKUP(A92,'t005-eng'!A:B,2,0) -> 경제활동참가율 | C92: 66.7 | D92: 66.2 | E92: 0.2 | F92: -0.5 | G92: -0.5 | H92: ... | I92: ...
A93: Unemployment rate | B93: =VLOOKUP(A93,'t005-eng'!A:B,2,0) -> 실업률 | C93: 6.8 | D93: 6.5 | E93: 0.2 | F93: -0.3 | G93: -0.1 | H93: ... | I93: ...
A94: Employment rate | B94: =VLOOKUP(A94,'t005-eng'!A:B,2,0) -> 고용률 | C94: 62.1 | D94: 61.9 | E94: 0.2 | F94: -0.2 | G94: -0.4 | H94: ... | I94: ...
A95: Ottawa–Gatineau, Ontario/Quebec
A96: Population | B96: =VLOOKUP(A96,'t005-eng'!A:B,2,0) -> 인구 | C96: 1394.7 | D96: 1397 | E96: ... | F96: 2.3 | G96: 30.6 | H96: 0.2 | I96: 2.2
A97: Labour force | B97: =VLOOKUP(A97,'t005-eng'!A:B,2,0) -> 경제활동인구 | C97: 940.7 | D97: 932.4 | E97: 4.9 | F97: -8.3 | G97: -12 | H97: -0.9 | I97: -1.3
A98: Employment | B98: =VLOOKUP(A98,'t005-eng'!A:B,2,0) -> 취업인구 | C98: 877.5 | D98: 866.8 | E98: 4.9 | F98: -10.7 | G98: -19.2 | H98: -1.2 | I98: -2.2
A99: Unemployment | B99: =VLOOKUP(A99,'t005-eng'!A:B,2,0) -> 실업인구 | C99: 63.2 | D99: 65.7 | E99: 2.3 | F99: 2.5 | G99: 7.3 | H99: 4 | I99: 12.5
A100: Participation rate | B100: =VLOOKUP(A100,'t005-eng'!A:B,2,0) -> 경제활동참가율 | C100: 67.4 | D100: 66.7 | E100: 0.4 | F100: -0.7 | G100: -2.4 | H100: ... | I100: ...
A101: Unemployment rate | B101: =VLOOKUP(A101,'t005-eng'!A:B,2,0) -> 실업률 | C101: 6.7 | D101: 7 | E101: 0.2 | F101: 0.3 | G101: 0.8 | H101: ... | I101: ...
...

Sheet t008-eng
A1: Table 8 – Labour force characteristics by Montréal, Toronto and Vancouver census metropolitan areas, monthly, seasonally adjusted
A2: 해당 인구조사 도시별 노동력 특성, 월간, 계절조정계열
C4: August 2025 | D4: September 2025 | E4: Standard error{1} | F4: August to September 2025 | G4: September 2024 to September 2025 | H4: August to September 2025 | I4: September 2024 to September 2025
C5: thousands (except rates) | D5: thousands (except rates) | E5: thousands (except rates) | F5: change in thousands (except rates) | G5: change in thousands (except rates) | H5: % change | I5: % change
C6: 천명; 비율 제외 | D6: 천명; 비율 제외 | E6: 표준오차, 천명; 비율 제외 | F6: 전월대비 변화, 천명; 비율 제외 | G6: 전년동월대비 변화, 천명; 비율 제외 | H6: 전월대비 백분율 변화 | I6: 전년동월대비 백분율 변화
A7: Montréal, Quebec
A8: Population | B8: =VLOOKUP(A8,'t007-eng'!A:B,2,0) -> 인구 | C8: 3873.2 | D8: 3872.4 | E8: ... | F8: -0.8 | G8: 71 | H8: 0 | I8: 1.9
A9: Labour force | B9: =VLOOKUP(A9,'t007-eng'!A:B,2,0) -> 경제활동인구 | C9: 2570.7 | D9: 2565 | E9: 17.5 | F9: -5.7 | G9: 39.1 | H9: -0.2 | I9: 1.5
A10: Employment | B10: =VLOOKUP(A10,'t007-eng'!A:B,2,0) -> 취업인구 | C10: 2392.8 | D10: 2404.4 | E10: 17.5 | F10: 11.6 | G10: 33.1 | H10: 0.5 | I10: 1.4
A11: Unemployment | B11: =VLOOKUP(A11,'t007-eng'!A:B,2,0) -> 실업인구 | C11: 177.9 | D11: 160.6 | E11: 11.3 | F11: -17.3 | G11: 6 | H11: -9.7 | I11: 3.9
A12: Participation rate | B12: =VLOOKUP(A12,'t007-eng'!A:B,2,0) -> 경제활동참가율 | C12: 66.4 | D12: 66.2 | E12: 0.5 | F12: -0.2 | G12: -0.2 | H12: ... | I12: ...
A13: Unemployment rate | B13: =VLOOKUP(A13,'t007-eng'!A:B,2,0) -> 실업률 | C13: 6.9 | D13: 6.3 | E13: 0.4 | F13: -0.6 | G13: 0.2 | H13: ... | I13: ...
A14: Employment rate | B14: =VLOOKUP(A14,'t007-eng'!A:B,2,0) -> 고용률 | C14: 61.8 | D14: 62.1 | E14: 0.5 | F14: 0.3 | G14: -0.3 | H14: ... | I14: ...
A15: Toronto, Ontario
A16: Population | B16: =VLOOKUP(A16,'t007-eng'!A:B,2,0) -> 인구 | C16: 6118 | D16: 6122.8 | E16: ... | F16: 4.8 | G16: 101.7 | H16: 0.1 | I16: 1.7
A17: Labour force | B17: =VLOOKUP(A17,'t007-eng'!A:B,2,0) -> 경제활동인구 | C17: 4057.2 | D17: 4074.4 | E17: 24.7 | F17: 17.2 | G17: 81.8 | H17: 0.4 | I17: 2
A18: Employment | B18: =VLOOKUP(A18,'t007-eng'!A:B,2,0) -> 취업인구 | C18: 3697.4 | D18: 3718.2 | E18: 24 | F18: 20.8 | G18: 35.2 | H18: 0.6 | I18: 1
A19: Unemployment | B19: =VLOOKUP(A19,'t007-eng'!A:B,2,0) -> 실업인구 | C19: 359.8 | D19: 356.2 | E19: 16.1 | F19: -3.6 | G19: 46.6 | H19: -1 | I19: 15.1
A20: Participation rate | B20: =VLOOKUP(A20,'t007-eng'!A:B,2,0) -> 경제활동참가율 | C20: 66.3 | D20: 66.5 | E20: 0.4 | F20: 0.2 | G20: 0.2 | H20: ... | I20: ...
A21: Unemployment rate | B21: =VLOOKUP(A21,'t007-eng'!A:B,2,0) -> 실업률 | C21: 8.9 | D21: 8.7 | E21: 0.4 | F21: -0.2 | G21: 0.9 | H21: ... | I21: ...
A22: Employment rate | B22: =VLOOKUP(A22,'t007-eng'!A:B,2,0) -> 고용률 | C22: 60.4 | D22: 60.7 | E22: 0.4 | F22: 0.3 | G22: -0.5 | H22: ... | I22: ...
A23: Vancouver, British Columbia
A24: Population | B24: =VLOOKUP(A24,'t007-eng'!A:B,2,0) -> 인구 | C24: 2705 | D24: 2706.2 | E24: ... | F24: 1.2 | G24: 56.1 | H24: 0 | I24: 2.1
A25: Labour force | B25: =VLOOKUP(A25,'t007-eng'!A:B,2,0) -> 경제활동인구 | C25: 1794.3 | D25: 1803.9 | E25: 12.8 | F25: 9.6 | G25: 29.9 | H25: 0.5 | I25: 1.7
A26: Employment | B26: =VLOOKUP(A26,'t007-eng'!A:B,2,0) -> 취업인구 | C26: 1678.6 | D26: 1691.4 | E26: 12.5 | F26: 12.8 | G26: 31.1 | H26: 0.8 | I26: 1.9
A27: Unemployment | B27: =VLOOKUP(A27,'t007-eng'!A:B,2,0) -> 실업인구 | C27: 115.7 | D27: 112.6 | E27: 8 | F27: -3.1 | G27: -1 | H27: -2.7 | I27: -0.9
A28: Participation rate | B28: =VLOOKUP(A28,'t007-eng'!A:B,2,0) -> 경제활동참가율 | C28: 66.3 | D28: 66.7 | E28: 0.5 | F28: 0.4 | G28: -0.2 | H28: ... | I28: ...
A29: Unemployment rate | B29: =VLOOKUP(A29,'t007-eng'!A:B,2,0) -> 실업률 | C29: 6.4 | D29: 6.2 | E29: 0.4 | F29: -0.2 | G29: -0.2 | H29: ... | I29: ...
A30: Employment rate | B30: =VLOOKUP(A30,'t007-eng'!A:B,2,0) -> 고용률 | C30: 62.1 | D30: 62.5 | E30: 0.5 | F30: 0.4 | G30: -0.2 | H30: ... | I30: ...
A32: ... not applicable
A33: =HLOOKUP(A32,'t007-eng'!A352:A353,2,0) -> 결측치.
A35: 1. Average standard error of change between two consecutive months. See the "Data Quality" section of the Guide to the Labour Force Survey (71-543-G) for more information.
A36: =HLOOKUP(A35,'t002-eng'!$33:$34,2,0) -> 연속 두 달간 변화의 평균 표준 오차입니다. 자세한 정보는 the Labour Force Survey의 안내서 "Data Quality"를 참고하십시오.
A38: Note(s):
A39: The sum of individual categories may not always add up to the total as a result of rounding.
A40: =HLOOKUP(A39,'t001-eng'!$135:$136,2,0) -> 반올림으로 인해 개별 품목의 합이 항상 전품목의 총계에 합산되지 않을 수 있습니다.
A42: Source(s):
A43: Table 14-10-0460-02.

Sheet t009-eng
A1: Table 9 – Labour force characteristics by province and economic region,{1} three-month moving average ending in September 2024 and September 2025, unadjusted for seasonality
A2: 주별 및 경제적 지역별 노동력 특성, 3개월 이동평균, 2024.09.말과 2025.09.말, 원계열
B4: Population | C4: Labour force | D4: Employment | E4: Unemployment | F4: Participation rate | G4: Unemployment rate | H4: Employment rate
B5: thousands | C5: thousands | D5: thousands | E5: thousands | F5: % | G5: % | H5: %
B6: 인구, 천명 | C6: 경제활동인구, 천명 | D6: 취업인구, 천명 | E6: 실업인구, 천명 | F6: 경제활동참가율, % | G6: 실업률, % | H6: 고용률, %
A7: Canada
A8: 2024 | B8: 33994.9 | C8: 22389.9 | D8: 20882.3 | E8: 1507.5 | F8: 65.9 | G8: 6.7 | H8: 61.4
A9: 2025 | B9: 34643.7 | C9: 22768.4 | D9: 21110.8 | E9: 1657.5 | F9: 65.7 | G9: 7.3 | H9: 60.9
A10: Newfoundland and Labrador
A11: 2024 | B11: 467.8 | C11: 278.7 | D11: 254.5 | E11: 24.2 | F11: 59.6 | G11: 8.7 | H11: 54.4
A12: 2025 | B12: 471.6 | C12: 277.4 | D12: 252.3 | E12: 25.1 | F12: 58.8 | G12: 9 | H12: 53.5
A13: Avalon Peninsula
A14: 2024 | B14: 256.8 | C14: 159 | D14: 148.3 | E14: 10.7 | F14: 61.9 | G14: 6.7 | H14: 57.7
A15: 2025 | B15: 260.9 | C15: 163.8 | D15: 151.5 | E15: 12.4 | F15: 62.8 | G15: 7.6 | H15: 58.1
A16: South Coast–Burin Peninsula and Notre Dame–Central–Bonavista Bay
A17: 2024 | B17: 123 | C17: 64.2 | D17: 56.7 | E17: 7.5 | F17: 52.2 | G17: 11.7 | H17: 46.1
A18: 2025 | B18: 122.6 | C18: 61.8 | D18: 54.6 | E18: 7.3 | F18: 50.4 | G18: 11.8 | H18: 44.5
A19: West Coast–Northern Peninsula–Labrador
A20: 2024 | B20: 88 | C20: 55.5 | D20: 49.5 | E20: 5.9 | F20: 63.1 | G20: 10.6 | H20: 56.3
A21: 2025 | B21: 88.1 | C21: 51.7 | D21: 46.3 | E21: 5.5 | F21: 58.7 | G21: 10.6 | H21: 52.6
A22: Prince Edward Island
A23: 2024 | B23: 151.9 | C23: 103.5 | D23: 96.7 | E23: 6.8 | F23: 68.1 | G23: 6.6 | H23: 63.7
A24: 2025 | B24: 154.5 | C24: 105.2 | D24: 97.6 | E24: 7.6 | F24: 68.1 | G24: 7.2 | H24: 63.2
A25: Nova Scotia
A26: 2024 | B26: 906 | C26: 560.6 | D26: 522.7 | E26: 37.9 | F26: 61.9 | G26: 6.8 | H26: 57.7
A27: 2025 | B27: 914.5 | C27: 565.3 | D27: 527.3 | E27: 38 | F27: 61.8 | G27: 6.7 | H27: 57.7
A28: Cape Breton
A29: 2024 | B29: 120.9 | C29: 66.6 | D29: 60.8 | E29: 5.8 | F29: 55.1 | G29: 8.7 | H29: 50.3
A30: 2025 | B30: 120.2 | C30: 64.4 | D30: 58.4 | E30: 5.9 | F30: 53.6 | G30: 9.2 | H30: 48.6
A31: North Shore
A32: 2024 | B32: 137.6 | C32: 77.1 | D32: 72.4 | E32: 4.7 | F32: 56 | G32: 6.1 | H32: 52.6
A33: 2025 | B33: 138.1 | C33: 77.8 | D33: 71.6 | E33: 6.1 | F33: 56.3 | G33: 7.8 | H33: 51.8
A34: Annapolis Valley
A35: 2024 | B35: 113 | C35: 67.9 | D35: 63 | E35: 4.8 | F35: 60.1 | G35: 7.1 | H35: 55.8
A36: 2025 | B36: 113.7 | C36: 64.2 | D36: 60.7 | E36: 3.6 | F36: 56.5 | G36: 5.6 | H36: 53.4
A37: Southern
A38: 2024 | B38: 105.5 | C38: 54.3 | D38: 48.5 | E38: 5.9 | F38: 51.5 | G38: 10.9 | H38: 46
A39: 2025 | B39: 105.5 | C39: 57.1 | D39: 53.2 | E39: 4 | F39: 54.1 | G39: 7 | H39: 50.4
A40: Halifax
A41: 2024 | B41: 429 | C41: 294.7 | D41: 277.9 | E41: 16.8 | F41: 68.7 | G41: 5.7 | H41: 64.8
A42: 2025 | B42: 437.1 | C42: 301.8 | D42: 283.4 | E42: 18.4 | F42: 69 | G42: 6.1 | H42: 64.8
A43: New Brunswick
A44: 2024 | B44: 714.1 | C44: 438 | D44: 410 | E44: 28 | F44: 61.3 | G44: 6.4 | H44: 57.4
A45: 2025 | B45: 721.8 | C45: 447.4 | D45: 413.4 | E45: 34 | F45: 62 | G45: 7.6 | H45: 57.3
A46: Campbellton–Miramichi
A47: 2024 | B47: 138.1 | C47: 72.5 | D47: 65.3 | E47: 7.2 | F47: 52.5 | G47: 9.9 | H47: 47.3
A48: 2025 | B48: 137.9 | C48: 78.7 | D48: 70.6 | E48: 8.1 | F48: 57.1 | G48: 10.3 | H48: 51.2
A49: Moncton–Richibucto
A50: 2024 | B50: 220.8 | C50: 142 | D50: 134.9 | E50: 7.1 | F50: 64.3 | G50: 5 | H50: 61.1
A51: 2025 | B51: 225.8 | C51: 147.5 | D51: 135.9 | E51: 11.6 | F51: 65.3 | G51: 7.9 | H51: 60.2
A52: Saint John–St. Stephen
A53: 2024 | B53: 158.5 | C53: 100.7 | D53: 94.4 | E53: 6.3 | F53: 63.5 | G53: 6.3 | H53: 59.6
A54: 2025 | B54: 159.8 | C54: 98.7 | D54: 92 | E54: 6.7 | F54: 61.8 | G54: 6.8 | H54: 57.6
A55: Fredericton–Oromocto
A56: 2024 | B56: 129 | C56: 82.7 | D56: 77.4 | E56: 5.3 | F56: 64.1 | G56: 6.4 | H56: 60
A57: 2025 | B57: 130.6 | C57: 82.5 | D57: 77.1 | E57: 5.5 | F57: 63.2 | G57: 6.7 | H57: 59
A58: Edmundston–Woodstock
A59: 2024 | B59: 67.6 | C59: 40.1 | D59: 38.1 | E59: 2.1 | F59: 59.3 | G59: 5.2 | H59: 56.4
A60: 2025 | B60: 67.8 | C60: 40 | D60: 37.8 | E60: 2.1 | F60: 59 | G60: 5.3 | H60: 55.8
A61: Quebec
A62: 2024 | B62: 7463.6 | C62: 4864.6 | D62: 4593.8 | E62: 270.8 | F62: 65.2 | G62: 5.6 | H62: 61.5
A63: 2025 | B63: 7598.5 | C63: 4958 | D63: 4674.4 | E63: 283.6 | F63: 65.2 | G63: 5.7 | H63: 61.5
A64: Gaspésie–Îles-de-la-Madeleine
A65: 2024 | B65: 78.9 | C65: 42.9 | D65: 41.1 | E65: 1.8 | F65: 54.4 | G65: 4.2 | H65: 52.1
A66: 2025 | B66: 79.1 | C66: 41.7 | D66: 39.6 | E66: 2.1 | F66: 52.7 | G66: 5 | H66: 50.1
A67: Bas-Saint-Laurent
A68: 2024 | B68: 175 | C68: 111.8 | D68: 107.9 | E68: 3.9 | F68: 63.9 | G68: 3.5 | H68: 61.7
A69: 2025 | B69: 176.7 | C69: 98.3 | D69: 94.3 | E69: 4 | F69: 55.6 | G69: 4.1 | H69: 53.4
A70: Capitale-Nationale
A71: 2024 | B71: 671.7 | C71: 438.8 | D71: 419.8 | E71: 18.9 | F71: 65.3 | G71: 4.3 | H71: 62.5
A72: 2025 | B72: 683.9 | C72: 472.3 | D72: 450.2 | E72: 22.1 | F72: 69.1 | G72: 4.7 | H72: 65.8
A73: Chaudière-Appalaches
A74: 2024 | B74: 377.2 | C74: 251.1 | D74: 244.7 | E74: 6.4 | F74: 66.6 | G74: 2.5 | H74: 64.9
A75: 2025 | B75: 382.4 | C75: 261.7 | D75: 252.8 | E75: 8.9 | F75: 68.4 | G75: 3.4 | H75: 66.1
A76: Estrie
A77: 2024 | B77: 301.8 | C77: 185.5 | D77: 176.8 | E77: 8.7 | F77: 61.5 | G77: 4.7 | H77: 58.6
A78: 2025 | B78: 307.3 | C78: 189 | D78: 178.8 | E78: 10.1 | F78: 61.5 | G78: 5.3 | H78: 58.2
A79: Centre-du-Québec
A80: 2024 | B80: 217.6 | C80: 138.9 | D80: 133.8 | E80: 5.1 | F80: 63.8 | G80: 3.7 | H80: 61.5
A81: 2025 | B81: 220.6 | C81: 142.4 | D81: 137.7 | E81: 4.7 | F81: 64.6 | G81: 3.3 | H81: 62.4
A82: Montérégie
A83: 2024 | B83: 1376.8 | C83: 898.5 | D83: 856.9 | E83: 41.7 | F83: 65.3 | G83: 4.6 | H83: 62.2
A84: 2025 | B84: 1397.7 | C84: 920.5 | D84: 879.3 | E84: 41.2 | F84: 65.9 | G84: 4.5 | H84: 62.9
A85: Montréal
A86: 2024 | B86: 1822.7 | C86: 1206.7 | D86: 1110 | E86: 96.7 | F86: 66.2 | G86: 8 | H86: 60.9
A87: 2025 | B87: 1872.3 | C87: 1237.5 | D87: 1131 | E87: 106.5 | F87: 66.1 | G87: 8.6 | H87: 60.4
A88: Laval
A89: 2024 | B89: 381.7 | C89: 259.1 | D89: 241.6 | E89: 17.5 | F89: 67.9 | G89: 6.8 | H89: 63.3
A90: 2025 | B90: 388.3 | C90: 259.1 | D90: 242 | E90: 17.1 | F90: 66.7 | G90: 6.6 | H90: 62.3
A91: Lanaudière
A92: 2024 | B92: 459.2 | C92: 309.3 | D92: 285.8 | E92: 23.5 | F92: 67.4 | G92: 7.6 | H92: 62.2
A93: 2025 | B93: 467.5 | C93: 295.6 | D93: 282.6 | E93: 13 | F93: 63.2 | G93: 4.4 | H93: 60.4
A94: Laurentides
A95: 2024 | B95: 562.1 | C95: 375.5 | D95: 359.4 | E95: 16.1 | F95: 66.8 | G95: 4.3 | H95: 63.9
A96: 2025 | B96: 570.9 | C96: 381.5 | D96: 364.7 | E96: 16.8 | F96: 66.8 | G96: 4.4 | H96: 63.9
A97: Outaouais
A98: 2024 | B98: 348.9 | C98: 229.4 | D98: 213.9 | E98: 15.5 | F98: 65.7 | G98: 6.8 | H98: 61.3
A99: 2025 | B99: 354.9 | C99: 227.6 | D99: 210.3 | E99: 17.3 | F99: 64.1 | G99: 7.6 | H99: 59.3
A100: Abitibi-Témiscamingue
A101: 2024 | B101: 121 | C101: 78.7 | D101: 75.5 | E101: 3.2 | F101: 65 | G101: 4.1 | H101: 62.4
...

Sheet t010-eng
A1: Table 10 – Labour force characteristics by territory, three-month moving average, seasonally adjusted
A2: 준주별 노동력 특성, 3개월 이동평균, 계절조정계열
C4: August 2025 | D4: September 2025 | E4: Standard error{1} | F4: August to September 2025 | G4: September 2024 to September 2025 | H4: August to September 2025 | I4: September 2024 to September 2025
C5: thousands (except rates) | D5: thousands (except rates) | E5: thousands (except rates) | F5: change in thousands (except rates) | G5: change in thousands (except rates) | H5: % change | I5: % change
C6: 천명; 비율 제외 | D6: 천명; 비율 제외 | E6: 표준오차, 천명; 비율 제외 | F6: 전월대비 변화, 천명; 비율 제외 | G6: 전년동월대비 변화, 천명; 비율 제외 | H6: 전월대비 백분율 변화 | I6: 전년동월대비 백분율 변화
A7: Yukon
A8: Population | B8: =VLOOKUP(A8,'t008-eng'!A:B,2,0) -> 인구 | C8: 37.2 | D8: 37.3 | E8: ... | F8: 0.1 | G8: 0.8 | H8: 0.3 | I8: 2.2
A9: Labour force | B9: =VLOOKUP(A9,'t008-eng'!A:B,2,0) -> 경제활동인구 | C9: 28.4 | D9: 28.5 | E9: 0.2 | F9: 0.1 | G9: 0.3 | H9: 0.4 | I9: 1.1
A10: Employment | B10: =VLOOKUP(A10,'t008-eng'!A:B,2,0) -> 취업인구 | C10: 27.2 | D10: 27.3 | E10: 0.2 | F10: 0.1 | G10: 0.8 | H10: 0.4 | I10: 3
A11: Unemployment | B11: =VLOOKUP(A11,'t008-eng'!A:B,2,0) -> 실업인구 | C11: 1.2 | D11: 1.2 | E11: 0.1 | F11: 0 | G11: -0.5 | H11: 0 | I11: -29.4
A12: Participation rate | B12: =VLOOKUP(A12,'t008-eng'!A:B,2,0) -> 경제활동참가율 | C12: 76.3 | D12: 76.4 | E12: 0.6 | F12: 0.1 | G12: -0.9 | H12: ... | I12: ...
A13: Unemployment rate | B13: =VLOOKUP(A13,'t008-eng'!A:B,2,0) -> 실업률 | C13: 4.2 | D13: 4.2 | E13: 0.5 | F13: 0 | G13: -1.8 | H13: ... | I13: ...
A14: Employment rate | B14: =VLOOKUP(A14,'t008-eng'!A:B,2,0) -> 고용률 | C14: 73.1 | D14: 73.2 | E14: 0.6 | F14: 0.1 | G14: 0.6 | H14: ... | I14: ...
A15: Northwest Territories
A16: Population | B16: =VLOOKUP(A16,'t008-eng'!A:B,2,0) -> 인구 | C16: 35.3 | D16: 35.3 | E16: ... | F16: 0 | G16: 0.8 | H16: 0 | I16: 2.3
A17: Labour force | B17: =VLOOKUP(A17,'t008-eng'!A:B,2,0) -> 경제활동인구 | C17: 24 | D17: 24.1 | E17: 0.3 | F17: 0.1 | G17: -0.6 | H17: 0.4 | I17: -2.4
A18: Employment | B18: =VLOOKUP(A18,'t008-eng'!A:B,2,0) -> 취업인구 | C18: 22.7 | D18: 22.6 | E18: 0.3 | F18: -0.1 | G18: -0.8 | H18: -0.4 | I18: -3.4
A19: Unemployment | B19: =VLOOKUP(A19,'t008-eng'!A:B,2,0) -> 실업인구 | C19: 1.3 | D19: 1.5 | E19: 0.2 | F19: 0.2 | G19: 0.2 | H19: 15.4 | I19: 15.4
A20: Participation rate | B20: =VLOOKUP(A20,'t008-eng'!A:B,2,0) -> 경제활동참가율 | C20: 68 | D20: 68.3 | E20: 0.8 | F20: 0.3 | G20: -3.3 | H20: ... | I20: ...
A21: Unemployment rate | B21: =VLOOKUP(A21,'t008-eng'!A:B,2,0) -> 실업률 | C21: 5.4 | D21: 6.2 | E21: 0.6 | F21: 0.8 | G21: 0.9 | H21: ... | I21: ...
A22: Employment rate | B22: =VLOOKUP(A22,'t008-eng'!A:B,2,0) -> 고용률 | C22: 64.3 | D22: 64 | E22: 0.7 | F22: -0.3 | G22: -3.8 | H22: ... | I22: ...
A23: Nunavut
A24: Population | B24: =VLOOKUP(A24,'t008-eng'!A:B,2,0) -> 인구 | C24: 27 | D24: 27.1 | E24: ... | F24: 0.1 | G24: 0.6 | H24: 0.4 | I24: 2.3
A25: Labour force | B25: =VLOOKUP(A25,'t008-eng'!A:B,2,0) -> 경제활동인구 | C25: 15.9 | D25: 16.1 | E25: 0.2 | F25: 0.2 | G25: 0.4 | H25: 1.3 | I25: 2.5
A26: Employment | B26: =VLOOKUP(A26,'t008-eng'!A:B,2,0) -> 취업인구 | C26: 14.4 | D26: 14.7 | E26: 0.2 | F26: 0.3 | G26: 0.5 | H26: 2.1 | I26: 3.5
A27: Unemployment | B27: =VLOOKUP(A27,'t008-eng'!A:B,2,0) -> 실업인구 | C27: 1.6 | D27: 1.4 | E27: 0.1 | F27: -0.2 | G27: -0.1 | H27: -12.5 | I27: -6.7
A28: Participation rate | B28: =VLOOKUP(A28,'t008-eng'!A:B,2,0) -> 경제활동참가율 | C28: 58.9 | D28: 59.4 | E28: 0.8 | F28: 0.5 | G28: 0 | H28: ... | I28: ...
A29: Unemployment rate | B29: =VLOOKUP(A29,'t008-eng'!A:B,2,0) -> 실업률 | C29: 9.8 | D29: 8.8 | E29: 0.8 | F29: -1 | G29: -0.7 | H29: ... | I29: ...
A30: Employment rate | B30: =VLOOKUP(A30,'t008-eng'!A:B,2,0) -> 고용률 | C30: 53.1 | D30: 54.2 | E30: 0.7 | F30: 1.1 | G30: 0.4 | H30: ... | I30: ...
A32: ... not applicable
A33: =HLOOKUP(A32,'t008-eng'!A32:A33,2,0) -> 결측치.
A35: 1. Average standard error of change between two consecutive months. See the "Data Quality" section of the Guide to the Labour Force Survey (71-543-G) for more information.
A36: =HLOOKUP(A35,'t002-eng'!$33:$34,2,0) -> 연속 두 달간 변화의 평균 표준 오차입니다. 자세한 정보는 the Labour Force Survey의 안내서 "Data Quality"를 참고하십시오.
A38: Source(s):
A39: Table 14-10-0292-02.

Sheet t011-eng
A1: Table 11 – Average usual hours and wages of employees by selected characteristics, unadjusted for seasonality
A2: 특정 특성별 평균 근로시간 및 근로임금, 원계열
C4: Employees | G4: Full-time | J4: Part-time
C5: Number | D5: Average weekly hours | E5: Average weekly wages | F5: Average hourly wages | G5: Number | H5: Average weekly hours | I5: Average weekly wages | J5: Number | K5: Average weekly hours | L5: Average weekly wages
C6: thousands | E6: current dollars | F6: current dollars | G6: thousands | I6: current dollars | J6: thousands | L6: current dollars
C7: 근로자 | G7: 전일제 근로자 | J7: 파트타임 근로자
C8: 천명 | D8: 평균 주당 근로시간 | E8: 평균 주당 임금, 경상 달러 | F8: 평균 시간당 임금, 경상 달러 | G8: 천명 | H8: 평균 주당 근로시간 | I8: 평균 주당 임금, 경상 달러 | J8: 천명 | K8: 평균 주당 근로시간 | L8: 평균 주당 임금, 경상 달러
A9: 45901
A10: 15 years and over | B10: 15세 이상 | C10: 18346.5 | D10: 35.5 | E10: 1346.97 | F10: 36.78 | G10: 15309.4 | H10: 39.2 | I10: 1526.5 | J10: 3037.2 | K10: 16.8 | L10: 442.02
A11: 15 to 24 years | B11: 15 - 24세 | C11: 2507.9 | D11: 26.4 | E11: 616.2 | F11: 21.86 | G11: 1201.5 | H11: 39 | I11: 979.81 | J11: 1306.5 | K11: 14.8 | L11: 281.81
A12: 25 years and over | B12: 25세 이상 | C12: 15838.6 | D12: 36.9 | E12: 1462.69 | F12: 39.14 | G12: 14107.9 | H12: 39.2 | I12: 1573.06 | J12: 1730.7 | K12: 18.3 | L12: 562.97
A13: Men+{1} | B13: 남성 | C13: 9443.2 | D13: 37.4 | E13: 1493.45 | F13: 38.94 | G13: 8359 | H13: 40.1 | I13: 1633.15 | J13: 1084.2 | K13: 16.5 | L13: 416.4
A14: Women+{1} | B14: 여성 | C14: 8903.3 | D14: 33.4 | E14: 1191.61 | F14: 34.49 | G14: 6950.3 | H14: 38 | I14: 1398.24 | J14: 1952.9 | K14: 17 | L14: 456.25
A15: Union coverage | B15: 노조 포함 여부
A16: Union coverage | B16: 노조 포함 | C16: 5648.3 | D16: 36.1 | E16: 1428.23 | F16: 39.29 | G16: 4937 | H16: 38.7 | I16: 1544.71 | J16: 711.3 | K16: 17.8 | L16: 619.83
A17: No union coverage | B17: 노조 미포함 | C17: 12698.2 | D17: 35.2 | E17: 1310.83 | F17: 35.66 | G17: 10372.3 | H17: 39.4 | I17: 1517.83 | J17: 2325.8 | K17: 16.5 | L17: 387.65
A18: Job permanency | B18: 상용 근로 여부
A19: Permanent employees | B19: 상용 근로자 | C19: 16127 | D19: 36.5 | E19: 1414.27 | F19: 37.87 | G19: 14065.2 | H19: 39.2 | I19: 1552.36 | J19: 2061.8 | K19: 17.8 | L19: 472.26
A20: Temporary employees | B20: 임시 근로자 | C20: 2219.5 | D20: 28.4 | E20: 857.99 | F20: 28.88 | G20: 1244.2 | H20: 39.1 | I20: 1234.17 | J20: 975.3 | K20: 14.7 | L20: 378.11
A21: Occupation | B21: 직업
A22: Management occupations | B22: 관리직 | C22: 1447.2 | D22: 39.2 | E22: 2348.1 | F22: 60.1 | G22: 1414.6 | H22: 39.7 | I22: 2381.42 | J22: 32.5 | K22: 17.1 | L22: 899.57
A23: Business, finance and administration occupations, except management | B23: 사업, 금융 및 행정직; 관리직 제외 | C23: 3077.6 | D23: 35.8 | E23: 1310.3 | F23: 36.13 | G23: 2723 | H23: 38.2 | I23: 1416.6 | J23: 354.6 | K23: 17.4 | L23: 494.05
A24: Natural and applied sciences and related occupations, except management | B24: 자연, 응용 과학 및 관련직; 관리직 제외 | C24: 1811 | D24: 38.2 | E24: 1878.43 | F24: 49.13 | G24: 1742.4 | H24: 38.9 | I24: 1924.19 | J24: 68.7 | K24: 18.4 | L24: 717.36
A25: Health occupations, except management | B25: 보건직; 관리직 제외 | C25: 1448.9 | D25: 35.1 | E25: 1360.25 | F25: 38.72 | G25: 1186.8 | H25: 38.6 | I25: 1494.37 | J25: 262 | K25: 19.5 | L25: 752.83
A26: Occupations in education, law and social, community and government services, except management | B26: 교육, 법률, 사회, 지역사회 및 정부 서비스직; 관리직 제외 | C26: 2296 | D26: 34 | E26: 1463.77 | F26: 42.35 | G26: 1910.4 | H26: 37.7 | I26: 1639.99 | J26: 385.7 | K26: 15.7 | L26: 590.86
A27: Occupations in art, culture, recreation and sport, except management | B27: 예술, 문화, 여가 및 운동 직종; 관리직 제외 | C27: 382.9 | D27: 28.1 | E27: 1026.37 | F27: 32.85 | G27: 230.2 | H27: 38.9 | I27: 1501.01 | J27: 152.7 | K27: 11.9 | L27: 310.87
A28: Sales and service occupations, except management | B28: 판매 및 서비스직; 관리직 제외 | C28: 4073.9 | D28: 30.3 | E28: 767.07 | F28: 23.9 | G28: 2565.9 | H28: 38.3 | I28: 1026.18 | J28: 1508 | K28: 16.7 | L28: 326.17
A29: Trades, transport and equipment operators and related occupations, except management | B29: 무역, 운송, 장비 운영자 및 관련직; 관리직 제외 | C29: 2711.8 | D29: 39.8 | E29: 1353.86 | F29: 33.62 | G29: 2512.1 | H29: 41.5 | I29: 1423.35 | J29: 199.7 | K29: 17.9 | L29: 479.63
A30: Natural resources, agriculture and related production occupations, except management | B30: 천연자원, 농업 및 관련 생산 직종; 관리직 제외 | C30: 296.3 | D30: 41.9 | E30: 1388.03 | F30: 31.4 | G30: 258.7 | H30: 45.7 | I30: 1541.27 | J30: 37.6 | K30: 15.8 | L30: 333.92
A31: Occupations in manufacturing and utilities, except management | B31: 제조 및 유틸리티업 직종; 관리직 제외 | C31: 801 | D31: 39.2 | E31: 1182.89 | F31: 29.78 | G31: 765.4 | H31: 40.1 | I31: 1217.16 | J31: 35.7 | K31: 19.6 | L31: 447.41
A33: 45536
A34: 15 years and over | B34: =VLOOKUP(A34,$A$10:$B$31,2,0) -> 15세 이상 | C34: 18153.5 | D34: 35.5 | E34: 1306.72 | F34: 35.61 | G34: 15082.1 | H34: 39.2 | I34: 1486.15 | J34: 3071.4 | K34: 16.8 | L34: 425.65
A35: 15 to 24 years | B35: =VLOOKUP(A35,$A$10:$B$31,2,0) -> 15 - 24세 | C35: 2523.8 | D35: 26.1 | E35: 600.62 | F35: 21.55 | G35: 1205.8 | H35: 38.7 | I35: 960.19 | J35: 1318 | K35: 14.6 | L35: 271.67
A36: 25 years and over | B36: =VLOOKUP(A36,$A$10:$B$31,2,0) -> 25세 이상 | C36: 15629.7 | D36: 37 | E36: 1420.73 | F36: 37.88 | G36: 13876.3 | H36: 39.3 | I36: 1531.85 | J36: 1753.4 | K36: 18.5 | L36: 541.4
A37: Men+{1} | B37: =VLOOKUP(A37,$A$10:$B$31,2,0) -> 남성 | C37: 9319 | D37: 37.4 | E37: 1453.95 | F37: 37.9 | G37: 8196.1 | H37: 40.3 | I37: 1596.95 | J37: 1122.9 | K37: 16.6 | L37: 410.13
A38: Women+{1} | B38: =VLOOKUP(A38,$A$10:$B$31,2,0) -> 여성 | C38: 8834.4 | D38: 33.4 | E38: 1151.42 | F38: 33.2 | G38: 6886 | H38: 38 | I38: 1354.25 | J38: 1948.5 | K38: 17 | L38: 434.6
A39: Union coverage | B39: =VLOOKUP(A39,$A$10:$B$31,2,0) -> 노조 포함 여부
A40: Union coverage | B40: =VLOOKUP(A40,$A$10:$B$31,2,0) -> 노조 포함 여부 | C40: 5578.9 | D40: 36.1 | E40: 1377.25 | F40: 37.7 | G40: 4878.4 | H40: 38.7 | I40: 1490.07 | J40: 700.5 | K40: 18.5 | L40: 591.49
A41: No union coverage | B41: =VLOOKUP(A41,$A$10:$B$31,2,0) -> 노조 미포함 | C41: 12574.6 | D41: 35.2 | E41: 1275.43 | F41: 34.69 | G41: 10203.7 | H41: 39.5 | I41: 1484.27 | J41: 2371 | K41: 16.3 | L41: 376.66
A42: Job permanency | B42: =VLOOKUP(A42,$A$10:$B$31,2,0) -> 상용 근로 여부
A43: Permanent employees | B43: =VLOOKUP(A43,$A$10:$B$31,2,0) -> 상용 근로자 | C43: 16145 | D43: 36.4 | E43: 1366.32 | F43: 36.55 | G43: 14010 | H43: 39.2 | I43: 1505.6 | J43: 2135 | K43: 17.7 | L43: 452.38
A44: Temporary employees | B44: =VLOOKUP(A44,$A$10:$B$31,2,0) -> 임시 근로자 | C44: 2008.4 | D44: 27.9 | E44: 827.6 | F44: 28.04 | G44: 1072.1 | H44: 39.4 | I44: 1231.89 | J44: 936.4 | K44: 14.8 | L44: 364.72
A45: Occupation | B45: =VLOOKUP(A45,$A$10:$B$31,2,0) -> 직업
A46: Management occupations | B46: =VLOOKUP(A46,$A$10:$B$31,2,0) -> 관리직 | C46: 1430.9 | D46: 39.6 | E46: 2434.01 | F46: 61.68 | G46: 1402.4 | H46: 40 | I46: 2464.07 | J46: 28.6 | K46: 16.5 | L46: 958.9
A47: Business, finance and administration occupations, except management | B47: =VLOOKUP(A47,$A$10:$B$31,2,0) -> 사업, 금융 및 행정직; 관리직 제외 | C47: 3015.1 | D47: 35.8 | E47: 1250.24 | F47: 34.56 | G47: 2674.2 | H47: 38.2 | I47: 1348.06 | J47: 340.9 | K47: 17 | L47: 482.86
A48: Natural and applied sciences and related occupations, except management | B48: =VLOOKUP(A48,$A$10:$B$31,2,0) -> 자연, 응용 과학 및 관련직; 관리직 제외 | C48: 1695.8 | D48: 38.5 | E48: 1831.46 | F48: 47.38 | G48: 1651.4 | H48: 39.1 | I48: 1863.21 | J48: 44.4 | K48: 17.9 | L48: 651.37
A49: Health occupations, except management | B49: =VLOOKUP(A49,$A$10:$B$31,2,0) -> 보건직; 관리직 제외 | C49: 1420 | D49: 34.5 | E49: 1294.65 | F49: 37.18 | G49: 1149 | H49: 38.1 | I49: 1440.51 | J49: 271 | K49: 19.3 | L49: 676.2
A50: Occupations in education, law and social, community and government services, except management | B50: =VLOOKUP(A50,$A$10:$B$31,2,0) -> 교육, 법률, 사회, 지역사회 및 정부 서비스직; 관리직 제외 | C50: 2305.7 | D50: 34 | E50: 1386.21 | F50: 40.05 | G50: 1880.3 | H50: 37.8 | I50: 1569.44 | J50: 425.3 | K50: 16.9 | L50: 576.16
A51: Occupations in art, culture, recreation and sport, except management | B51: =VLOOKUP(A51,$A$10:$B$31,2,0) -> 예술, 문화, 여가 및 운동 직종; 관리직 제외 | C51: 370 | D51: 28 | E51: 940.58 | F51: 30.91 | G51: 222.5 | H51: 38.3 | I51: 1356.12 | J51: 147.5 | K51: 12.6 | L51: 313.47
A52: Sales and service occupations, except management | B52: =VLOOKUP(A52,$A$10:$B$31,2,0) -> 판매 및 서비스직; 관리직 제외 | C52: 3987.3 | D52: 30 | E52: 736 | F52: 23.07 | G52: 2464.6 | H52: 38.4 | I52: 999.03 | J52: 1522.7 | K52: 16.4 | L52: 310.28
A53: Trades, transport and equipment operators and related occupations, except management | B53: =VLOOKUP(A53,$A$10:$B$31,2,0) -> 무역, 운송, 장비 운영자 및 관련직; 관리직 제외 | C53: 2747.2 | D53: 39.7 | E53: 1320.06 | F53: 32.86 | G53: 2534.2 | H53: 41.5 | I53: 1387.24 | J53: 213 | K53: 18.8 | L53: 520.92
A54: Natural resources, agriculture and related production occupations, except management | B54: =VLOOKUP(A54,$A$10:$B$31,2,0) -> 천연자원, 농업 및 관련 생산 직종; 관리직 제외 | C54: 328.6 | D54: 41.1 | E54: 1324.29 | F54: 30.79 | G54: 289.8 | H54: 44.6 | I54: 1458.6 | J54: 38.7 | K54: 15.2 | L54: 319.45
A55: Occupations in manufacturing and utilities, except management | B55: =VLOOKUP(A55,$A$10:$B$31,2,0) -> 제조 및 유틸리티업 직종; 관리직 제외 | C55: 852.9 | D55: 39.3 | E55: 1154.15 | F55: 28.98 | G55: 813.7 | H55: 40.3 | I55: 1190.04 | J55: 39.2 | K55: 18.2 | L55: 409.24
A57: 1. The category "Men+" includes men, as well as some non-binary persons, while the category "Women+" includes women, as well as some non-binary persons. Given that the non-binary population is small, data aggregation to a two-category gender variable is necessary to protect the confidentiality of responses provided. Individuals in the category "non-binary persons" are distributed into the other two gender categories and are denoted by the "+" symbol.
A64: =IF(A57='t001-eng'!$A$119,'t001-eng'!$A$126) -> Men+가 남성과 일부 논바이너리를 포함하며, Women+가 여성과 일부 논바이너리를 포함합니다. 논바이너리 인구가 작기 때문에 두 범주의 성별 변수의 자료 합계가 제공받은 응답의 기밀성을 보호하기 위해 필요합니다. 논바이너리 개별 인구가 나머지 두 성별 범주로 분류되며 + 기호로 표시됩니다.
A69: Source(s):
A70: Table 14-10-0320-02.

Sheet t012-eng
A1: Table 12 – Regional unemployment rates used by the Employment Insurance program,{1}, three-month moving average, seasonally adjusted
A2: 고용보험 프로그램에서 사용되는 지역 실업률, 3개월 이동평균, 계절조정계열
B4: October 12, 2025 to November 8, 2025
B5: %
A6: Newfoundland and Labrador
A7: St. John's | B7: 6.9
A8: Newfoundland and Labrador{2} | B8: 14
A10: Prince Edward Island{3}
A11: Charlottetown | B11: 6.7
A12: Prince Edward Island{4} | B12: 11
A14: Nova Scotia
A15: Eastern Nova Scotia | B15: 9.4
A16: Western Nova Scotia | B16: 6.4
A17: Halifax | B17: 5.8
A19: New Brunswick
A20: Fredericton–Moncton–Saint John | B20: 6.9
A21: Madawaska–Charlotte | B21: 6.1
A22: Restigouche–Albert | B22: 11.2
A24: Quebec
A25: Gaspésie–Îles-de-la-Madeleine | B25: 7.7
A26: Québec | B26: 4.9
A27: Trois-Rivières | B27: 5
A28: South Central Quebec | B28: 3
A29: Sherbrooke | B29: 5.2
A30: Montérégie | B30: 4.2
A31: Montréal | B31: 6.7
A32: Central Quebec | B32: 5
A33: North Western Quebec | B33: 6.2
A34: Lower Saint Lawrence and North Shore | B34: 5.5
A35: Hull | B35: 6.9
A36: Chicoutimi–Jonquière | B36: 4.3
A38: Ontario
A39: Ottawa | B39: 7.1
A40: Eastern Ontario | B40: 5.6
A41: Kingston | B41: 6.1
A42: Central Ontario | B42: 6.8
A43: Oshawa | B43: 8.8
A44: Toronto | B44: 9
A45: Hamilton | B45: 7.2
A46: St. Catharines | B46: 7.2
A47: London | B47: 6.4
A48: Niagara | B48: 8.8
A49: Windsor | B49: 11.4
A50: Kitchener | B50: 7.1
... A55: Northern Ontario | B55: 6.5
A57: Manitoba
A58: Winnipeg | B58: 6.2
A59: Southern Manitoba | B59: 5.9
A60: Northern Manitoba | B60: 27.1
A62: Saskatchewan
A63: Regina | B63: 6.4
A64: Saskatoon | B64: 5.2
A65: Southern Saskatchewan | B65: 6.6
A66: Northern Saskatchewan | B66: 13.1
A68: Alberta
A69: Calgary | B69: 8
A70: Edmonton | B70: 8.5
A71: Northern Alberta | B71: 9.3
A72: Southern Alberta | B72: 8
A74: British Columbia
A75: Southern Interior British Columbia | B75: 7.3
A76: Abbotsford | B76: 7.4
A77: Vancouver | B77: 6.4
A78: Victoria | B78: 5.1
A79: Southern Coastal British Columbia | B79: 6.7
A80: Northern British Columbia | B80: 9.8
A82: Territories{3},{5}
A83: Whitehorse | B83: 3.9
A84: Yukon{6} | B84: 6.4
A85: Yellowknife | B85: 3.7
A86: Northwest Territories{7} | B86: 9.4
A87: Iqaluit | B87: 5
A88: Nunavut{8} | B88: 10.3
A90: 1. The boundaries of these employment insurance regions are determined by Employment and Social Development Canada (ESDC). For geographic descriptions and maps of these regions, see the ESDC website.
A91: 고용보험 지역의 경게는 캐나다 고용사회개발부에서 결정합니다. 지리적 설명과 지도는 고용사회개발부 웹사이트에서 확인하십시오.
A93: 2. This region excludes St. John's.
A94: 이 지역은 St. John's를 제외합니다.
A96: 3. Prince Edward Island as well as the territories are each comprised of two regions effective October 12, 2014.
A97: Prince Edward Island 주와 준주는 2014.10.12.부로 각각 두 개의 지역으로 구성됩니다.
A99: 4. This region excludes Charlottetown.
A100: 이 지역은 Charlottetown를 제외합니다.
A102: 5. The monthly regional unemployment rate for EI purposes in the territories is subject to the highest between the seasonally adjusted three-month moving average and twelve-month moving average.
A103: 준주에서 고용보험 목적의 월간 지역 실업률은 계절조정된 3개월 이동평균과 12개월 이동평균 중 가장 높은 값을 따릅니다.
A105: 6. This region excludes Whitehorse.
A106: 이 지역은 Whitehorse를 제외합니다.
... A119: Table 14-10-0354-01.

Sheet 출처
B2: Labour Force Survey
B3: 자료 원본: | C3: https://www150.statcan.gc.ca/n1/daily-quotidien/251010/dq251010a-eng.htm
