Workbook

Sheet t001-eng
A1: Table 1 – Labour force characteristics by age group and gender{1}, seasonally adjusted
A2: 연령대별 및 성별 노동력 특성, 계절조정계열
C4: August 2025 | D4: September 2025 | E4: Standard error{2} | F4: August to September 2025 | G4: September 2024 to September 2025 | H4: August to September 2025 | I4: September 2024 to September 2025
C5: thousands (except rates) | D5: thousands (except rates) | E5: thousands (except rates) | F5: change in thousands (except rates) | G5: change in thousands (except rates) | H5: % change | I5: % change
C6: 천명; 비율 제외 | D6: 천명; 비율 제외 | E6: 표준오차, 천명; 비율 제외 | F6: 전월대비 변화, 천명; 비율 제외 | G6: 전년동월대비 변화, 천명; 비율 제외 | H6: 전월대비 백분율 변화 | I6: 전년동월대비 백분율 변화
A7: 15 years and over, total - gender | B7: 15세 이상, 전체
A8: Population | B8: 인구 | C8: 34644.2 | D8: 34671.9 | E8: ... | F8: 27.7 | G8: 582.1 | H8: 0.1 | I8: 1.7
A9: Labour force | B9: 경제활동인구 | C9: 22549.5 | D9: 22621.8 | E9: 32.4 | F9: 72.3 | G9: 384.2 | H9: 0.3 | I9: 1.7
A10: Employment | B10: 취업인구 | C10: 20954.9 | D10: 21015.3 | E10: 31.6 | F10: 60.4 | G10: 236 | H10: 0.3 | I10: 1.1
A11: Full-time employment | B11: 전일제 취업인구 | C11: 17149.9 | D11: 17256 | E11: 42 | F11: 106.1 | G11: 223.9 | H11: 0.6 | I11: 1.3
A12: Part-time employment | B12: 파트타임 취업인구 | C12: 3804.9 | D12: 3759.3 | E12: 38.5 | F12: -45.6 | G12: 12.1 | H12: -1.2 | I12: 0.3
A13: Unemployment | B13: 실업인구 | C13: 1594.6 | D13: 1606.5 | E13: 27.2 | F13: 11.9 | G13: 148.2 | H13: 0.7 | I13: 10.2
A14: Participation rate | B14: 경제활동참가율 | C14: 65.1 | D14: 65.2 | E14: 0.1 | F14: 0.1 | G14: 0 | H14: ... | I14: ...
A15: Unemployment rate | B15: 실업률 | C15: 7.1 | D15: 7.1 | E15: 0.1 | F15: 0 | G15: 0.5 | H15: ... | I15: ...
A16: Employment rate | B16: 고용률 | C16: 60.5 | D16: 60.6 | E16: 0.1 | F16: 0.1 | G16: -0.4 | H16: ... | I16: ...
A18: 15 to 24 years, total - gender | B18: 15 -24세, 전체
A19: Population | B19: 인구 | C19: 5017.5 | D19: 5013.2 | E19: ... | F19: -4.3 | G19: 50.2 | H19: -0.1 | I19: 1
A20: Labour force | B20: 경제활동인구 | C20: 3155.2 | D20: 3157.7 | E20: 19 | F20: 2.5 | G20: 53.5 | H20: 0.1 | I20: 1.7
A21: Employment | B21: 취업인구 | C21: 2699.1 | D21: 2694.8 | E21: 17.2 | F21: -4.3 | G21: 8.6 | H21: -0.2 | I21: 0.3
A22: Full-time employment | B22: 전일제 취업인구 | C22: 1337.3 | D22: 1337.6 | E22: 20.4 | F22: 0.3 | G22: 6.3 | H22: 0 | I22: 0.5
A23: Part-time employment | B23: 파트타임 취업인구 | C23: 1361.8 | D23: 1357.3 | E23: 21.7 | F23: -4.5 | G23: 2.4 | H23: -0.3 | I23: 0.2
A24: Unemployment | B24: 실업인구 | C24: 456 | D24: 462.9 | E24: 15.8 | F24: 6.9 | G24: 44.8 | H24: 1.5 | I24: 10.7
A25: Participation rate | B25: 경제활동참가율 | C25: 62.9 | D25: 63 | E25: 0.4 | F25: 0.1 | G25: 0.5 | H25: ... | I25: ...
A26: Unemployment rate | B26: 실업률 | C26: 14.5 | D26: 14.7 | E26: 0.5 | F26: 0.2 | G26: 1.2 | H26: ... | I26: ...
A27: Employment rate | B27: 고용률 | C27: 53.8 | D27: 53.8 | E27: 0.3 | F27: 0 | G27: -0.3 | H27: ... | I27: ...
A29: 25 years and over, total - gender | B29: 25세 이상, 전체
A30: Population | B30: 인구 | C30: 29626.7 | D30: 29658.7 | E30: ... | F30: 32 | G30: 531.9 | H30: 0.1 | I30: 1.8
A31: Labour force | B31: 경제활동인구 | C31: 19394.3 | D31: 19464.1 | E31: 26.2 | F31: 69.8 | G31: 330.7 | H31: 0.4 | I31: 1.7
A32: Employment | B32: 취업인구 | C32: 18255.7 | D32: 18320.4 | E32: 26.3 | F32: 64.7 | G32: 227.3 | H32: 0.4 | I32: 1.3
A33: Full-time employment | B33: 전일제 취업인구 | C33: 15812.6 | D33: 15918.4 | E33: 36.2 | F33: 105.8 | G33: 217.6 | H33: 0.7 | I33: 1.4
A34: Part-time employment | B34: 파트타임 취업인구 | C34: 2443.1 | D34: 2402 | E34: 31.5 | F34: -41.1 | G34: 9.7 | H34: -1.7 | I34: 0.4
A35: Unemployment | B35: 실업인구 | C35: 1138.6 | D35: 1143.7 | E35: 21.8 | F35: 5.1 | G35: 103.4 | H35: 0.4 | I35: 9.9
A36: Participation rate | B36: 경제활동참가율 | C36: 65.5 | D36: 65.6 | E36: 0.1 | F36: 0.1 | G36: -0.1 | H36: ... | I36: ...
A37: Unemployment rate | B37: 실업률 | C37: 5.9 | D37: 5.9 | E37: 0.1 | F37: 0 | G37: 0.5 | H37: ... | I37: ...
A38: Employment rate | B38: 고용률 | C38: 61.6 | D38: 61.8 | E38: 0.1 | F38: 0.2 | G38: -0.3 | H38: ... | I38: ...
A40: 25 years and over, men+ | B40: 25세 이상, 남성
A41: Population | B41: 인구 | C41: 14617.1 | D41: 14632.8 | E41: ... | F41: 15.7 | G41: 257 | H41: 0.1 | I41: 1.8
A42: Labour force | B42: 경제활동인구 | C42: 10310.9 | D42: 10323.9 | E42: 17.2 | F42: 13 | G42: 153.4 | H42: 0.1 | I42: 1.5
A43: Employment | B43: 취업인구 | C43: 9666.7 | D43: 9691.9 | E43: 18.2 | F43: 25.2 | G43: 109.5 | H43: 0.3 | I43: 1.1
A44: Full-time employment | B44: 전일제 취업인구 | C44: 8797.9 | D44: 8879.3 | E44: 24.1 | F44: 81.4 | G44: 127.4 | H44: 0.9 | I44: 1.5
...

Sheet t002-eng
A1: Table 2 – Employment by class of worker and industry, seasonally adjusted
A2: 근로자 계층별 및 산업별 취업인구, 계절조정계열
C4: August 2025 | D4: September 2025 | E4: Standard error{1} | F4: August to September 2025 | G4: September 2024 to September 2025 | H4: August to September 2025 | I4: September 2024 to September 2025
C5: thousands | D5: thousands | E5: thousands | F5: change in thousands | G5: change in thousands | H5: % change | I5: % change
C6: 천명 | D6: 천명 | E6: 표준오차, 천명 | F6: 전월대비 변화, 천명 | G6: 전년동월대비 변화, 천명 | H6: 전월대비 백분율 변화 | I6: 전년동월대비 백분율 변화
A7: Class of worker | B7: 근로자 계층
A8: Employees | B8: 근로자 | C8: 18271.2 | D8: 18323.8 | E8: 35.7 | F8: 52.6 | G8: 228.3 | H8: 0.3 | I8: 1.3
A9: Public sector employees | B9: 공공부문 근로자 | C9: 4540.2 | D9: 4570.9 | E9: 19.5 | F9: 30.7 | G9: 105.7 | H9: 0.7 | I9: 2.4
A10: Private sector employees | B10: 민간부문 근로자 | C10: 13731 | D10: 13752.9 | E10: 34.7 | F10: 21.9 | G10: 122.7 | H10: 0.2 | I10: 0.9
A11: Self-employed | B11: 자영업자 | C11: 2683.6 | D11: 2691.5 | E11: 22.6 | F11: 7.9 | G11: 7.7 | H11: 0.3 | I11: 0.3
A13: Total employed, all industries | B13: 전취업인구, 전산업 | C13: 20954.9 | D13: 21015.3 | E13: 31.6 | F13: 60.4 | G13: 236 | H13: 0.3 | I13: 1.1
A14: Goods-producing sector | B14: 상품 생산 부문 | C14: 4167.3 | D14: 4209.3 | E14: 19.5 | F14: 42 | G14: 10.9 | H14: 1 | I14: 0.3
A15: Agriculture | B15: 농업 | C15: 217.7 | D15: 230.9 | E15: 5.2 | F15: 13.2 | G15: -2.4 | H15: 6.1 | I15: -1
A16: Natural resources{2} | B16: 천연자원업 | C16: 330.2 | D16: 337.3 | E16: 6 | F16: 7.1 | G16: -18.2 | H16: 2.2 | I16: -5.1
A17: Utilities | B17: 유틸리티업 | C17: 163.5 | D17: 165.5 | E17: 3.5 | F17: 2 | G17: 15.6 | H17: 1.2 | I17: 10.4
A18: Construction | B18: 건설업 | C18: 1636.3 | D18: 1628.1 | E18: 13.3 | F18: -8.2 | G18: 18.9 | H18: -0.5 | I18: 1.2
A19: Manufacturing | B19: 제조업 | C19: 1819.7 | D19: 1847.5 | E19: 12.7 | F19: 27.8 | G19: -3 | H19: 1.5 | I19: -0.2
A20: Services-producing sector | B20: 서비스 생산 부문 | C20: 16787.6 | D20: 16806 | E20: 31.4 | F20: 18.4 | G20: 225.1 | H20: 0.1 | I20: 1.4
... A31: Public administration | B31: 공공행정 | C31: 1245.1 | D31: 1248.5 | E31: 9 | F31: 3.4 | G31: 14.3 | H31: 0.3 | I31: 1.2
A33: 1. Average standard error of change between two consecutive months. See the "Data Quality" section of the Guide to the Labour Force Survey (71-543-G) for more information.
A34: 연속 두 달간 변화의 평균 표준 오차입니다. 자세한 정보는 the Labour Force Survey의 안내서 "Data Quality"를 참고하십시오.
A36: 2. Also referred to as "Forestry, fishing, mining, quarrying, and oil and gas extraction."
A37: "임업, 어업, 광업 및 석유와 가스 추출업"이라고도 합니다.
A39: Note(s):
A40: The sum of individual categories may not always add up to the total as a result of rounding.
A41: =HLOOKUP(A40,'t001-eng'!$135:$136,2,0) -> 반올림으로 인해 개별 품목의 합이 항상 전품목의 총계에 합산되지 않을 수 있습니다.
A43: Source(s):
A44: Tables 14-10-0288-02 and 14-10-0355-02.

Sheet t003-eng
A1: Table 3 – Labour force characteristics by province, seasonally adjusted
A2: 주별 노동력 특성, 계절조정계열
C4: August 2025 | D4: September 2025 | E4: Standard error{1} | F4: August to September 2025 | G4: September 2024 to September 2025 | H4: August to September 2025 | I4: September 2024 to September 2025
C5: thousands (except rates) | D5: thousands (except rates) | E5: thousands (except rates) | F5: change in thousands (except rates) | G5: change in thousands (except rates) | H5: % change | I5: % change
C6: 천명; 비율 제외 | D6: 천명; 비율 제외 | E6: 표준오차, 천명; 비율 제외 | F6: 전월대비 변화, 천명; 비율 제외 | G6: 전년동월대비 변화, 천명; 비율 제외 | H6: 전월대비 백분율 변화 | I6: 전년동월대비 백분율 변화
A7: Newfoundland and Labrador
A8: Population | B8: =VLOOKUP(A8,'t001-eng'!A:B,2,0) -> 인구 | C8: 471.7 | D8: 471.8 | E8: ... | F8: 0.1 | G8: 3.5 | H8: 0 | I8: 0.7
A9: Labour force | B9: =VLOOKUP(A9,'t001-eng'!A:B,2,0) -> 경제활동인구 | C9: 272.1 | D9: 269.2 | E9: 2 | F9: -2.9 | G9: -2.6 | H9: -1.1 | I9: -1
A10: Employment | B10: =VLOOKUP(A10,'t001-eng'!A:B,2,0) -> 취업인구 | C10: 242.9 | D10: 240.7 | E10: 2 | F10: -2.2 | G10: -2.9 | H10: -0.9 | I10: -1.2
A11: Full-time employment | B11: =VLOOKUP(A11,'t001-eng'!A:B,2,0) -> 전일제 취업인구 | C11: 203.1 | D11: 206.2 | E11: 2.4 | F11: 3.1 | G11: -1.3 | H11: 1.5 | I11: -0.6
A12: Part-time employment | B12: =VLOOKUP(A12,'t001-eng'!A:B,2,0) -> 파트타임 취업인구 | C12: 39.8 | D12: 34.4 | E12: 1.8 | F12: -5.4 | G12: -1.7 | H12: -13.6 | I12: -4.7
A13: Unemployment | B13: =VLOOKUP(A13,'t001-eng'!A:B,2,0) -> 실업인구 | C13: 29.2 | D13: 28.5 | E13: 1.8 | F13: -0.7 | G13: 0.3 | H13: -2.4 | I13: 1.1
A14: Participation rate | B14: =VLOOKUP(A14,'t001-eng'!A:B,2,0) -> 경제활동참가율 | C14: 57.7 | D14: 57.1 | E14: 0.4 | F14: -0.6 | G14: -0.9 | H14: ... | I14: ...
A15: Unemployment rate | B15: =VLOOKUP(A15,'t001-eng'!A:B,2,0) -> 실업률 | C15: 10.7 | D15: 10.6 | E15: 0.6 | F15: -0.1 | G15: 0.2 | H15: ... | I15: ...
A16: Employment rate | B16: =VLOOKUP(A16,'t001-eng'!A:B,2,0) -> 고용률 | C16: 51.5 | D16: 51 | E16: 0.4 | F16: -0.5 | G16: -1 | H16: ... | I16: ...
A18: Prince Edward Island
A19: Population | B19: =VLOOKUP(A19,'t001-eng'!A:B,2,0) -> 인구 | C19: 154.5 | D19: 154.6 | E19: ... | F19: 0.1 | G19: 2.3 | H19: 0.1 | I19: 1.5
A20: Labour force | B20: =VLOOKUP(A20,'t001-eng'!A:B,2,0) -> 경제활동인구 | C20: 102.1 | D20: 103 | E20: 0.9 | F20: 0.9 | G20: 3.3 | H20: 0.9 | I20: 3.3
A21: Employment | B21: =VLOOKUP(A21,'t001-eng'!A:B,2,0) -> 취업인구 | C21: 93.8 | D21: 92.9 | E21: 1 | F21: -0.9 | G21: 0 | H21: -1 | I21: 0
A22: Full-time employment | B22: =VLOOKUP(A22,'t001-eng'!A:B,2,0) -> 전일제 취업인구 | C22: 81.9 | D22: 79.9 | E22: 1.1 | F22: -2 | G22: 0.6 | H22: -2.4 | I22: 0.8
A23: Part-time employment | B23: =VLOOKUP(A23,'t001-eng'!A:B,2,0) -> 파트타임 취업인구 | C23: 11.9 | D23: 13 | E23: 0.9 | F23: 1.1 | G23: -0.6 | H23: 9.2 | I23: -4.4
A24: Unemployment | B24: =VLOOKUP(A24,'t001-eng'!A:B,2,0) -> 실업인구 | C24: 8.3 | D24: 10 | E24: 0.8 | F24: 1.7 | G24: 3.1 | H24: 20.5 | I24: 44.9
A25: Participation rate | B25: =VLOOKUP(A25,'t001-eng'!A:B,2,0) -> 경제활동참가율 | C25: 66.1 | D25: 66.6 | E25: 0.5 | F25: 0.5 | G25: 1.1 | H25: ... | I25: ...
A26: Unemployment rate | B26: =VLOOKUP(A26,'t001-eng'!A:B,2,0) -> 실업률 | C26: 8.1 | D26: 9.7 | E26: 0.7 | F26: 1.6 | G26: 2.8 | H26: ... | I26: ...
A27: Employment rate | B27: =VLOOKUP(A27,'t001-eng'!A:B,2,0) -> 고용률 | C27: 60.7 | D27: 60.1 | E27: 0.6 | F27: -0.6 | G27: -0.9 | H27: ... | I27: ...
A29: Nova Scotia
A30: Population | B30: =VLOOKUP(A30,'t001-eng'!A:B,2,0) -> 인구 | C30: 914.3 | D30: 915.4 | E30: ... | F30: 1.1 | G30: 7.7 | H30: 0.1 | I30: 0.8
A31: Labour force | B31: =VLOOKUP(A31,'t001-eng'!A:B,2,0) -> 경제활동인구 | C31: 560.5 | D31: 560.3 | E31: 3.2 | F31: -0.2 | G31: 3.4 | H31: 0 | I31: 0.6
A32: Employment | B32: =VLOOKUP(A32,'t001-eng'!A:B,2,0) -> 취업인구 | C32: 524.1 | D32: 525.4 | E32: 3.2 | F32: 1.3 | G32: 3.8 | H32: 0.2 | I32: 0.7
A33: Full-time employment | B33: =VLOOKUP(A33,'t001-eng'!A:B,2,0) -> 전일제 취업인구 | C33: 434.4 | D33: 436.5 | E33: 4.2 | F33: 2.1 | G33: 2.5 | H33: 0.5 | I33: 0.6
A34: Part-time employment | B34: =VLOOKUP(A34,'t001-eng'!A:B,2,0) -> 파트타임 취업인구 | C34: 89.7 | D34: 88.9 | E34: 3.6 | F34: -0.8 | G34: 1.3 | H34: -0.9 | I34: 1.5
A35: Unemployment | B35: =VLOOKUP(A35,'t001-eng'!A:B,2,0) -> 실업인구 | C35: 36.4 | D35: 34.8 | E35: 2.6 | F35: -1.6 | G35: -0.5 | H35: -4.4 | I35: -1.4
A36: Participation rate | B36: =VLOOKUP(A36,'t001-eng'!A:B,2,0) -> 경제활동참가율 | C36: 61.3 | D36: 61.2 | E36: 0.3 | F36: -0.1 | G36: -0.2 | H36: ... | I36: ...
A37: Unemployment rate | B37: =VLOOKUP(A37,'t001-eng'!A:B,2,0) -> 실업률 | C37: 6.5 | D37: 6.2 | E37: 0.4 | F37: -0.3 | G37: -0.1 | H37: ... | I37: ...
A38: Employment rate | B38: =VLOOKUP(A38,'t001-eng'!A:B,2,0) -> 고용률 | C38: 57.3 | D38: 57.4 | E38: 0.3 | F38: 0.1 | G38: -0.1 | H38: ... | I38: ...
A40: New Brunswick
A41: Population | B41: =VLOOKUP(A41,'t001-eng'!A:B,2,0) -> 인구 | C41: 721.7 | D41: 722.5 | E41: ... | F41: 0.8 | G41: 7.2 | H41: 0.1 | I41: 1
A42: Labour force | B42: =VLOOKUP(A42,'t001-eng'!A:B,2,0) -> 경제활동인구 | C42: 434.6 | D42: 441.6 | E42: 2.4 | F42: 7 | G42: 12.8 | H42: 1.6 | I42: 3
A43: Employment | B43: =VLOOKUP(A43,'t001-eng'!A:B,2,0) -> 취업인구 | C43: 401.2 | D43: 405.9 | E43: 2.4 | F43: 4.7 | G43: 5.6 | H43: 1.2 | I43: 1.4
A44: Full-time employment | B44: =VLOOKUP(A44,'t001-eng'!A:B,2,0) -> 전일제 취업인구 | C44: 340.2 | D44: 343 | E44: 3 | F44: 2.8 | G44: 5.6 | H44: 0.8 | I44: 1.7
...

Sheet t004-eng
A1: Table 4 – Labour force characteristics by province, age group and gender{1}, seasonally adjusted (Newfoundland and Labrador, Prince Edward Island, Nova Scotia, and New Brunswick)
A2: 해당 주별, 연령대별 및 성별 노동력 특성, 계절조정계열
C4: August 2025 | D4: September 2025 | E4: Standard error{2} | F4: August to September 2025 | G4: September 2024 to September 2025 | H4: August to September 2025 | I4: September 2024 to September 2025
C5: thousands (except rates) | D5: thousands (except rates) | E5: thousands (except rates) | F5: change in thousands (except rates) | G5: change in thousands (except rates) | H5: % change | I5: % change
C6: 천명; 비율 제외 | D6: 천명; 비율 제외 | E6: 표준오차, 천명; 비율 제외 | F6: 전월대비 변화, 천명; 비율 제외 | G6: 전년동월대비 변화, 천명; 비율 제외 | H6: 전월대비 백분율 변화 | I6: 전년동월대비 백분율 변화
A7: Newfoundland and Labrador
A8: Total - gender, 15 years and over | B8: 전체, 15세 이상
A9: Population | B9: =VLOOKUP(A9,'t003-eng'!A:B,2,0) -> 인구 | C9: 471.7 | D9: 471.8 | E9: ... | F9: 0.1 | G9: 3.5 | H9: 0 | I9: 0.7
A10: Labour force | B10: =VLOOKUP(A10,'t003-eng'!A:B,2,0) -> 경제활동인구 | C10: 272.1 | D10: 269.2 | E10: 2 | F10: -2.9 | G10: -2.6 | H10: -1.1 | I10: -1
A11: Employment | B11: =VLOOKUP(A11,'t003-eng'!A:B,2,0) -> 취업인구 | C11: 242.9 | D11: 240.7 | E11: 2 | F11: -2.2 | G11: -2.9 | H11: -0.9 | I11: -1.2
A12: Full-time employment | B12: =VLOOKUP(A12,'t003-eng'!A:B,2,0) -> 전일제 취업인구 | C12: 203.1 | D12: 206.2 | E12: 2.4 | F12: 3.1 | G12: -1.3 | H12: 1.5 | I12: -0.6
A13: Unemployment | B13: =VLOOKUP(A13,'t003-eng'!A:B,2,0) -> 실업인구 | C13: 29.2 | D13: 28.5 | E13: 1.8 | F13: -0.7 | G13: 0.3 | H13: -2.4 | I13: 1.1
A14: Participation rate | B14: =VLOOKUP(A14,'t003-eng'!A:B,2,0) -> 경제활동참가율 | C14: 57.7 | D14: 57.1 | E14: 0.4 | F14: -0.6 | G14: -0.9 | H14: ... | I14: ...
A15: Unemployment rate | B15: =VLOOKUP(A15,'t003-eng'!A:B,2,0) -> 실업률 | C15: 10.7 | D15: 10.6 | E15: 0.6 | F15: -0.1 | G15: 0.2 | H15: ... | I15: ...
A16: Employment rate | B16: =VLOOKUP(A16,'t003-eng'!A:B,2,0) -> 고용률 | C16: 51.5 | D16: 51 | E16: 0.4 | F16: -0.5 | G16: -1 | H16: ... | I16: ...
A17: Total - gender, 15 to 24 years | B17: 전체, 15 - 24세
A18: Population | B18: =VLOOKUP(A18,'t003-eng'!A:B,2,0) -> 인구 | C18: 57.7 | D18: 57.7 | E18: ... | F18: 0 | G18: 0.1 | H18: 0 | I18: 0.2
A19: Labour force | B19: =VLOOKUP(A19,'t003-eng'!A:B,2,0) -> 경제활동인구 | C19: 34.4 | D19: 35 | E19: 0.9 | F19: 0.6 | G19: 1.2 | H19: 1.7 | I19: 3.6
A20: Employment | B20: =VLOOKUP(A20,'t003-eng'!A:B,2,0) -> 취업인구 | C20: 29.5 | D20: 29.2 | E20: 0.9 | F20: -0.3 | G20: 0.7 | H20: -1 | I20: 2.5
A21: Unemployment | B21: =VLOOKUP(A21,'t003-eng'!A:B,2,0) -> 실업인구 | C21: 4.8 | D21: 5.8 | E21: 0.8 | F21: 1 | G21: 0.6 | H21: 20.8 | I21: 11.5
A22: Participation rate | B22: =VLOOKUP(A22,'t003-eng'!A:B,2,0) -> 경제활동참가율 | C22: 59.6 | D22: 60.7 | E22: 1.6 | F22: 1.1 | G22: 2 | H22: ... | I22: ...
A23: Unemployment rate | B23: =VLOOKUP(A23,'t003-eng'!A:B,2,0) -> 실업률 | C23: 14 | D23: 16.6 | E23: 2.1 | F23: 2.6 | G23: 1.2 | H23: ... | I23: ...
A24: Employment rate | B24: =VLOOKUP(A24,'t003-eng'!A:B,2,0) -> 고용률 | C24: 51.1 | D24: 50.6 | E24: 1.6 | F24: -0.5 | G24: 1.1 | H24: ... | I24: ...
A25: Men+, 25 years and over | B25: 남성, 25세 이상
A26: Population | B26: =VLOOKUP(A26,'t003-eng'!A:B,2,0) -> 인구 | C26: 201.6 | D26: 201.7 | E26: ... | F26: 0.1 | G26: 1.3 | H26: 0 | I26: 0.6
A27: Labour force | B27: =VLOOKUP(A27,'t003-eng'!A:B,2,0) -> 경제활동인구 | C27: 123.1 | D27: 121.6 | E27: 1.3 | F27: -1.5 | G27: -0.8 | H27: -1.2 | I27: -0.7
A28: Employment | B28: =VLOOKUP(A28,'t003-eng'!A:B,2,0) -> 취업인구 | C28: 107.6 | D28: 106.9 | E28: 1.3 | F28: -0.7 | G28: 0.2 | H28: -0.7 | I28: 0.2
A29: Unemployment | B29: =VLOOKUP(A29,'t003-eng'!A:B,2,0) -> 실업인구 | C29: 15.5 | D29: 14.7 | E29: 1.3 | F29: -0.8 | G29: -1 | H29: -5.2 | I29: -6.4
A30: Participation rate | B30: =VLOOKUP(A30,'t003-eng'!A:B,2,0) -> 경제활동참가율 | C30: 61.1 | D30: 60.3 | E30: 0.7 | F30: -0.8 | G30: -0.8 | H30: ... | I30: ...
A31: Unemployment rate | B31: =VLOOKUP(A31,'t003-eng'!A:B,2,0) -> 실업률 | C31: 12.6 | D31: 12.1 | E31: 1 | F31: -0.5 | G31: -0.7 | H31: ... | I31: ...
A32: Employment rate | B32: =VLOOKUP(A32,'t003-eng'!A:B,2,0) -> 고용률 | C32: 53.4 | D32: 53 | E32: 0.6 | F32: -0.4 | G32: -0.2 | H32: ... | I32: ...
A33: Women+, 25 years and over | B33: 여성, 25세 이상
A34: Population | B34: =VLOOKUP(A34,'t003-eng'!A:B,2,0) -> 인구 | C34: 212.4 | D34: 212.4 | E34: ... | F34: 0 | G34: 2 | H34: 0 | I34: 1
A35: Labour force | B35: =VLOOKUP(A35,'t003-eng'!A:B,2,0) -> 경제활동인구 | C35: 114.7 | D35: 112.6 | E35: 1 | F35: -2.1 | G35: -3 | H35: -1.8 | I35: -2.6
A36: Employment | B36: =VLOOKUP(A36,'t003-eng'!A:B,2,0) -> 취업인구 | C36: 105.7 | D36: 104.6 | E36: 1.1 | F36: -1.1 | G36: -3.8 | H36: -1 | I36: -3.5
A37: Unemployment | B37: =VLOOKUP(A37,'t003-eng'!A:B,2,0) -> 실업인구 | C37: 9 | D37: 8 | E37: 0.9 | F37: -1 | G37: 0.8 | H37: -11.1 | I37: 11.1
A38: Participation rate | B38: =VLOOKUP(A38,'t003-eng'!A:B,2,0) -> 경제활동참가율 | C38: 54 | D38: 53 | E38: 0.5 | F38: -1 | G38: -1.9 | H38: ... | I38: ...
A39: Unemployment rate | B39: =VLOOKUP(A39,'t003-eng'!A:B,2,0) -> 실업률 | C39: 7.8 | D39: 7.1 | E39: 0.8 | F39: -0.7 | G39: 0.9 | H39: ... | I39: ...
A40: Employment rate | B40: =VLOOKUP(A40,'t003-eng'!A:B,2,0) -> 고용률 | C40: 49.8 | D40: 49.2 | E40: 0.5 | F40: -0.6 | G40: -2.3 | H40: ... | I40: ...
A42: Prince Edward Island
...

Sheet t005-eng
A1: Table 5 – Labour force characteristics by province, age group and gender{1}, seasonally adjusted (Quebec, Ontario, Manitoba, Saskatchewan, Alberta, and British Columbia)
A2: 해당 주별, 연령대별 및 성별 노동력 특성, 계절조정계열
C4: August 2025 | D4: September 2025 | E4: Standard error{2} | F4: August to September 2025 | G4: September 2024 to September 2025 | H4: August to September 2025 | I4: September 2024 to September 2025
C5: thousands (except rates) | D5: thousands (except rates) | E5: thousands (except rates) | F5: change in thousands (except rates) | G5: change in thousands (except rates) | H5: % change | I5: % change
C6: 천명; 비율 제외 | D6: 천명; 비율 제외 | E6: 표준오차, 천명; 비율 제외 | F6: 전월대비 변화, 천명; 비율 제외 | G6: 전년동월대비 변화, 천명; 비율 제외 | H6: 전월대비 백분율 변화 | I6: 전년동월대비 백분율 변화
A7: Quebec
A8: Total - gender, 15 years and over | B8: =VLOOKUP(A8,'t004-eng'!A:B,2,0) -> 전체, 15세 이상
A9: Population | B9: =VLOOKUP(A9,'t004-eng'!A:B,2,0) -> 인구 | C9: 7600.3 | D9: 7601.7 | E9: ... | F9: 1.4 | G9: 119.9 | H9: 0 | I9: 1.6
A10: Labour force | B10: =VLOOKUP(A10,'t004-eng'!A:B,2,0) -> 경제활동인구 | C10: 4939.9 | D10: 4921.3 | E10: 15.5 | F10: -18.6 | G10: 75.5 | H10: -0.4 | I10: 1.6
A11: Employment | B11: =VLOOKUP(A11,'t004-eng'!A:B,2,0) -> 취업인구 | C11: 4644.5 | D11: 4639.8 | E11: 15.3 | F11: -4.7 | G11: 59.8 | H11: -0.1 | I11: 1.3
A12: Full-time employment | B12: =VLOOKUP(A12,'t004-eng'!A:B,2,0) -> 전일제 취업인구 | C12: 3773.1 | D12: 3794.5 | E12: 20.2 | F12: 21.4 | G12: 41.7 | H12: 0.6 | I12: 1.1
A13: Unemployment | B13: =VLOOKUP(A13,'t004-eng'!A:B,2,0) -> 실업인구 | C13: 295.4 | D13: 281.5 | E13: 12.8 | F13: -13.9 | G13: 15.8 | H13: -4.7 | I13: 5.9
A14: Participation rate | B14: =VLOOKUP(A14,'t004-eng'!A:B,2,0) -> 경제활동참가율 | C14: 65 | D14: 64.7 | E14: 0.2 | F14: -0.3 | G14: -0.1 | H14: ... | I14: ...
A15: Unemployment rate | B15: =VLOOKUP(A15,'t004-eng'!A:B,2,0) -> 실업률 | C15: 6 | D15: 5.7 | E15: 0.3 | F15: -0.3 | G15: 0.2 | H15: ... | I15: ...
A16: Employment rate | B16: =VLOOKUP(A16,'t004-eng'!A:B,2,0) -> 고용률 | C16: 61.1 | D16: 61 | E16: 0.2 | F16: -0.1 | G16: -0.2 | H16: ... | I16: ...
A17: Total - gender, 15 to 24 years | B17: =VLOOKUP(A17,'t004-eng'!A:B,2,0) -> 전체, 15 - 24세
A18: Population | B18: =VLOOKUP(A18,'t004-eng'!A:B,2,0) -> 인구 | C18: 1011.2 | D18: 1011.2 | E18: ... | F18: 0 | G18: 21.3 | H18: 0 | I18: 2.2
A19: Labour force | B19: =VLOOKUP(A19,'t004-eng'!A:B,2,0) -> 경제활동인구 | C19: 705 | D19: 682 | E19: 8.5 | F19: -23 | G19: 4.4 | H19: -3.3 | I19: 0.6
A20: Employment | B20: =VLOOKUP(A20,'t004-eng'!A:B,2,0) -> 취업인구 | C20: 625.6 | D20: 614.2 | E20: 7.9 | F20: -11.4 | G20: 2.6 | H20: -1.8 | I20: 0.4
A21: Unemployment | B21: =VLOOKUP(A21,'t004-eng'!A:B,2,0) -> 실업인구 | C21: 79.4 | D21: 67.7 | E21: 6.8 | F21: -11.7 | G21: 1.7 | H21: -14.7 | I21: 2.6
A22: Participation rate | B22: =VLOOKUP(A22,'t004-eng'!A:B,2,0) -> 경제활동참가율 | C22: 69.7 | D22: 67.4 | E22: 0.9 | F22: -2.3 | G22: -1.1 | H22: ... | I22: ...
A23: Unemployment rate | B23: =VLOOKUP(A23,'t004-eng'!A:B,2,0) -> 실업률 | C23: 11.3 | D23: 9.9 | E23: 0.9 | F23: -1.4 | G23: 0.2 | H23: ... | I23: ...
A24: Employment rate | B24: =VLOOKUP(A24,'t004-eng'!A:B,2,0) -> 고용률 | C24: 61.9 | D24: 60.7 | E24: 0.8 | F24: -1.2 | G24: -1.1 | H24: ... | I24: ...
A25: Men+, 25 years and over | B25: =VLOOKUP(A25,'t004-eng'!A:B,2,0) -> 남성, 25세 이상
A26: Population | B26: =VLOOKUP(A26,'t004-eng'!A:B,2,0) -> 인구 | C26: 3294 | D26: 3294.7 | E26: ... | F26: 0.7 | G26: 53.7 | H26: 0 | I26: 1.7
A27: Labour force | B27: =VLOOKUP(A27,'t004-eng'!A:B,2,0) -> 경제활동인구 | C27: 2259.6 | D27: 2253.9 | E27: 8.6 | F27: -5.7 | G27: 36.3 | H27: -0.3 | I27: 1.6
A28: Employment | B28: =VLOOKUP(A28,'t004-eng'!A:B,2,0) -> 취업인구 | C28: 2135.2 | D28: 2133.3 | E28: 9.3 | F28: -1.9 | G28: 31.7 | H28: -0.1 | I28: 1.5
A29: Unemployment | B29: =VLOOKUP(A29,'t004-eng'!A:B,2,0) -> 실업인구 | C29: 124.4 | D29: 120.6 | E29: 8 | F29: -3.8 | G29: 4.6 | H29: -3.1 | I29: 4
A30: Participation rate | B30: =VLOOKUP(A30,'t004-eng'!A:B,2,0) -> 경제활동참가율 | C30: 68.6 | D30: 68.4 | E30: 0.3 | F30: -0.2 | G30: 0 | H30: ... | I30: ...
A31: Unemployment rate | B31: =VLOOKUP(A31,'t004-eng'!A:B,2,0) -> 실업률 | C31: 5.5 | D31: 5.4 | E31: 0.3 | F31: -0.1 | G31: 0.2 | H31: ... | I31: ...
A32: Employment rate | B32: =VLOOKUP(A32,'t004-eng'!A:B,2,0) -> 고용률 | C32: 64.8 | D32: 64.7 | E32: 0.3 | F32: -0.1 | G32: -0.1 | H32: ... | I32: ...
A33: Women+, 25 years and over | B33: =VLOOKUP(A33,'t004-eng'!A:B,2,0) -> 여성, 25세 이상
A34: Population | B34: =VLOOKUP(A34,'t004-eng'!A:B,2,0) -> 인구 | C34: 3295.1 | D34: 3295.8 | E34: ... | F34: 0.7 | G34: 45 | H34: 0 | I34: 1.4
A35: Labour force | B35: =VLOOKUP(A35,'t004-eng'!A:B,2,0) -> 경제활동인구 | C35: 1975.3 | D35: 1985.5 | E35: 9.1 | F35: 10.2 | G35: 35 | H35: 0.5 | I35: 1.8
A36: Employment | B36: =VLOOKUP(A36,'t004-eng'!A:B,2,0) -> 취업인구 | C36: 1883.7 | D36: 1892.3 | E36: 8.9 | F36: 8.6 | G36: 25.5 | H36: 0.5 | I36: 1.4
A37: Unemployment | B37: =VLOOKUP(A37,'t004-eng'!A:B,2,0) -> 실업인구 | C37: 91.6 | D37: 93.1 | E37: 7 | F37: 1.5 | G37: 9.4 | H37: 1.6 | I37: 11.2
A38: Participation rate | B38: =VLOOKUP(A38,'t004-eng'!A:B,2,0) -> 경제활동참가율 | C38: 59.9 | D38: 60.2 | E38: 0.3 | F38: 0.3 | G38: 0.2 | H38: ... | I38: ...
A39: Unemployment rate | B39: =VLOOKUP(A39,'t004-eng'!A:B,2,0) -> 실업률 | C39: 4.6 | D39: 4.7 | E39: 0.3 | F39: 0.1 | G39: 0.4 | H39: ... | I39: ...
A40: Employment rate | B40: =VLOOKUP(A40,'t004-eng'!A:B,2,0) -> 고용률 | C40: 57.2 | D40: 57.4 | E40: 0.3 | F40: 0.2 | G40: 0 | H40: ... | I40: ...
A42: Ontario
...

Sheet t006-eng
A1: Table 6 – Employment by province and industry, seasonally adjusted
A2: 주별 및 산업별 취입인구, 계절조정계열
C4: August 2025 | D4: September 2025 | E4: Standard error{1} | F4: August to September 2025 | G4: September 2024 to September 2025 | H4: August to September 2025 | I4: September 2024 to September 2025
C5: thousands | D5: thousands | E5: thousands | F5: change in thousands | G5: change in thousands | H5: % change | I5: % change
C6: 천명 | D6: 천명 | E6: 표준오차, 천명 | F6: 전월대비 변화, 천명 | G6: 전년동월대비 변화, 천명 | H6: 전월대비 백분율 변화 | I6: 전년동월대비 백분율 변화
A7: Newfoundland and Labrador
A8: Total employed, all industries | B8: =VLOOKUP(A8,'t002-eng'!A:B,2,0) -> 전취업인구, 전산업 | C8: 242.9 | D8: 240.7 | E8: 2 | F8: -2.2 | G8: -2.9 | H8: -0.9 | I8: -1.2
A9: Goods-producing sector | B9: =VLOOKUP(A9,'t002-eng'!A:B,2,0) -> 상품 생산 부문 | C9: 45.3 | D9: 43.9 | E9: 1.3 | F9: -1.4 | G9: -4.5 | H9: -3.1 | I9: -9.3
A10: Agriculture | B10: =VLOOKUP(A10,'t002-eng'!A:B,2,0) -> 농업 | C10: 0.9 | D10: 0.8 | E10: 0.2 | F10: -0.1 | G10: -0.8 | H10: -11.1 | I10: -50
A11: Natural resources{2} | B11: =VLOOKUP(A11,'t002-eng'!A:B,2,0) -> 천연자원업 | C11: 14.7 | D11: 13.8 | E11: 0.8 | F11: -0.9 | G11: -2.4 | H11: -6.1 | I11: -14.8
A12: Utilities | B12: =VLOOKUP(A12,'t002-eng'!A:B,2,0) -> 유틸리티업 | C12: 2.1 | D12: 2 | E12: 0.1 | F12: -0.1 | G12: 0 | H12: -4.8 | I12: 0
A13: Construction | B13: =VLOOKUP(A13,'t002-eng'!A:B,2,0) -> 건설업 | C13: 18.5 | D13: 18.4 | E13: 0.8 | F13: -0.1 | G13: 0.1 | H13: -0.5 | I13: 0.5
A14: Manufacturing | B14: =VLOOKUP(A14,'t002-eng'!A:B,2,0) -> 제조업 | C14: 9.1 | D14: 8.8 | E14: 0.7 | F14: -0.3 | G14: -1.6 | H14: -3.3 | I14: -15.4
A15: Services-producing sector | B15: =VLOOKUP(A15,'t002-eng'!A:B,2,0) -> 서비스 생산 부문 | C15: 197.6 | D15: 196.7 | E15: 1.8 | F15: -0.9 | G15: 1.5 | H15: -0.5 | I15: 0.8
A16: Wholesale and retail trade | B16: =VLOOKUP(A16,'t002-eng'!A:B,2,0) -> 도소매업 | C16: 38.9 | D16: 38.4 | E16: 0.9 | F16: -0.5 | G16: 0.2 | H16: -1.3 | I16: 0.5
A17: Transportation and warehousing | B17: =VLOOKUP(A17,'t002-eng'!A:B,2,0) -> 운송 및 창고업 | C17: 11.4 | D17: 12 | E17: 0.6 | F17: 0.6 | G17: -0.5 | H17: 5.3 | I17: -4
A18: Finance, insurance, real estate, rental and leasing | B18: =VLOOKUP(A18,'t002-eng'!A:B,2,0) -> 금융, 보험, 부동산, 임대 및 리스업 | C18: 8.2 | D18: 8.6 | E18: 0.4 | F18: 0.4 | G18: 0.8 | H18: 4.9 | I18: 10.3
A19: Professional, scientific and technical services | B19: =VLOOKUP(A19,'t002-eng'!A:B,2,0) -> 전문, 과학 및 기술 서비스업 | C19: 11.7 | D19: 12.4 | E19: 0.5 | F19: 0.7 | G19: -1.2 | H19: 6 | I19: -8.8
... A26: Public administration | B26: =VLOOKUP(A26,'t002-eng'!A:B,2,0) -> 공공행정 | C26: 21.4 | D26: 21.6 | E26: 0.6 | F26: 0.2 | G26: 2.1 | H26: 0.9 | I26: 10.8
A27: Prince Edward Island
A28: Total employed, all industries | B28: =VLOOKUP(A28,'t002-eng'!A:B,2,0) -> 전취업인구, 전산업 | C28: 93.8 | D28: 92.9 | E28: 1 | F28: -0.9 | G28: 0 | H28: -1 | I28: 0
A29: Goods-producing sector | B29: =VLOOKUP(A29,'t002-eng'!A:B,2,0) -> 상품 생산 부문 | C29: 23.8 | D29: 22.4 | E29: 0.7 | F29: -1.4 | G29: -1.5 | H29: -5.9 | I29: -6.3
A30: Agriculture | B30: =VLOOKUP(A30,'t002-eng'!A:B,2,0) -> 농업 | C30: 3 | D30: 3.3 | E30: 0.3 | F30: 0.3 | G30: -0.6 | H30: 10 | I30: -15.4
A31: Natural resources{2} | B31: =VLOOKUP(A31,'t002-eng'!A:B,2,0) -> 천연자원업 | C31: 2.6 | D31: 2.1 | E31: 0.3 | F31: -0.5 | G31: -0.2 | H31: -19.2 | I31: -8.7
A32: Utilities | B32: =VLOOKUP(A32,'t002-eng'!A:B,2,0) -> 유틸리티업 | C32: x | D32: x | E32: 0.1 | F32: x | G32: x | H32: x | I32: x
A33: Construction | B33: =VLOOKUP(A33,'t002-eng'!A:B,2,0) -> 건설업 | C33: 9.6 | D33: 8.8 | E33: 0.4 | F33: -0.8 | G33: -1.1 | H33: -8.3 | I33: -11.1
A34: Manufacturing | B34: =VLOOKUP(A34,'t002-eng'!A:B,2,0) -> 제조업 | C34: 8.4 | D34: 8 | E34: 0.3 | F34: -0.4 | G34: 0.4 | H34: -4.8 | I34: 5.3
A35: Services-producing sector | B35: =VLOOKUP(A35,'t002-eng'!A:B,2,0) -> 서비스 생산 부문 | C35: 70 | D35: 70.5 | E35: 0.8 | F35: 0.5 | G35: 1.5 | H35: 0.7 | I35: 2.2
A36: Wholesale and retail trade | B36: =VLOOKUP(A36,'t002-eng'!A:B,2,0) -> 도소매업 | C36: 10.9 | D36: 11.7 | E36: 0.4 | F36: 0.8 | G36: 0.7 | H36: 7.3 | I36: 6.4
A37: Transportation and warehousing | B37: =VLOOKUP(A37,'t002-eng'!A:B,2,0) -> 운송 및 창고업 | C37: 2.6 | D37: 2.2 | E37: 0.2 | F37: -0.4 | G37: -1.1 | H37: -15.4 | I37: -33.3
A38: Finance, insurance, real estate, rental and leasing | B38: =VLOOKUP(A38,'t002-eng'!A:B,2,0) -> 금융, 보험, 부동산, 임대 및 리스업 | C38: 3.8 | D38: 4.3 | E38: 0.3 | F38: 0.5 | G38: 0.3 | H38: 13.2 | I38: 7.5
A39: Professional, scientific and technical services | B39: =VLOOKUP(A39,'t002-eng'!A:B,2,0) -> 전문, 과학 및 기술 서비스업 | C39: 5.5 | D39: 5.4 | E39: 0.3 | F39: -0.1 | G39: 0.6 | H39: -1.8 | I39: 12.5
A40: Business, building and other support services | B40: =VLOOKUP(A40,'t002-eng'!A:B,2,0) -> 사업, 건축 및 기타 지원 서비스업 | C40: 2.3 | D40: 2.5 | E40: 0.2 | F40: 0.2 | G40: 0.2 | H40: 8.7 | I40: 8.7
A41: Educational services | B41: =VLOOKUP(A41,'t002-eng'!A:B,2,0) -> 교육 서비스업 | C41: 6.6 | D41: 6.2 | E41: 0.3 | F41: -0.4 | G41: -0.3 | H41: -6.1 | I41: -4.6
A42: Health care and social assistance | B42: =VLOOKUP(A42,'t002-eng'!A:B,2,0) -> 보건 및 사회 복지 서비스업 | C42: 16.1 | D42: 16.1 | E42: 0.4 | F42: 0 | G42: 1.9 | H42: 0 | I42: 13.4
A43: Information, culture and recreation | B43: =VLOOKUP(A43,'t002-eng'!A:B,2,0) -> 정보, 문화 및 여가 서비스업 | C43: 2.5 | D43: 2.8 | E43: 0.3 | F43: 0.3 | G43: 0.3 | H43: 12 | I43: 12
A44: Accommodation and food services | B44: =VLOOKUP(A44,'t002-eng'!A:B,2,0) -> 음식점 및 숙박 서비스업 | C44: 6.1 | D44: 6.4 | E44: 0.5 | F44: 0.3 | G44: 0.6 | H44: 4.9 | I44: 10.3
... A46: Public administration | B46: =VLOOKUP(A46,'t002-eng'!A:B,2,0) -> 공공행정 | C46: 10.6 | D46: 10.1 | E46: 0.3 | F46: -0.5 | G46: -0.4 | H46: -4.7 | I46: -3.8
A47: Nova Scotia
A48: Total employed, all industries | B48: =VLOOKUP(A48,'t002-eng'!A:B,2,0) -> 전취업인구, 전산업 | C48: 524.1 | D48: 525.4 | E48: 3.2 | F48: 1.3 | G48: 3.8 | H48: 0.2 | I48: 0.7
...

Sheet t007-eng
A1: Table 7 – Labour force characteristics by census metropolitan area, three-month moving average, seasonally adjusted
A2: 인구조사 도시별 노동력 특성, 3개월 이동평균, 계절조정계열
C4: August 2025 | D4: September 2025 | E4: Standard error{1} | F4: August to September 2025 | G4: September 2024 to September 2025 | H4: August to September 2025 | I4: September 2024 to September 2025
C5: thousands (except rates) | D5: thousands (except rates) | E5: thousands (except rates) | F5: change in thousands (except rates) | G5: change in thousands (except rates) | H5: % change | I5: % change
C6: 천명; 비율 제외 | D6: 천명; 비율 제외 | E6: 표준오차, 천명; 비율 제외 | F6: 전월대비 변화, 천명; 비율 제외 | G6: 전년동월대비 변화, 천명; 비율 제외 | H6: 전월대비 백분율 변화 | I6: 전년동월대비 백분율 변화
A7: St. John's, Newfoundland and Labrador
A8: Population | B8: =VLOOKUP(A8,'t005-eng'!A:B,2,0) -> 인구 | C8: 206.5 | D8: 206.7 | E8: ... | F8: 0.2 | G8: 4 | H8: 0.1 | I8: 2
A9: Labour force | B9: =VLOOKUP(A9,'t005-eng'!A:B,2,0) -> 경제활동인구 | C9: 136.6 | D9: 137.3 | E9: 0.8 | F9: 0.7 | G9: 6.7 | H9: 0.5 | I9: 5.1
A10: Employment | B10: =VLOOKUP(A10,'t005-eng'!A:B,2,0) -> 취업인구 | C10: 127 | D10: 127.8 | E10: 0.8 | F10: 0.8 | G10: 5.9 | H10: 0.6 | I10: 4.8
A11: Unemployment | B11: =VLOOKUP(A11,'t005-eng'!A:B,2,0) -> 실업인구 | C11: 9.6 | D11: 9.5 | E11: 0.4 | F11: -0.1 | G11: 0.8 | H11: -1 | I11: 9.2
A12: Participation rate | B12: =VLOOKUP(A12,'t005-eng'!A:B,2,0) -> 경제활동참가율 | C12: 66.2 | D12: 66.4 | E12: 0.4 | F12: 0.2 | G12: 2 | H12: ... | I12: ...
A13: Unemployment rate | B13: =VLOOKUP(A13,'t005-eng'!A:B,2,0) -> 실업률 | C13: 7 | D13: 6.9 | E13: 0.3 | F13: -0.1 | G13: 0.2 | H13: ... | I13: ...
A14: Employment rate | B14: =VLOOKUP(A14,'t005-eng'!A:B,2,0) -> 고용률 | C14: 61.5 | D14: 61.8 | E14: 0.4 | F14: 0.3 | G14: 1.7 | H14: ... | I14: ...
A15: Halifax, Nova Scotia
A16: Population | B16: =VLOOKUP(A16,'t005-eng'!A:B,2,0) -> 인구 | C16: 456.7 | D16: 457.3 | E16: ... | F16: 0.6 | G16: 8.3 | H16: 0.1 | I16: 1.8
A17: Labour force | B17: =VLOOKUP(A17,'t005-eng'!A:B,2,0) -> 경제활동인구 | C17: 312 | D17: 312.6 | E17: 1.6 | F17: 0.6 | G17: 6.3 | H17: 0.2 | I17: 2.1
A18: Employment | B18: =VLOOKUP(A18,'t005-eng'!A:B,2,0) -> 취업인구 | C18: 294.2 | D18: 294.8 | E18: 1.6 | F18: 0.6 | G18: 5.7 | H18: 0.2 | I18: 2
A19: Unemployment | B19: =VLOOKUP(A19,'t005-eng'!A:B,2,0) -> 실업인구 | C19: 17.8 | D19: 17.8 | E19: 0.9 | F19: 0 | G19: 0.5 | H19: 0 | I19: 2.9
A20: Participation rate | B20: =VLOOKUP(A20,'t005-eng'!A:B,2,0) -> 경제활동참가율 | C20: 68.3 | D20: 68.4 | E20: 0.4 | F20: 0.1 | G20: 0.2 | H20: ... | I20: ...
A21: Unemployment rate | B21: =VLOOKUP(A21,'t005-eng'!A:B,2,0) -> 실업률 | C21: 5.7 | D21: 5.7 | E21: 0.3 | F21: 0 | G21: 0.1 | H21: ... | I21: ...
A22: Employment rate | B22: =VLOOKUP(A22,'t005-eng'!A:B,2,0) -> 고용률 | C22: 64.4 | D22: 64.5 | E22: 0.4 | F22: 0.1 | G22: 0.1 | H22: ... | I22: ...
A23: Moncton, New Brunswick
A24: Population | B24: =VLOOKUP(A24,'t005-eng'!A:B,2,0) -> 인구 | C24: 162.3 | D24: 162.7 | E24: ... | F24: 0.4 | G24: 4.7 | H24: 0.2 | I24: 3
A25: Labour force | B25: =VLOOKUP(A25,'t005-eng'!A:B,2,0) -> 경제활동인구 | C25: 108.1 | D25: 107.9 | E25: 1 | F25: -0.2 | G25: 3.5 | H25: -0.2 | I25: 3.4
A26: Employment | B26: =VLOOKUP(A26,'t005-eng'!A:B,2,0) -> 취업인구 | C26: 100.4 | D26: 100 | E26: 1 | F26: -0.4 | G26: 1.1 | H26: -0.4 | I26: 1.1
A27: Unemployment | B27: =VLOOKUP(A27,'t005-eng'!A:B,2,0) -> 실업인구 | C27: 7.7 | D27: 7.9 | E27: 0.4 | F27: 0.2 | G27: 2.4 | H27: 2.6 | I27: 43.6
A28: Participation rate | B28: =VLOOKUP(A28,'t005-eng'!A:B,2,0) -> 경제활동참가율 | C28: 66.6 | D28: 66.3 | E28: 0.6 | F28: -0.3 | G28: 0.2 | H28: ... | I28: ...
A29: Unemployment rate | B29: =VLOOKUP(A29,'t005-eng'!A:B,2,0) -> 실업률 | C29: 7.1 | D29: 7.3 | E29: 0.4 | F29: 0.2 | G29: 2 | H29: ... | I29: ...
A30: Employment rate | B30: =VLOOKUP(A30,'t005-eng'!A:B,2,0) -> 고용률 | C30: 61.9 | D30: 61.5 | E30: 0.6 | F30: -0.4 | G30: -1.1 | H30: ... | I30: ...
A31: Saint John, New Brunswick
A32: Population | B32: =VLOOKUP(A32,'t005-eng'!A:B,2,0) -> 인구 | C32: 120.3 | D32: 120.4 | E32: ... | F32: 0.1 | G32: 1.1 | H32: 0.1 | I32: 0.9
A33: Labour force | B33: =VLOOKUP(A33,'t005-eng'!A:B,2,0) -> 경제활동인구 | C33: 75.4 | D33: 75.1 | E33: 0.8 | F33: -0.3 | G33: -0.3 | H33: -0.4 | I33: -0.4
A34: Employment | B34: =VLOOKUP(A34,'t005-eng'!A:B,2,0) -> 취업인구 | C34: 69.8 | D34: 69.4 | E34: 0.8 | F34: -0.4 | G34: -2 | H34: -0.6 | I34: -2.8
A35: Unemployment | B35: =VLOOKUP(A35,'t005-eng'!A:B,2,0) -> 실업인구 | C35: 5.7 | D35: 5.7 | E35: 0.3 | F35: 0 | G35: 1.7 | H35: 0 | I35: 42.5
A36: Participation rate | B36: =VLOOKUP(A36,'t005-eng'!A:B,2,0) -> 경제활동참가율 | C36: 62.7 | D36: 62.4 | E36: 0.6 | F36: -0.3 | G36: -0.8 | H36: ... | I36: ...
A37: Unemployment rate | B37: =VLOOKUP(A37,'t005-eng'!A:B,2,0) -> 실업률 | C37: 7.6 | D37: 7.6 | E37: 0.5 | F37: 0 | G37: 2.3 | H37: ... | I37: ...
A38: Employment rate | B38: =VLOOKUP(A38,'t005-eng'!A:B,2,0) -> 고용률 | C38: 58 | D38: 57.6 | E38: 0.7 | F38: -0.4 | G38: -2.2 | H38: ... | I38: ...
A39: Fredericton, New Brunswick
A40: Population | B40: =VLOOKUP(A40,'t005-eng'!A:B,2,0) -> 인구 | C40: 104 | D40: 104.1 | E40: ... | F40: 0.1 | G40: 1.6 | H40: 0.1 | I40: 1.6
A41: Labour force | B41: =VLOOKUP(A41,'t005-eng'!A:B,2,0) -> 경제활동인구 | C41: 67.6 | D41: 67.5 | E41: 0.8 | F41: -0.1 | G41: 0.8 | H41: -0.1 | I41: 1.2
...

Sheet t008-eng
A1: Table 8 – Labour force characteristics by Montréal, Toronto and Vancouver census metropolitan areas, monthly, seasonally adjusted
A2: 해당 인구조사 도시별 노동력 특성, 월간, 계절조정계열
C4: August 2025 | D4: September 2025 | E4: Standard error{1} | F4: August to September 2025 | G4: September 2024 to September 2025 | H4: August to September 2025 | I4: September 2024 to September 2025
C5: thousands (except rates) | D5: thousands (except rates) | E5: thousands (except rates) | F5: change in thousands (except rates) | G5: change in thousands (except rates) | H5: % change | I5: % change
C6: 천명; 비율 제외 | D6: 천명; 비율 제외 | E6: 표준오차, 천명; 비율 제외 | F6: 전월대비 변화, 천명; 비율 제외 | G6: 전년동월대비 변화, 천명; 비율 제외 | H6: 전월대비 백분율 변화 | I6: 전년동월대비 백분율 변화
A7: Montréal, Quebec
A8: Population | B8: =VLOOKUP(A8,'t007-eng'!A:B,2,0) -> 인구 | C8: 3873.2 | D8: 3872.4 | E8: ... | F8: -0.8 | G8: 71 | H8: 0 | I8: 1.9
A9: Labour force | B9: =VLOOKUP(A9,'t007-eng'!A:B,2,0) -> 경제활동인구 | C9: 2570.7 | D9: 2565 | E9: 17.5 | F9: -5.7 | G9: 39.1 | H9: -0.2 | I9: 1.5
A10: Employment | B10: =VLOOKUP(A10,'t007-eng'!A:B,2,0) -> 취업인구 | C10: 2392.8 | D10: 2404.4 | E10: 17.5 | F10: 11.6 | G10: 33.1 | H10: 0.5 | I10: 1.4
A11: Unemployment | B11: =VLOOKUP(A11,'t007-eng'!A:B,2,0) -> 실업인구 | C11: 177.9 | D11: 160.6 | E11: 11.3 | F11: -17.3 | G11: 6 | H11: -9.7 | I11: 3.9
A12: Participation rate | B12: =VLOOKUP(A12,'t007-eng'!A:B,2,0) -> 경제활동참가율 | C12: 66.4 | D12: 66.2 | E12: 0.5 | F12: -0.2 | G12: -0.2 | H12: ... | I12: ...
A13: Unemployment rate | B13: =VLOOKUP(A13,'t007-eng'!A:B,2,0) -> 실업률 | C13: 6.9 | D13: 6.3 | E13: 0.4 | F13: -0.6 | G13: 0.2 | H13: ... | I13: ...
A14: Employment rate | B14: =VLOOKUP(A14,'t007-eng'!A:B,2,0) -> 고용률 | C14: 61.8 | D14: 62.1 | E14: 0.5 | F14: 0.3 | G14: -0.3 | H14: ... | I14: ...
A15: Toronto, Ontario
A16: Population | B16: =VLOOKUP(A16,'t007-eng'!A:B,2,0) -> 인구 | C16: 6118 | D16: 6122.8 | E16: ... | F16: 4.8 | G16: 101.7 | H16: 0.1 | I16: 1.7
A17: Labour force | B17: =VLOOKUP(A17,'t007-eng'!A:B,2,0) -> 경제활동인구 | C17: 4057.2 | D17: 4074.4 | E17: 24.7 | F17: 17.2 | G17: 81.8 | H17: 0.4 | I17: 2
A18: Employment | B18: =VLOOKUP(A18,'t007-eng'!A:B,2,0) -> 취업인구 | C18: 3697.4 | D18: 3718.2 | E18: 24 | F18: 20.8 | G18: 35.2 | H18: 0.6 | I18: 1
A19: Unemployment | B19: =VLOOKUP(A19,'t007-eng'!A:B,2,0) -> 실업인구 | C19: 359.8 | D19: 356.2 | E19: 16.1 | F19: -3.6 | G19: 46.6 | H19: -1 | I19: 15.1
A20: Participation rate | B20: =VLOOKUP(A20,'t007-eng'!A:B,2,0) -> 경제활동참가율 | C20: 66.3 | D20: 66.5 | E20: 0.4 | F20: 0.2 | G20: 0.2 | H20: ... | I20: ...
A21: Unemployment rate | B21: =VLOOKUP(A21,'t007-eng'!A:B,2,0) -> 실업률 | C21: 8.9 | D21: 8.7 | E21: 0.4 | F21: -0.2 | G21: 0.9 | H21: ... | I21: ...
A22: Employment rate | B22: =VLOOKUP(A22,'t007-eng'!A:B,2,0) -> 고용률 | C22: 60.4 | D22: 60.7 | E22: 0.4 | F22: 0.3 | G22: -0.5 | H22: ... | I22: ...
A23: Vancouver, British Columbia
A24: Population | B24: =VLOOKUP(A24,'t007-eng'!A:B,2,0) -> 인구 | C24: 2705 | D24: 2706.2 | E24: ... | F24: 1.2 | G24: 56.1 | H24: 0 | I24: 2.1
A25: Labour force | B25: =VLOOKUP(A25,'t007-eng'!A:B,2,0) -> 경제활동인구 | C25: 1794.3 | D25: 1803.9 | E25: 12.8 | F25: 9.6 | G25: 29.9 | H25: 0.5 | I25: 1.7
A26: Employment | B26: =VLOOKUP(A26,'t007-eng'!A:B,2,0) -> 취업인구 | C26: 1678.6 | D26: 1691.4 | E26: 12.5 | F26: 12.8 | G26: 31.1 | H26: 0.8 | I26: 1.9
A27: Unemployment | B27: =VLOOKUP(A27,'t007-eng'!A:B,2,0) -> 실업인구 | C27: 115.7 | D27: 112.6 | E27: 8 | F27: -3.1 | G27: -1 | H27: -2.7 | I27: -0.9
A28: Participation rate | B28: =VLOOKUP(A28,'t007-eng'!A:B,2,0) -> 경제활동참가율 | C28: 66.3 | D28: 66.7 | E28: 0.5 | F28: 0.4 | G28: -0.2 | H28: ... | I28: ...
A29: Unemployment rate | B29: =VLOOKUP(A29,'t007-eng'!A:B,2,0) -> 실업률 | C29: 6.4 | D29: 6.2 | E29: 0.4 | F29: -0.2 | G29: -0.2 | H29: ... | I29: ...
A30: Employment rate | B30: =VLOOKUP(A30,'t007-eng'!A:B,2,0) -> 고용률 | C30: 62.1 | D30: 62.5 | E30: 0.5 | F30: 0.4 | G30: -0.2 | H30: ... | I30: ...
A32: ... not applicable
A33: =HLOOKUP(A32,'t007-eng'!A352:A353,2,0) -> 결측치.
A35: 1. Average standard error of change between two consecutive months. See the "Data Quality" section of the Guide to the Labour Force Survey (71-543-G) for more information.
A36: =HLOOKUP(A35,'t002-eng'!$33:$34,2,0) -> 연속 두 달간 변화의 평균 표준 오차입니다. 자세한 정보는 the Labour Force Survey의 안내서 "Data Quality"를 참고하십시오.
A38: Note(s):
A39: The sum of individual categories may not always add up to the total as a result of rounding.
A40: =HLOOKUP(A39,'t001-eng'!$135:$136,2,0) -> 반올림으로 인해 개별 품목의 합이 항상 전품목의 총계에 합산되지 않을 수 있습니다.
A42: Source(s):
A43: Table 14-10-0460-02.

Sheet t009-eng
A1: Table 9 – Labour force characteristics by province and economic region,{1} three-month moving average ending in September 2024 and September 2025, unadjusted for seasonality
A2: 주별 및 경제적 지역별 노동력 특성, 3개월 이동평균, 2024.09.말과 2025.09.말, 원계열
B4: Population | C4: Labour force | D4: Employment | E4: Unemployment | F4: Participation rate | G4: Unemployment rate | H4: Employment rate
B5: thousands | C5: thousands | D5: thousands | E5: thousands | F5: % | G5: % | H5: %
B6: 인구, 천명 | C6: 경제활동인구, 천명 | D6: 취업인구, 천명 | E6: 실업인구, 천명 | F6: 경제활동참가율, % | G6: 실업률, % | H6: 고용률, %
A7: Canada
A8: 2024 | B8: 33994.9 | C8: 22389.9 | D8: 20882.3 | E8: 1507.5 | F8: 65.9 | G8: 6.7 | H8: 61.4
A9: 2025 | B9: 34643.7 | C9: 22768.4 | D9: 21110.8 | E9: 1657.5 | F9: 65.7 | G9: 7.3 | H9: 60.9
A10: Newfoundland and Labrador
A11: 2024 | B11: 467.8 | C11: 278.7 | D11: 254.5 | E11: 24.2 | F11: 59.6 | G11: 8.7 | H11: 54.4
A12: 2025 | B12: 471.6 | C12: 277.4 | D12: 252.3 | E12: 25.1 | F12: 58.8 | G12: 9 | H12: 53.5
A13: Avalon Peninsula
A14: 2024 | B14: 256.8 | C14: 159 | D14: 148.3 | E14: 10.7 | F14: 61.9 | G14: 6.7 | H14: 57.7
A15: 2025 | B15: 260.9 | C15: 163.8 | D15: 151.5 | E15: 12.4 | F15: 62.8 | G15: 7.6 | H15: 58.1
A16: South Coast–Burin Peninsula and Notre Dame–Central–Bonavista Bay
A17: 2024 | B17: 123 | C17: 64.2 | D17: 56.7 | E17: 7.5 | F17: 52.2 | G17: 11.7 | H17: 46.1
A18: 2025 | B18: 122.6 | C18: 61.8 | D18: 54.6 | E18: 7.3 | F18: 50.4 | G18: 11.8 | H18: 44.5
A19: West Coast–Northern Peninsula–Labrador
A20: 2024 | B20: 88 | C20: 55.5 | D20: 49.5 | E20: 5.9 | F20: 63.1 | G20: 10.6 | H20: 56.3
A21: 2025 | B21: 88.1 | C21: 51.7 | D21: 46.3 | E21: 5.5 | F21: 58.7 | G21: 10.6 | H21: 52.6
A22: Prince Edward Island
A23: 2024 | B23: 151.9 | C23: 103.5 | D23: 96.7 | E23: 6.8 | F23: 68.1 | G23: 6.6 | H23: 63.7
A24: 2025 | B24: 154.5 | C24: 105.2 | D24: 97.6 | E24: 7.6 | F24: 68.1 | G24: 7.2 | H24: 63.2
A25: Nova Scotia
A26: 2024 | B26: 906 | C26: 560.6 | D26: 522.7 | E26: 37.9 | F26: 61.9 | G26: 6.8 | H26: 57.7
A27: 2025 | B27: 914.5 | C27: 565.3 | D27: 527.3 | E27: 38 | F27: 61.8 | G27: 6.7 | H27: 57.7
A28: Cape Breton
A29: 2024 | B29: 120.9 | C29: 66.6 | D29: 60.8 | E29: 5.8 | F29: 55.1 | G29: 8.7 | H29: 50.3
A30: 2025 | B30: 120.2 | C30: 64.4 | D30: 58.4 | E30: 5.9 | F30: 53.6 | G30: 9.2 | H30: 48.6
A31: North Shore
A32: 2024 | B32: 137.6 | C32: 77.1 | D32: 72.4 | E32: 4.7 | F32: 56 | G32: 6.1 | H32: 52.6
A33: 2025 | B33: 138.1 | C33: 77.8 | D33: 71.6 | E33: 6.1 | F33: 56.3 | G33: 7.8 | H33: 51.8
A34: Annapolis Valley
A35: 2024 | B35: 113 | C35: 67.9 | D35: 63 | E35: 4.8 | F35: 60.1 | G35: 7.1 | H35: 55.8
A36: 2025 | B36: 113.7 | C36: 64.2 | D36: 60.7 | E36: 3.6 | F36: 56.5 | G36: 5.6 | H36: 53.4
A37: Southern
A38: 2024 | B38: 105.5 | C38: 54.3 | D38: 48.5 | E38: 5.9 | F38: 51.5 | G38: 10.9 | H38: 46
A39: 2025 | B39: 105.5 | C39: 57.1 | D39: 53.2 | E39: 4 | F39: 54.1 | G39: 7 | H39: 50.4
A40: Halifax
A41: 2024 | B41: 429 | C41: 294.7 | D41: 277.9 | E41: 16.8 | F41: 68.7 | G41: 5.7 | H41: 64.8
...

Sheet t010-eng
A1: Table 10 – Labour force characteristics by territory, three-month moving average, seasonally adjusted
A2: 준주별 노동력 특성, 3개월 이동평균, 계절조정계열
C4: August 2025 | D4: September 2025 | E4: Standard error{1} | F4: August to September 2025 | G4: September 2024 to September 2025 | H4: August to September 2025 | I4: September 2024 to September 2025
C5: thousands (except rates) | D5: thousands (except rates) | E5: thousands (except rates) | F5: change in thousands (except rates) | G5: change in thousands (except rates) | H5: % change | I5: % change
C6: 천명; 비율 제외 | D6: 천명; 비율 제외 | E6: 표준오차, 천명; 비율 제외 | F6: 전월대비 변화, 천명; 비율 제외 | G6: 전년동월대비 변화, 천명; 비율 제외 | H6: 전월대비 백분율 변화 | I6: 전년동월대비 백분율 변화
A7: Yukon
A8: Population | B8: =VLOOKUP(A8,'t008-eng'!A:B,2,0) -> 인구 | C8: 37.2 | D8: 37.3 | E8: ... | F8: 0.1 | G8: 0.8 | H8: 0.3 | I8: 2.2
A9: Labour force | B9: =VLOOKUP(A9,'t008-eng'!A:B,2,0) -> 경제활동인구 | C9: 28.4 | D9: 28.5 | E9: 0.2 | F9: 0.1 | G9: 0.3 | H9: 0.4 | I9: 1.1
A10: Employment | B10: =VLOOKUP(A10,'t008-eng'!A:B,2,0) -> 취업인구 | C10: 27.2 | D10: 27.3 | E10: 0.2 | F10: 0.1 | G10: 0.8 | H10: 0.4 | I10: 3
A11: Unemployment | B11: =VLOOKUP(A11,'t008-eng'!A:B,2,0) -> 실업인구 | C11: 1.2 | D11: 1.2 | E11: 0.1 | F11: 0 | G11: -0.5 | H11: 0 | I11: -29.4
A12: Participation rate | B12: =VLOOKUP(A12,'t008-eng'!A:B,2,0) -> 경제활동참가율 | C12: 76.3 | D12: 76.4 | E12: 0.6 | F12: 0.1 | G12: -0.9 | H12: ... | I12: ...
A13: Unemployment rate | B13: =VLOOKUP(A13,'t008-eng'!A:B,2,0) -> 실업률 | C13: 4.2 | D13: 4.2 | E13: 0.5 | F13: 0 | G13: -1.8 | H13: ... | I13: ...
A14: Employment rate | B14: =VLOOKUP(A14,'t008-eng'!A:B,2,0) -> 고용률 | C14: 73.1 | D14: 73.2 | E14: 0.6 | F14: 0.1 | G14: 0.6 | H14: ... | I14: ...
A15: Northwest Territories
A16: Population | B16: =VLOOKUP(A16,'t008-eng'!A:B,2,0) -> 인구 | C16: 35.3 | D16: 35.3 | E16: ... | F16: 0 | G16: 0.8 | H16: 0 | I16: 2.3
A17: Labour force | B17: =VLOOKUP(A17,'t008-eng'!A:B,2,0) -> 경제활동인구 | C17: 24 | D17: 24.1 | E17: 0.3 | F17: 0.1 | G17: -0.6 | H17: 0.4 | I17: -2.4
A18: Employment | B18: =VLOOKUP(A18,'t008-eng'!A:B,2,0) -> 취업인구 | C18: 22.7 | D18: 22.6 | E18: 0.3 | F18: -0.1 | G18: -0.8 | H18: -0.4 | I18: -3.4
A19: Unemployment | B19: =VLOOKUP(A19,'t008-eng'!A:B,2,0) -> 실업인구 | C19: 1.3 | D19: 1.5 | E19: 0.2 | F19: 0.2 | G19: 0.2 | H19: 15.4 | I19: 15.4
A20: Participation rate | B20: =VLOOKUP(A20,'t008-eng'!A:B,2,0) -> 경제활동참가율 | C20: 68 | D20: 68.3 | E20: 0.8 | F20: 0.3 | G20: -3.3 | H20: ... | I20: ...
A21: Unemployment rate | B21: =VLOOKUP(A21,'t008-eng'!A:B,2,0) -> 실업률 | C21: 5.4 | D21: 6.2 | E21: 0.6 | F21: 0.8 | G21: 0.9 | H21: ... | I21: ...
A22: Employment rate | B22: =VLOOKUP(A22,'t008-eng'!A:B,2,0) -> 고용률 | C22: 64.3 | D22: 64 | E22: 0.7 | F22: -0.3 | G22: -3.8 | H22: ... | I22: ...
A23: Nunavut
A24: Population | B24: =VLOOKUP(A24,'t008-eng'!A:B,2,0) -> 인구 | C24: 27 | D24: 27.1 | E24: ... | F24: 0.1 | G24: 0.6 | H24: 0.4 | I24: 2.3
A25: Labour force | B25: =VLOOKUP(A25,'t008-eng'!A:B,2,0) -> 경제활동인구 | C25: 15.9 | D25: 16.1 | E25: 0.2 | F25: 0.2 | G25: 0.4 | H25: 1.3 | I25: 2.5
A26: Employment | B26: =VLOOKUP(A26,'t008-eng'!A:B,2,0) -> 취업인구 | C26: 14.4 | D26: 14.7 | E26: 0.2 | F26: 0.3 | G26: 0.5 | H26: 2.1 | I26: 3.5
A27: Unemployment | B27: =VLOOKUP(A27,'t008-eng'!A:B,2,0) -> 실업인구 | C27: 1.6 | D27: 1.4 | E27: 0.1 | F27: -0.2 | G27: -0.1 | H27: -12.5 | I27: -6.7
A28: Participation rate | B28: =VLOOKUP(A28,'t008-eng'!A:B,2,0) -> 경제활동참가율 | C28: 58.9 | D28: 59.4 | E28: 0.8 | F28: 0.5 | G28: 0 | H28: ... | I28: ...
A29: Unemployment rate | B29: =VLOOKUP(A29,'t008-eng'!A:B,2,0) -> 실업률 | C29: 9.8 | D29: 8.8 | E29: 0.8 | F29: -1 | G29: -0.7 | H29: ... | I29: ...
A30: Employment rate | B30: =VLOOKUP(A30,'t008-eng'!A:B,2,0) -> 고용률 | C30: 53.1 | D30: 54.2 | E30: 0.7 | F30: 1.1 | G30: 0.4 | H30: ... | I30: ...
A32: ... not applicable
A33: =HLOOKUP(A32,'t008-eng'!A32:A33,2,0) -> 결측치.
A35: 1. Average standard error of change between two consecutive months. See the "Data Quality" section of the Guide to the Labour Force Survey (71-543-G) for more information.
A36: =HLOOKUP(A35,'t002-eng'!$33:$34,2,0) -> 연속 두 달간 변화의 평균 표준 오차입니다. 자세한 정보는 the Labour Force Survey의 안내서 "Data Quality"를 참고하십시오.
A38: Source(s):
A39: Table 14-10-0292-02.

Sheet t011-eng
A1: Table 11 – Average usual hours and wages of employees by selected characteristics, unadjusted for seasonality
A2: 특정 특성별 평균 근로시간 및 근로임금, 원계열
C4: Employees | G4: Full-time | J4: Part-time
C5: Number | D5: Average weekly hours | E5: Average weekly wages | F5: Average hourly wages | G5: Number | H5: Average weekly hours | I5: Average weekly wages | J5: Number | K5: Average weekly hours | L5: Average weekly wages
C6: thousands | E6: current dollars | F6: current dollars | G6: thousands | I6: current dollars | J6: thousands | L6: current dollars
C7: 근로자 | G7: 전일제 근로자 | J7: 파트타임 근로자
C8: 천명 | D8: 평균 주당 근로시간 | E8: 평균 주당 임금, 경상 달러 | F8: 평균 시간당 임금, 경상 달러 | G8: 천명 | H8: 평균 주당 근로시간 | I8: 평균 주당 임금, 경상 달러 | J8: 천명 | K8: 평균 주당 근로시간 | L8: 평균 주당 임금, 경상 달러
A9: 45901
A10: 15 years and over | B10: 15세 이상 | C10: 18346.5 | D10: 35.5 | E10: 1346.97 | F10: 36.78 | G10: 15309.4 | H10: 39.2 | I10: 1526.5 | J10: 3037.2 | K10: 16.8 | L10: 442.02
A11: 15 to 24 years | B11: 15 - 24세 | C11: 2507.9 | D11: 26.4 | E11: 616.2 | F11: 21.86 | G11: 1201.5 | H11: 39 | I11: 979.81 | J11: 1306.5 | K11: 14.8 | L11: 281.81
A12: 25 years and over | B12: 25세 이상 | C12: 15838.6 | D12: 36.9 | E12: 1462.69 | F12: 39.14 | G12: 14107.9 | H12: 39.2 | I12: 1573.06 | J12: 1730.7 | K12: 18.3 | L12: 562.97
A13: Men+{1} | B13: 남성 | C13: 9443.2 | D13: 37.4 | E13: 1493.45 | F13: 38.94 | G13: 8359 | H13: 40.1 | I13: 1633.15 | J13: 1084.2 | K13: 16.5 | L13: 416.4
A14: Women+{1} | B14: 여성 | C14: 8903.3 | D14: 33.4 | E14: 1191.61 | F14: 34.49 | G14: 6950.3 | H14: 38 | I14: 1398.24 | J14: 1952.9 | K14: 17 | L14: 456.25
A15: Union coverage | B15: 노조 포함 여부
A16: Union coverage | B16: 노조 포함 | C16: 5648.3 | D16: 36.1 | E16: 1428.23 | F16: 39.29 | G16: 4937 | H16: 38.7 | I16: 1544.71 | J16: 711.3 | K16: 17.8 | L16: 619.83
A17: No union coverage | B17: 노조 미포함 | C17: 12698.2 | D17: 35.2 | E17: 1310.83 | F17: 35.66 | G17: 10372.3 | H17: 39.4 | I17: 1517.83 | J17: 2325.8 | K17: 16.5 | L17: 387.65
A18: Job permanency | B18: 상용 근로 여부
A19: Permanent employees | B19: 상용 근로자 | C19: 16127 | D19: 36.5 | E19: 1414.27 | F19: 37.87 | G19: 14065.2 | H19: 39.2 | I19: 1552.36 | J19: 2061.8 | K19: 17.8 | L19: 472.26
A20: Temporary employees | B20: 임시 근로자 | C20: 2219.5 | D20: 28.4 | E20: 857.99 | F20: 28.88 | G20: 1244.2 | H20: 39.1 | I20: 1234.17 | J20: 975.3 | K20: 14.7 | L20: 378.11
A21: Occupation | B21: 직업
A22: Management occupations | B22: 관리직 | C22: 1447.2 | D22: 39.2 | E22: 2348.1 | F22: 60.1 | G22: 1414.6 | H22: 39.7 | I22: 2381.42 | J22: 32.5 | K22: 17.1 | L22: 899.57
A23: Business, finance and administration occupations, except management | B23: 사업, 금융 및 행정직; 관리직 제외 | C23: 3077.6 | D23: 35.8 | E23: 1310.3 | F23: 36.13 | G23: 2723 | H23: 38.2 | I23: 1416.6 | J23: 354.6 | K23: 17.4 | L23: 494.05
A24: Natural and applied sciences and related occupations, except management | B24: 자연, 응용 과학 및 관련직; 관리직 제외 | C24: 1811 | D24: 38.2 | E24: 1878.43 | F24: 49.13 | G24: 1742.4 | H24: 38.9 | I24: 1924.19 | J24: 68.7 | K24: 18.4 | L24: 717.36
A25: Health occupations, except management | B25: 보건직; 관리직 제외 | C25: 1448.9 | D25: 35.1 | E25: 1360.25 | F25: 38.72 | G25: 1186.8 | H25: 38.6 | I25: 1494.37 | J25: 262 | K25: 19.5 | L25: 752.83
A26: Occupations in education, law and social, community and government services, except management | B26: 교육, 법률, 사회, 지역사회 및 정부 서비스직; 관리직 제외 | C26: 2296 | D26: 34 | E26: 1463.77 | F26: 42.35 | G26: 1910.4 | H26: 37.7 | I26: 1639.99 | J26: 385.7 | K26: 15.7 | L26: 590.86
A27: Occupations in art, culture, recreation and sport, except management | B27: 예술, 문화, 여가 및 운동 직종; 관리직 제외 | C27: 382.9 | D27: 28.1 | E27: 1026.37 | F27: 32.85 | G27: 230.2 | H27: 38.9 | I27: 1501.01 | J27: 152.7 | K27: 11.9 | L27: 310.87
A28: Sales and service occupations, except management | B28: 판매 및 서비스직; 관리직 제외 | C28: 4073.9 | D28: 30.3 | E28: 767.07 | F28: 23.9 | G28: 2565.9 | H28: 38.3 | I28: 1026.18 | J28: 1508 | K28: 16.7 | L28: 326.17
A29: Trades, transport and equipment operators and related occupations, except management | B29: 무역, 운송, 장비 운영자 및 관련직; 관리직 제외 | C29: 2711.8 | D29: 39.8 | E29: 1353.86 | F29: 33.62 | G29: 2512.1 | H29: 41.5 | I29: 1423.35 | J29: 199.7 | K29: 17.9 | L29: 479.63
A30: Natural resources, agriculture and related production occupations, except management | B30: 천연자원, 농업 및 관련 생산 직종; 관리직 제외 | C30: 296.3 | D30: 41.9 | E30: 1388.03 | F30: 31.4 | G30: 258.7 | H30: 45.7 | I30: 1541.27 | J30: 37.6 | K30: 15.8 | L30: 333.92
A31: Occupations in manufacturing and utilities, except management | B31: 제조 및 유틸리티업 직종; 관리직 제외 | C31: 801 | D31: 39.2 | E31: 1182.89 | F31: 29.78 | G31: 765.4 | H31: 40.1 | I31: 1217.16 | J31: 35.7 | K31: 19.6 | L31: 447.41
A33: 45536
A34: 15 years and over | B34: =VLOOKUP(A34,$A$10:$B$31,2,0) -> 15세 이상 | C34: 18153.5 | D34: 35.5 | E34: 1306.72 | F34: 35.61 | G34: 15082.1 | H34: 39.2 | I34: 1486.15 | J34: 3071.4 | K34: 16.8 | L34: 425.65
A35: 15 to 24 years | B35: =VLOOKUP(A35,$A$10:$B$31,2,0) -> 15 - 24세 | C35: 2523.8 | D35: 26.1 | E35: 600.62 | F35: 21.55 | G35: 1205.8 | H35: 38.7 | I35: 960.19 | J35: 1318 | K35: 14.6 | L35: 271.67
A36: 25 years and over | B36: =VLOOKUP(A36,$A$10:$B$31,2,0) -> 25세 이상 | C36: 15629.7 | D36: 37 | E36: 1420.73 | F36: 37.88 | G36: 13876.3 | H36: 39.3 | I36: 1531.85 | J36: 1753.4 | K36: 18.5 | L36: 541.4
A37: Men+{1} | B37: =VLOOKUP(A37,$A$10:$B$31,2,0) -> 남성 | C37: 9319 | D37: 37.4 | E37: 1453.95 | F37: 37.9 | G37: 8196.1 | H37: 40.3 | I37: 1596.95 | J37: 1122.9 | K37: 16.6 | L37: 410.13
A38: Women+{1} | B38: =VLOOKUP(A38,$A$10:$B$31,2,0) -> 여성 | C38: 8834.4 | D38: 33.4 | E38: 1151.42 | F38: 33.2 | G38: 6886 | H38: 38 | I38: 1354.25 | J38: 1948.5 | K38: 17 | L38: 434.6
A39: Union coverage | B39: =VLOOKUP(A39,$A$10:$B$31,2,0) -> 노조 포함 여부
A40: Union coverage | B40: =VLOOKUP(A40,$A$10:$B$31,2,0) -> 노조 포함 여부 | C40: 5578.9 | D40: 36.1 | E40: 1377.25 | F40: 37.7 | G40: 4878.4 | H40: 38.7 | I40: 1490.07 | J40: 700.5 | K40: 18.5 | L40: 591.49
A41: No union coverage | B41: =VLOOKUP(A41,$A$10:$B$31,2,0) -> 노조 미포함 | C41: 12574.6 | D41: 35.2 | E41: 1275.43 | F41: 34.69 | G41: 10203.7 | H41: 39.5 | I41: 1484.27 | J41: 2371 | K41: 16.3 | L41: 376.66
A42: Job permanency | B42: =VLOOKUP(A42,$A$10:$B$31,2,0) -> 상용 근로 여부
...

Sheet t012-eng
A1: Table 12 – Regional unemployment rates used by the Employment Insurance program,{1}, three-month moving average, seasonally adjusted
A2: 고용보험 프로그램에서 사용되는 지역 실업률, 3개월 이동평균, 계절조정계열
B4: October 12, 2025 to November 8, 2025
B5: %
A6: Newfoundland and Labrador
A7: St. John's | B7: 6.9
A8: Newfoundland and Labrador{2} | B8: 14
A10: Prince Edward Island{3}
A11: Charlottetown | B11: 6.7
A12: Prince Edward Island{4} | B12: 11
A14: Nova Scotia
A15: Eastern Nova Scotia | B15: 9.4
A16: Western Nova Scotia | B16: 6.4
A17: Halifax | B17: 5.8
A19: New Brunswick
A20: Fredericton–Moncton–Saint John | B20: 6.9
A21: Madawaska–Charlotte | B21: 6.1
A22: Restigouche–Albert | B22: 11.2
A24: Quebec
A25: Gaspésie–Îles-de-la-Madeleine | B25: 7.7
A26: Québec | B26: 4.9
A27: Trois-Rivières | B27: 5
A28: South Central Quebec | B28: 3
A29: Sherbrooke | B29: 5.2
A30: Montérégie | B30: 4.2
A31: Montréal | B31: 6.7
A32: Central Quebec | B32: 5
A33: North Western Quebec | B33: 6.2
A34: Lower Saint Lawrence and North Shore | B34: 5.5
A35: Hull | B35: 6.9
A36: Chicoutimi–Jonquière | B36: 4.3
A38: Ontario
A39: Ottawa | B39: 7.1
A40: Eastern Ontario | B40: 5.6
A41: Kingston | B41: 6.1
A42: Central Ontario | B42: 6.8
A43: Oshawa | B43: 8.8
A44: Toronto | B44: 9
A45: Hamilton | B45: 7.2
A46: St. Catharines | B46: 7.2
...

Sheet 출처
B2: Labour Force Survey
B3: 자료 원본: | C3: https://www150.statcan.gc.ca/n1/daily-quotidien/251010/dq251010a-eng.htm
